Workbook

Sheet DATA
A1: NPWP Pemotong | C1: 0410414049526000
B2: KOSONGI | D2: NIK PENERIMA | E2: KOSONGI | F2: ABAIKAN | G2: ABAIKAN | H2: MOHON MELIHAT KOLOM REF | I2: OTOMATIS | J2: BRUTO | K2: ABAIKAN | L2: ABAIKAN | M2: ABAIKAN | N2: UNIT PEMOHON | O2: TANGGAL SPJ | P2: ABAIKAN | Q2: ABAIKAN | S2: ABAIKAN | T2: ABAIKAN | U2: ABAIKAN | V2: ABAIKAN | W2: ABAIKAN | X2: ABAIKAN | Y2: ABAIKAN | Z2: ABAIKAN
B3: Masa Pajak | C3: Tahun Pajak | D3: NIK | E3: ID TKU Penerima Penghasilan | F3: Status PTKP | G3: Fasilitas | H3: Kode Objek Pajak | I3: Nama Objek Pajak | J3: Penghasilan | K3: Deemed | L3: Tarif | M3: Jenis Dok. Referensi | N3: Nomor Dok. Referensi | O3: Tanggal Dok. Referensi | P3: ID TKU Pemotong | Q3: Tanggal Pemotongan | R3: PAJAK | T3: TER A | U3: TER B | V3: TER C | W3: PS17 | X3: HARIAN | Y3: PESANGON | Z3: PENSIUN
C4: 2025 | D4: 3501042702030002 | F4: TK/0 | G4: N/A | I4: =IF(Table1[[#This Row],[Kode Objek Pajak]]<>"",VLOOKUP(Table1[[#This Row],[Kode Objek Pajak]],REF!$A$1:$B$33,2,FALSE),"") | K4: =VLOOKUP(H4,REF!$A$2:$D$33,3,0) -> #N/A | L4: =IF(S4="TER",IF(OR(F4="TK/0",F4="TK/1",F4="K/0",F4="HB/0",F4="HB/1"),T4,IF(OR(F4="TK/2",F4="TK/3",F4="K/1",F4="K/2",F4="HB/2",F4="HB/3"),U4,V4)),IF(S4="PS17",W4,IF(S4="HARIAN",X4,IF(S4="PESANGON",Y4,IF(S4="PENSIUN",Z4,S4))))) -> #N/A | M4: Other | P4: 0410414049526000000000 | R4: =5/100*Table1[[#This Row],[Penghasilan]] -> 0 | S4: =VLOOKUP(H4,REF!$A$2:$D$43,4,0) -> #N/A | T4: =IF(J4<=5400000,0,IF(AND(J4>5400001,J4<=5650000),0.25,IF(AND(J4>5650001,J4<=5950000),0.5,IF(AND(J4>5950001,J4<=6300000),0.75,IF(AND(J4>6300001,J4<=6750000),1,IF(AND(J4>6750001,J4<=7500000),1.25,IF(AND(J4>7500001,J4<=8550000),1.5,IF(AND(J4>8550001,J4<=9650000),1.75,IF(AND(J4>9650001,J4<=10050000),2,IF(AND(J4>10050001,J4<=10350000),2.25,IF(AND(J4>10350001,J4<=10700000),2.5,IF(AND(J4>10700001,J4<=11050000),3,IF(AND(J4>11050001,J4<=11600000),3.5,IF(AND(J4>11600001,J4<=12500000),4,IF(AND(J4>12500001,J4<=13750000),5,IF(AND(J4>13750001,J4<=15100000),6,IF(AND(J4>15100001,J4<=16950000),7,IF(AND(J4>16950001,J4<=19750000),8,IF(AND(J4>19750001,J4<=24150000),9,IF(AND(J4>24150001,J4<=26450000),10,IF(AND(J4>26450001,J4<=28000000),11,IF(AND(J4>28000001,J4<=30050000),12,IF(AND(J4>30050001,J4<=32400000),13,IF(AND(J4>32400001,J4<=35400000),14,IF(AND(J4>35400001,J4<=39100000),15,IF(AND(J4>39100001,J4<=43850000),16,IF(AND(J4>43850001,J4<=47800000),17,IF(AND(J4>47800001,J4<=51400000),18,IF(AND(J4>51400001,J4<=56300000),19,IF(AND(J4>56300001,J4<=62200000),20,IF(AND(J4>62200001,J4<=68600000),21,IF(AND(J4>68600001,J4<=77500000),22,IF(AND(J4>77500001,J4<=89000000),23,IF(AND(J4>89000001,J4<=103000000),24,IF(AND(J4>103000001,J4<=125000000),25,IF(AND(J4>125000001,J4<=157000000),26,IF(AND(J4>157000001,J4<=206000000),27,IF(AND(J4>206000001,J4<=337000000),28,IF(AND(J4>337000001,J4<=454000000),29,IF(AND(J4>454000001,J4<=550000000),30,IF(AND(J4>550000001,J4<=695000000),31,IF(AND(J4>695000001,J4<=910000000),32,IF(AND(J4>910000001,J4<=1400000000),33,34))))))))))))))))))))))))))))))))))))))))))) -> 0 | U4: =IF(J4<=6200000,0,IF(AND(J4>6200001,J4<=6500000),0.25,IF(AND(J4>6500001,J4<=6850000),0.5,IF(AND(J4>6850001,J4<=7300000),0.75,IF(AND(J4>7300001,J4<=9200000),1,IF(AND(J4>9200001,J4<=10750000),1.5,IF(AND(J4>10750001,J4<=11250000),2,IF(AND(J4>11250001,J4<=11600000),2.5,IF(AND(J4>11600001,J4<=12600000),3,IF(AND(J4>12600001,J4<=13600000),4,IF(AND(J4>13600001,J4<=14950000),5,IF(AND(J4>14950001,J4<=16400000),6,IF(AND(J4>16400001,J4<=18450000),7,IF(AND(J4>18450001,J4<=21850000),8,IF(AND(J4>21850001,J4<=26000000),9,IF(AND(J4>26000001,J4<=27700000),10,IF(AND(J4>27700001,J4<=29350000),11,IF(AND(J4>29350001,J4<=31450000),12,IF(AND(J4>31450001,J4<=33950000),13,IF(AND(J4>33950001,J4<=37100000),14,IF(AND(J4>37100001,J4<=41100000),15,IF(AND(J4>41100001,J4<=45800000),16,IF(AND(J4>45800001,J4<=49500000),17,IF(AND(J4>49500001,J4<=53800000),18,IF(AND(J4>53800001,J4<=58500000),19,IF(AND(J4>58500001,J4<=64000000),20,IF(AND(J4>64000001,J4<=71000000),21,IF(AND(J4>71000001,J4<=80000000),22,IF(AND(J4>80000001,J4<=93000000),23,IF(AND(J4>93000001,J4<=109000000),24,IF(AND(J4>109000001,J4<=129000000),25,IF(AND(J4>129000001,J4<=163000000),26,IF(AND(J4>163000001,J4<=211000000),27,IF(AND(J4>211000001,J4<=374000000),28,IF(AND(J4>374000001,J4<=459000000),29,IF(AND(J4>459000001,J4<=555000000),30,IF(AND(J4>555000001,J4<=704000000),31,IF(AND(J4>704000001,J4<=957000000),32,IF(AND(J4>957000001,J4<=1405000000),33,34))))))))))))))))))))))))))))))))))))))) -> 0 | V4: =IF(J4<=6600000,0,IF(AND(J4>6600001,J4<=6950000),0.25,IF(AND(J4>6950001,J4<=7350000),0.5,IF(AND(J4>7350001,J4<=7800000),0.75,IF(AND(J4>7800001,J4<=8850000),1,IF(AND(J4>8850001,J4<=9800000),1.25,IF(AND(J4>9800001,J4<=10950000),1.5,IF(AND(J4>10950001,J4<=11200000),1.75,IF(AND(J4>11200001,J4<=12050000),2,IF(AND(J4>12050001,J4<=12950000),3,IF(AND(J4>12950001,J4<=14150000),4,IF(AND(J4>14150001,J4<=15550000),5,IF(AND(J4>15550001,J4<=17050000),6,IF(AND(J4>17050001,J4<=19500000),7,IF(AND(J4>19500001,J4<=22700000),8,IF(AND(J4>22700001,J4<=26600000),9,IF(AND(J4>26600001,J4<=28100000),10,IF(AND(J4>28100001,J4<=30100000),11,IF(AND(J4>30100001,J4<=32600000),12,IF(AND(J4>32600001,J4<=35400000),13,IF(AND(J4>35400001,J4<=38900000),14,IF(AND(J4>38900001,J4<=43000000),15,IF(AND(J4>43000001,J4<=47400000),16,IF(AND(J4>47400001,J4<=51200000),17,IF(AND(J4>51200001,J4<=55800000),18,IF(AND(J4>55800001,J4<=60400000),19,IF(AND(J4>60400001,J4<=66700000),20,IF(AND(J4>66700001,J4<=74500000),21,IF(AND(J4>74500001,J4<=83200000),22,IF(AND(J4>83200001,J4<=95600000),23,IF(AND(J4>95600001,J4<=110000000),24,IF(AND(J4>110000001,J4<=134000000),25,IF(AND(J4>134000001,J4<=169000000),26,IF(AND(J4>169000001,J4<=221000000),27,IF(AND(J4>221000001,J4<=390000000),28,IF(AND(J4>390000001,J4<=463000000),29,IF(AND(J4>463000001,J4<=561000000),30,IF(AND(J4>561000001,J4<=709000000),31,IF(AND(J4>709000001,J4<=965000000),32,IF(AND(J4>965000001,J4<=1419000000),33,34)))))))))))))))))))))))))))))))))))))))) -> 0 | W4: =IF(J4<=60000000,5,IF(AND(J4>60000000,J4<=250000000),15,IF(AND(J4>250000000,J4<=500000000),25,IF(AND(J4>500000000,J4<=5000000000),30,35)))) -> 5 | X4: =IF(J4<=450000,0,IF(AND(J4>450000,J4<=2500000),0.5,0)) -> 0 | Y4: =IF(J4<=50000000,0,IF(AND(J4>50000000,J4<=100000000),5,IF(AND(J4>100000000,J4<=500000000),15,25))) -> 0 | Z4: =IF(J4<=50000000,0,5) -> 0
C5: 2025 | D5: 3373020609030002 | F5: TK/0 | G5: N/A | I5: =IF(Table1[[#This Row],[Kode Objek Pajak]]<>"",VLOOKUP(Table1[[#This Row],[Kode Objek Pajak]],REF!$A$1:$B$33,2,FALSE),"") | K5: =VLOOKUP(H5,REF!$A$2:$D$33,3,0) -> #N/A | L5: =IF(S5="TER",IF(OR(F5="TK/0",F5="TK/1",F5="K/0",F5="HB/0",F5="HB/1"),T5,IF(OR(F5="TK/2",F5="TK/3",F5="K/1",F5="K/2",F5="HB/2",F5="HB/3"),U5,V5)),IF(S5="PS17",W5,IF(S5="HARIAN",X5,IF(S5="PESANGON",Y5,IF(S5="PENSIUN",Z5,S5))))) -> #N/A | M5: Other | P5: 0410414049526000000000 | R5: =5/100*Table1[[#This Row],[Penghasilan]] -> 0 | S5: =VLOOKUP(H5,REF!$A$2:$D$43,4,0) -> #N/A | T5: =IF(J5<=5400000,0,IF(AND(J5>5400001,J5<=5650000),0.25,IF(AND(J5>5650001,J5<=5950000),0.5,IF(AND(J5>5950001,J5<=6300000),0.75,IF(AND(J5>6300001,J5<=6750000),1,IF(AND(J5>6750001,J5<=7500000),1.25,IF(AND(J5>7500001,J5<=8550000),1.5,IF(AND(J5>8550001,J5<=9650000),1.75,IF(AND(J5>9650001,J5<=10050000),2,IF(AND(J5>10050001,J5<=10350000),2.25,IF(AND(J5>10350001,J5<=10700000),2.5,IF(AND(J5>10700001,J5<=11050000),3,IF(AND(J5>11050001,J5<=11600000),3.5,IF(AND(J5>11600001,J5<=12500000),4,IF(AND(J5>12500001,J5<=13750000),5,IF(AND(J5>13750001,J5<=15100000),6,IF(AND(J5>15100001,J5<=16950000),7,IF(AND(J5>16950001,J5<=19750000),8,IF(AND(J5>19750001,J5<=24150000),9,IF(AND(J5>24150001,J5<=26450000),10,IF(AND(J5>26450001,J5<=28000000),11,IF(AND(J5>28000001,J5<=30050000),12,IF(AND(J5>30050001,J5<=32400000),13,IF(AND(J5>32400001,J5<=35400000),14,IF(AND(J5>35400001,J5<=39100000),15,IF(AND(J5>39100001,J5<=43850000),16,IF(AND(J5>43850001,J5<=47800000),17,IF(AND(J5>47800001,J5<=51400000),18,IF(AND(J5>51400001,J5<=56300000),19,IF(AND(J5>56300001,J5<=62200000),20,IF(AND(J5>62200001,J5<=68600000),21,IF(AND(J5>68600001,J5<=77500000),22,IF(AND(J5>77500001,J5<=89000000),23,IF(AND(J5>89000001,J5<=103000000),24,IF(AND(J5>103000001,J5<=125000000),25,IF(AND(J5>125000001,J5<=157000000),26,IF(AND(J5>157000001,J5<=206000000),27,IF(AND(J5>206000001,J5<=337000000),28,IF(AND(J5>337000001,J5<=454000000),29,IF(AND(J5>454000001,J5<=550000000),30,IF(AND(J5>550000001,J5<=695000000),31,IF(AND(J5>695000001,J5<=910000000),32,IF(AND(J5>910000001,J5<=1400000000),33,34))))))))))))))))))))))))))))))))))))))))))) -> 0 | U5: =IF(J5<=6200000,0,IF(AND(J5>6200001,J5<=6500000),0.25,IF(AND(J5>6500001,J5<=6850000),0.5,IF(AND(J5>6850001,J5<=7300000),0.75,IF(AND(J5>7300001,J5<=9200000),1,IF(AND(J5>9200001,J5<=10750000),1.5,IF(AND(J5>10750001,J5<=11250000),2,IF(AND(J5>11250001,J5<=11600000),2.5,IF(AND(J5>11600001,J5<=12600000),3,IF(AND(J5>12600001,J5<=13600000),4,IF(AND(J5>13600001,J5<=14950000),5,IF(AND(J5>14950001,J5<=16400000),6,IF(AND(J5>16400001,J5<=18450000),7,IF(AND(J5>18450001,J5<=21850000),8,IF(AND(J5>21850001,J5<=26000000),9,IF(AND(J5>26000001,J5<=27700000),10,IF(AND(J5>27700001,J5<=29350000),11,IF(AND(J5>29350001,J5<=31450000),12,IF(AND(J5>31450001,J5<=33950000),13,IF(AND(J5>33950001,J5<=37100000),14,IF(AND(J5>37100001,J5<=41100000),15,IF(AND(J5>41100001,J5<=45800000),16,IF(AND(J5>45800001,J5<=49500000),17,IF(AND(J5>49500001,J5<=53800000),18,IF(AND(J5>53800001,J5<=58500000),19,IF(AND(J5>58500001,J5<=64000000),20,IF(AND(J5>64000001,J5<=71000000),21,IF(AND(J5>71000001,J5<=80000000),22,IF(AND(J5>80000001,J5<=93000000),23,IF(AND(J5>93000001,J5<=109000000),24,IF(AND(J5>109000001,J5<=129000000),25,IF(AND(J5>129000001,J5<=163000000),26,IF(AND(J5>163000001,J5<=211000000),27,IF(AND(J5>211000001,J5<=374000000),28,IF(AND(J5>374000001,J5<=459000000),29,IF(AND(J5>459000001,J5<=555000000),30,IF(AND(J5>555000001,J5<=704000000),31,IF(AND(J5>704000001,J5<=957000000),32,IF(AND(J5>957000001,J5<=1405000000),33,34))))))))))))))))))))))))))))))))))))))) -> 0 | V5: =IF(J5<=6600000,0,IF(AND(J5>6600001,J5<=6950000),0.25,IF(AND(J5>6950001,J5<=7350000),0.5,IF(AND(J5>7350001,J5<=7800000),0.75,IF(AND(J5>7800001,J5<=8850000),1,IF(AND(J5>8850001,J5<=9800000),1.25,IF(AND(J5>9800001,J5<=10950000),1.5,IF(AND(J5>10950001,J5<=11200000),1.75,IF(AND(J5>11200001,J5<=12050000),2,IF(AND(J5>12050001,J5<=12950000),3,IF(AND(J5>12950001,J5<=14150000),4,IF(AND(J5>14150001,J5<=15550000),5,IF(AND(J5>15550001,J5<=17050000),6,IF(AND(J5>17050001,J5<=19500000),7,IF(AND(J5>19500001,J5<=22700000),8,IF(AND(J5>22700001,J5<=26600000),9,IF(AND(J5>26600001,J5<=28100000),10,IF(AND(J5>28100001,J5<=30100000),11,IF(AND(J5>30100001,J5<=32600000),12,IF(AND(J5>32600001,J5<=35400000),13,IF(AND(J5>35400001,J5<=38900000),14,IF(AND(J5>38900001,J5<=43000000),15,IF(AND(J5>43000001,J5<=47400000),16,IF(AND(J5>47400001,J5<=51200000),17,IF(AND(J5>51200001,J5<=55800000),18,IF(AND(J5>55800001,J5<=60400000),19,IF(AND(J5>60400001,J5<=66700000),20,IF(AND(J5>66700001,J5<=74500000),21,IF(AND(J5>74500001,J5<=83200000),22,IF(AND(J5>83200001,J5<=95600000),23,IF(AND(J5>95600001,J5<=110000000),24,IF(AND(J5>110000001,J5<=134000000),25,IF(AND(J5>134000001,J5<=169000000),26,IF(AND(J5>169000001,J5<=221000000),27,IF(AND(J5>221000001,J5<=390000000),28,IF(AND(J5>390000001,J5<=463000000),29,IF(AND(J5>463000001,J5<=561000000),30,IF(AND(J5>561000001,J5<=709000000),31,IF(AND(J5>709000001,J5<=965000000),32,IF(AND(J5>965000001,J5<=1419000000),33,34)))))))))))))))))))))))))))))))))))))))) -> 0 | W5: =IF(J5<=60000000,5,IF(AND(J5>60000000,J5<=250000000),15,IF(AND(J5>250000000,J5<=500000000),25,IF(AND(J5>500000000,J5<=5000000000),30,35)))) -> 5 | X5: =IF(J5<=450000,0,IF(AND(J5>450000,J5<=2500000),0.5,0)) -> 0 | Y5: =IF(J5<=50000000,0,IF(AND(J5>50000000,J5<=100000000),5,IF(AND(J5>100000000,J5<=500000000),15,25))) -> 0 | Z5: =IF(J5<=50000000,0,5) -> 0
C6: 2025 | D6: 3372025210030001 | F6: TK/0 | G6: N/A | I6: =IF(Table1[[#This Row],[Kode Objek Pajak]]<>"",VLOOKUP(Table1[[#This Row],[Kode Objek Pajak]],REF!$A$1:$B$33,2,FALSE),"") | K6: =VLOOKUP(H6,REF!$A$2:$D$33,3,0) -> #N/A | L6: =IF(S6="TER",IF(OR(F6="TK/0",F6="TK/1",F6="K/0",F6="HB/0",F6="HB/1"),T6,IF(OR(F6="TK/2",F6="TK/3",F6="K/1",F6="K/2",F6="HB/2",F6="HB/3"),U6,V6)),IF(S6="PS17",W6,IF(S6="HARIAN",X6,IF(S6="PESANGON",Y6,IF(S6="PENSIUN",Z6,S6))))) -> #N/A | M6: Other | P6: 0410414049526000000000 | R6: =5/100*Table1[[#This Row],[Penghasilan]] -> 0 | S6: =VLOOKUP(H6,REF!$A$2:$D$43,4,0) -> #N/A | T6: =IF(J6<=5400000,0,IF(AND(J6>5400001,J6<=5650000),0.25,IF(AND(J6>5650001,J6<=5950000),0.5,IF(AND(J6>5950001,J6<=6300000),0.75,IF(AND(J6>6300001,J6<=6750000),1,IF(AND(J6>6750001,J6<=7500000),1.25,IF(AND(J6>7500001,J6<=8550000),1.5,IF(AND(J6>8550001,J6<=9650000),1.75,IF(AND(J6>9650001,J6<=10050000),2,IF(AND(J6>10050001,J6<=10350000),2.25,IF(AND(J6>10350001,J6<=10700000),2.5,IF(AND(J6>10700001,J6<=11050000),3,IF(AND(J6>11050001,J6<=11600000),3.5,IF(AND(J6>11600001,J6<=12500000),4,IF(AND(J6>12500001,J6<=13750000),5,IF(AND(J6>13750001,J6<=15100000),6,IF(AND(J6>15100001,J6<=16950000),7,IF(AND(J6>16950001,J6<=19750000),8,IF(AND(J6>19750001,J6<=24150000),9,IF(AND(J6>24150001,J6<=26450000),10,IF(AND(J6>26450001,J6<=28000000),11,IF(AND(J6>28000001,J6<=30050000),12,IF(AND(J6>30050001,J6<=32400000),13,IF(AND(J6>32400001,J6<=35400000),14,IF(AND(J6>35400001,J6<=39100000),15,IF(AND(J6>39100001,J6<=43850000),16,IF(AND(J6>43850001,J6<=47800000),17,IF(AND(J6>47800001,J6<=51400000),18,IF(AND(J6>51400001,J6<=56300000),19,IF(AND(J6>56300001,J6<=62200000),20,IF(AND(J6>62200001,J6<=68600000),21,IF(AND(J6>68600001,J6<=77500000),22,IF(AND(J6>77500001,J6<=89000000),23,IF(AND(J6>89000001,J6<=103000000),24,IF(AND(J6>103000001,J6<=125000000),25,IF(AND(J6>125000001,J6<=157000000),26,IF(AND(J6>157000001,J6<=206000000),27,IF(AND(J6>206000001,J6<=337000000),28,IF(AND(J6>337000001,J6<=454000000),29,IF(AND(J6>454000001,J6<=550000000),30,IF(AND(J6>550000001,J6<=695000000),31,IF(AND(J6>695000001,J6<=910000000),32,IF(AND(J6>910000001,J6<=1400000000),33,34))))))))))))))))))))))))))))))))))))))))))) -> 0 | U6: =IF(J6<=6200000,0,IF(AND(J6>6200001,J6<=6500000),0.25,IF(AND(J6>6500001,J6<=6850000),0.5,IF(AND(J6>6850001,J6<=7300000),0.75,IF(AND(J6>7300001,J6<=9200000),1,IF(AND(J6>9200001,J6<=10750000),1.5,IF(AND(J6>10750001,J6<=11250000),2,IF(AND(J6>11250001,J6<=11600000),2.5,IF(AND(J6>11600001,J6<=12600000),3,IF(AND(J6>12600001,J6<=13600000),4,IF(AND(J6>13600001,J6<=14950000),5,IF(AND(J6>14950001,J6<=16400000),6,IF(AND(J6>16400001,J6<=18450000),7,IF(AND(J6>18450001,J6<=21850000),8,IF(AND(J6>21850001,J6<=26000000),9,IF(AND(J6>26000001,J6<=27700000),10,IF(AND(J6>27700001,J6<=29350000),11,IF(AND(J6>29350001,J6<=31450000),12,IF(AND(J6>31450001,J6<=33950000),13,IF(AND(J6>33950001,J6<=37100000),14,IF(AND(J6>37100001,J6<=41100000),15,IF(AND(J6>41100001,J6<=45800000),16,IF(AND(J6>45800001,J6<=49500000),17,IF(AND(J6>49500001,J6<=53800000),18,IF(AND(J6>53800001,J6<=58500000),19,IF(AND(J6>58500001,J6<=64000000),20,IF(AND(J6>64000001,J6<=71000000),21,IF(AND(J6>71000001,J6<=80000000),22,IF(AND(J6>80000001,J6<=93000000),23,IF(AND(J6>93000001,J6<=109000000),24,IF(AND(J6>109000001,J6<=129000000),25,IF(AND(J6>129000001,J6<=163000000),26,IF(AND(J6>163000001,J6<=211000000),27,IF(AND(J6>211000001,J6<=374000000),28,IF(AND(J6>374000001,J6<=459000000),29,IF(AND(J6>459000001,J6<=555000000),30,IF(AND(J6>555000001,J6<=704000000),31,IF(AND(J6>704000001,J6<=957000000),32,IF(AND(J6>957000001,J6<=1405000000),33,34))))))))))))))))))))))))))))))))))))))) -> 0 | V6: =IF(J6<=6600000,0,IF(AND(J6>6600001,J6<=6950000),0.25,IF(AND(J6>6950001,J6<=7350000),0.5,IF(AND(J6>7350001,J6<=7800000),0.75,IF(AND(J6>7800001,J6<=8850000),1,IF(AND(J6>8850001,J6<=9800000),1.25,IF(AND(J6>9800001,J6<=10950000),1.5,IF(AND(J6>10950001,J6<=11200000),1.75,IF(AND(J6>11200001,J6<=12050000),2,IF(AND(J6>12050001,J6<=12950000),3,IF(AND(J6>12950001,J6<=14150000),4,IF(AND(J6>14150001,J6<=15550000),5,IF(AND(J6>15550001,J6<=17050000),6,IF(AND(J6>17050001,J6<=19500000),7,IF(AND(J6>19500001,J6<=22700000),8,IF(AND(J6>22700001,J6<=26600000),9,IF(AND(J6>26600001,J6<=28100000),10,IF(AND(J6>28100001,J6<=30100000),11,IF(AND(J6>30100001,J6<=32600000),12,IF(AND(J6>32600001,J6<=35400000),13,IF(AND(J6>35400001,J6<=38900000),14,IF(AND(J6>38900001,J6<=43000000),15,IF(AND(J6>43000001,J6<=47400000),16,IF(AND(J6>47400001,J6<=51200000),17,IF(AND(J6>51200001,J6<=55800000),18,IF(AND(J6>55800001,J6<=60400000),19,IF(AND(J6>60400001,J6<=66700000),20,IF(AND(J6>66700001,J6<=74500000),21,IF(AND(J6>74500001,J6<=83200000),22,IF(AND(J6>83200001,J6<=95600000),23,IF(AND(J6>95600001,J6<=110000000),24,IF(AND(J6>110000001,J6<=134000000),25,IF(AND(J6>134000001,J6<=169000000),26,IF(AND(J6>169000001,J6<=221000000),27,IF(AND(J6>221000001,J6<=390000000),28,IF(AND(J6>390000001,J6<=463000000),29,IF(AND(J6>463000001,J6<=561000000),30,IF(AND(J6>561000001,J6<=709000000),31,IF(AND(J6>709000001,J6<=965000000),32,IF(AND(J6>965000001,J6<=1419000000),33,34)))))))))))))))))))))))))))))))))))))))) -> 0 | W6: =IF(J6<=60000000,5,IF(AND(J6>60000000,J6<=250000000),15,IF(AND(J6>250000000,J6<=500000000),25,IF(AND(J6>500000000,J6<=5000000000),30,35)))) -> 5 | X6: =IF(J6<=450000,0,IF(AND(J6>450000,J6<=2500000),0.5,0)) -> 0 | Y6: =IF(J6<=50000000,0,IF(AND(J6>50000000,J6<=100000000),5,IF(AND(J6>100000000,J6<=500000000),15,25))) -> 0 | Z6: =IF(J6<=50000000,0,5) -> 0
C7: 2025 | D7: 3512130103040002 | F7: TK/0 | G7: N/A | I7: =IF(Table1[[#This Row],[Kode Objek Pajak]]<>"",VLOOKUP(Table1[[#This Row],[Kode Objek Pajak]],REF!$A$1:$B$33,2,FALSE),"") | K7: =VLOOKUP(H7,REF!$A$2:$D$33,3,0) -> #N/A | L7: =IF(S7="TER",IF(OR(F7="TK/0",F7="TK/1",F7="K/0",F7="HB/0",F7="HB/1"),T7,IF(OR(F7="TK/2",F7="TK/3",F7="K/1",F7="K/2",F7="HB/2",F7="HB/3"),U7,V7)),IF(S7="PS17",W7,IF(S7="HARIAN",X7,IF(S7="PESANGON",Y7,IF(S7="PENSIUN",Z7,S7))))) -> #N/A | M7: Other | P7: 0410414049526000000000 | R7: =5/100*Table1[[#This Row],[Penghasilan]] -> 0 | S7: =VLOOKUP(H7,REF!$A$2:$D$43,4,0) -> #N/A | T7: =IF(J7<=5400000,0,IF(AND(J7>5400001,J7<=5650000),0.25,IF(AND(J7>5650001,J7<=5950000),0.5,IF(AND(J7>5950001,J7<=6300000),0.75,IF(AND(J7>6300001,J7<=6750000),1,IF(AND(J7>6750001,J7<=7500000),1.25,IF(AND(J7>7500001,J7<=8550000),1.5,IF(AND(J7>8550001,J7<=9650000),1.75,IF(AND(J7>9650001,J7<=10050000),2,IF(AND(J7>10050001,J7<=10350000),2.25,IF(AND(J7>10350001,J7<=10700000),2.5,IF(AND(J7>10700001,J7<=11050000),3,IF(AND(J7>11050001,J7<=11600000),3.5,IF(AND(J7>11600001,J7<=12500000),4,IF(AND(J7>12500001,J7<=13750000),5,IF(AND(J7>13750001,J7<=15100000),6,IF(AND(J7>15100001,J7<=16950000),7,IF(AND(J7>16950001,J7<=19750000),8,IF(AND(J7>19750001,J7<=24150000),9,IF(AND(J7>24150001,J7<=26450000),10,IF(AND(J7>26450001,J7<=28000000),11,IF(AND(J7>28000001,J7<=30050000),12,IF(AND(J7>30050001,J7<=32400000),13,IF(AND(J7>32400001,J7<=35400000),14,IF(AND(J7>35400001,J7<=39100000),15,IF(AND(J7>39100001,J7<=43850000),16,IF(AND(J7>43850001,J7<=47800000),17,IF(AND(J7>47800001,J7<=51400000),18,IF(AND(J7>51400001,J7<=56300000),19,IF(AND(J7>56300001,J7<=62200000),20,IF(AND(J7>62200001,J7<=68600000),21,IF(AND(J7>68600001,J7<=77500000),22,IF(AND(J7>77500001,J7<=89000000),23,IF(AND(J7>89000001,J7<=103000000),24,IF(AND(J7>103000001,J7<=125000000),25,IF(AND(J7>125000001,J7<=157000000),26,IF(AND(J7>157000001,J7<=206000000),27,IF(AND(J7>206000001,J7<=337000000),28,IF(AND(J7>337000001,J7<=454000000),29,IF(AND(J7>454000001,J7<=550000000),30,IF(AND(J7>550000001,J7<=695000000),31,IF(AND(J7>695000001,J7<=910000000),32,IF(AND(J7>910000001,J7<=1400000000),33,34))))))))))))))))))))))))))))))))))))))))))) -> 0 | U7: =IF(J7<=6200000,0,IF(AND(J7>6200001,J7<=6500000),0.25,IF(AND(J7>6500001,J7<=6850000),0.5,IF(AND(J7>6850001,J7<=7300000),0.75,IF(AND(J7>7300001,J7<=9200000),1,IF(AND(J7>9200001,J7<=10750000),1.5,IF(AND(J7>10750001,J7<=11250000),2,IF(AND(J7>11250001,J7<=11600000),2.5,IF(AND(J7>11600001,J7<=12600000),3,IF(AND(J7>12600001,J7<=13600000),4,IF(AND(J7>13600001,J7<=14950000),5,IF(AND(J7>14950001,J7<=16400000),6,IF(AND(J7>16400001,J7<=18450000),7,IF(AND(J7>18450001,J7<=21850000),8,IF(AND(J7>21850001,J7<=26000000),9,IF(AND(J7>26000001,J7<=27700000),10,IF(AND(J7>27700001,J7<=29350000),11,IF(AND(J7>29350001,J7<=31450000),12,IF(AND(J7>31450001,J7<=33950000),13,IF(AND(J7>33950001,J7<=37100000),14,IF(AND(J7>37100001,J7<=41100000),15,IF(AND(J7>41100001,J7<=45800000),16,IF(AND(J7>45800001,J7<=49500000),17,IF(AND(J7>49500001,J7<=53800000),18,IF(AND(J7>53800001,J7<=58500000),19,IF(AND(J7>58500001,J7<=64000000),20,IF(AND(J7>64000001,J7<=71000000),21,IF(AND(J7>71000001,J7<=80000000),22,IF(AND(J7>80000001,J7<=93000000),23,IF(AND(J7>93000001,J7<=109000000),24,IF(AND(J7>109000001,J7<=129000000),25,IF(AND(J7>129000001,J7<=163000000),26,IF(AND(J7>163000001,J7<=211000000),27,IF(AND(J7>211000001,J7<=374000000),28,IF(AND(J7>374000001,J7<=459000000),29,IF(AND(J7>459000001,J7<=555000000),30,IF(AND(J7>555000001,J7<=704000000),31,IF(AND(J7>704000001,J7<=957000000),32,IF(AND(J7>957000001,J7<=1405000000),33,34))))))))))))))))))))))))))))))))))))))) -> 0 | V7: =IF(J7<=6600000,0,IF(AND(J7>6600001,J7<=6950000),0.25,IF(AND(J7>6950001,J7<=7350000),0.5,IF(AND(J7>7350001,J7<=7800000),0.75,IF(AND(J7>7800001,J7<=8850000),1,IF(AND(J7>8850001,J7<=9800000),1.25,IF(AND(J7>9800001,J7<=10950000),1.5,IF(AND(J7>10950001,J7<=11200000),1.75,IF(AND(J7>11200001,J7<=12050000),2,IF(AND(J7>12050001,J7<=12950000),3,IF(AND(J7>12950001,J7<=14150000),4,IF(AND(J7>14150001,J7<=15550000),5,IF(AND(J7>15550001,J7<=17050000),6,IF(AND(J7>17050001,J7<=19500000),7,IF(AND(J7>19500001,J7<=22700000),8,IF(AND(J7>22700001,J7<=26600000),9,IF(AND(J7>26600001,J7<=28100000),10,IF(AND(J7>28100001,J7<=30100000),11,IF(AND(J7>30100001,J7<=32600000),12,IF(AND(J7>32600001,J7<=35400000),13,IF(AND(J7>35400001,J7<=38900000),14,IF(AND(J7>38900001,J7<=43000000),15,IF(AND(J7>43000001,J7<=47400000),16,IF(AND(J7>47400001,J7<=51200000),17,IF(AND(J7>51200001,J7<=55800000),18,IF(AND(J7>55800001,J7<=60400000),19,IF(AND(J7>60400001,J7<=66700000),20,IF(AND(J7>66700001,J7<=74500000),21,IF(AND(J7>74500001,J7<=83200000),22,IF(AND(J7>83200001,J7<=95600000),23,IF(AND(J7>95600001,J7<=110000000),24,IF(AND(J7>110000001,J7<=134000000),25,IF(AND(J7>134000001,J7<=169000000),26,IF(AND(J7>169000001,J7<=221000000),27,IF(AND(J7>221000001,J7<=390000000),28,IF(AND(J7>390000001,J7<=463000000),29,IF(AND(J7>463000001,J7<=561000000),30,IF(AND(J7>561000001,J7<=709000000),31,IF(AND(J7>709000001,J7<=965000000),32,IF(AND(J7>965000001,J7<=1419000000),33,34)))))))))))))))))))))))))))))))))))))))) -> 0 | W7: =IF(J7<=60000000,5,IF(AND(J7>60000000,J7<=250000000),15,IF(AND(J7>250000000,J7<=500000000),25,IF(AND(J7>500000000,J7<=5000000000),30,35)))) -> 5 | X7: =IF(J7<=450000,0,IF(AND(J7>450000,J7<=2500000),0.5,0)) -> 0 | Y7: =IF(J7<=50000000,0,IF(AND(J7>50000000,J7<=100000000),5,IF(AND(J7>100000000,J7<=500000000),15,25))) -> 0 | Z7: =IF(J7<=50000000,0,5) -> 0
C8: 2025 | D8: 3311041608030006 | F8: TK/0 | G8: N/A | I8: =IF(Table1[[#This Row],[Kode Objek Pajak]]<>"",VLOOKUP(Table1[[#This Row],[Kode Objek Pajak]],REF!$A$1:$B$33,2,FALSE),"") | K8: =VLOOKUP(H8,REF!$A$2:$D$33,3,0) -> #N/A | L8: =IF(S8="TER",IF(OR(F8="TK/0",F8="TK/1",F8="K/0",F8="HB/0",F8="HB/1"),T8,IF(OR(F8="TK/2",F8="TK/3",F8="K/1",F8="K/2",F8="HB/2",F8="HB/3"),U8,V8)),IF(S8="PS17",W8,IF(S8="HARIAN",X8,IF(S8="PESANGON",Y8,IF(S8="PENSIUN",Z8,S8))))) -> #N/A | M8: Other | P8: 0410414049526000000000 | R8: =5/100*Table1[[#This Row],[Penghasilan]] -> 0 | S8: =VLOOKUP(H8,REF!$A$2:$D$43,4,0) -> #N/A | T8: =IF(J8<=5400000,0,IF(AND(J8>5400001,J8<=5650000),0.25,IF(AND(J8>5650001,J8<=5950000),0.5,IF(AND(J8>5950001,J8<=6300000),0.75,IF(AND(J8>6300001,J8<=6750000),1,IF(AND(J8>6750001,J8<=7500000),1.25,IF(AND(J8>7500001,J8<=8550000),1.5,IF(AND(J8>8550001,J8<=9650000),1.75,IF(AND(J8>9650001,J8<=10050000),2,IF(AND(J8>10050001,J8<=10350000),2.25,IF(AND(J8>10350001,J8<=10700000),2.5,IF(AND(J8>10700001,J8<=11050000),3,IF(AND(J8>11050001,J8<=11600000),3.5,IF(AND(J8>11600001,J8<=12500000),4,IF(AND(J8>12500001,J8<=13750000),5,IF(AND(J8>13750001,J8<=15100000),6,IF(AND(J8>15100001,J8<=16950000),7,IF(AND(J8>16950001,J8<=19750000),8,IF(AND(J8>19750001,J8<=24150000),9,IF(AND(J8>24150001,J8<=26450000),10,IF(AND(J8>26450001,J8<=28000000),11,IF(AND(J8>28000001,J8<=30050000),12,IF(AND(J8>30050001,J8<=32400000),13,IF(AND(J8>32400001,J8<=35400000),14,IF(AND(J8>35400001,J8<=39100000),15,IF(AND(J8>39100001,J8<=43850000),16,IF(AND(J8>43850001,J8<=47800000),17,IF(AND(J8>47800001,J8<=51400000),18,IF(AND(J8>51400001,J8<=56300000),19,IF(AND(J8>56300001,J8<=62200000),20,IF(AND(J8>62200001,J8<=68600000),21,IF(AND(J8>68600001,J8<=77500000),22,IF(AND(J8>77500001,J8<=89000000),23,IF(AND(J8>89000001,J8<=103000000),24,IF(AND(J8>103000001,J8<=125000000),25,IF(AND(J8>125000001,J8<=157000000),26,IF(AND(J8>157000001,J8<=206000000),27,IF(AND(J8>206000001,J8<=337000000),28,IF(AND(J8>337000001,J8<=454000000),29,IF(AND(J8>454000001,J8<=550000000),30,IF(AND(J8>550000001,J8<=695000000),31,IF(AND(J8>695000001,J8<=910000000),32,IF(AND(J8>910000001,J8<=1400000000),33,34))))))))))))))))))))))))))))))))))))))))))) -> 0 | U8: =IF(J8<=6200000,0,IF(AND(J8>6200001,J8<=6500000),0.25,IF(AND(J8>6500001,J8<=6850000),0.5,IF(AND(J8>6850001,J8<=7300000),0.75,IF(AND(J8>7300001,J8<=9200000),1,IF(AND(J8>9200001,J8<=10750000),1.5,IF(AND(J8>10750001,J8<=11250000),2,IF(AND(J8>11250001,J8<=11600000),2.5,IF(AND(J8>11600001,J8<=12600000),3,IF(AND(J8>12600001,J8<=13600000),4,IF(AND(J8>13600001,J8<=14950000),5,IF(AND(J8>14950001,J8<=16400000),6,IF(AND(J8>16400001,J8<=18450000),7,IF(AND(J8>18450001,J8<=21850000),8,IF(AND(J8>21850001,J8<=26000000),9,IF(AND(J8>26000001,J8<=27700000),10,IF(AND(J8>27700001,J8<=29350000),11,IF(AND(J8>29350001,J8<=31450000),12,IF(AND(J8>31450001,J8<=33950000),13,IF(AND(J8>33950001,J8<=37100000),14,IF(AND(J8>37100001,J8<=41100000),15,IF(AND(J8>41100001,J8<=45800000),16,IF(AND(J8>45800001,J8<=49500000),17,IF(AND(J8>49500001,J8<=53800000),18,IF(AND(J8>53800001,J8<=58500000),19,IF(AND(J8>58500001,J8<=64000000),20,IF(AND(J8>64000001,J8<=71000000),21,IF(AND(J8>71000001,J8<=80000000),22,IF(AND(J8>80000001,J8<=93000000),23,IF(AND(J8>93000001,J8<=109000000),24,IF(AND(J8>109000001,J8<=129000000),25,IF(AND(J8>129000001,J8<=163000000),26,IF(AND(J8>163000001,J8<=211000000),27,IF(AND(J8>211000001,J8<=374000000),28,IF(AND(J8>374000001,J8<=459000000),29,IF(AND(J8>459000001,J8<=555000000),30,IF(AND(J8>555000001,J8<=704000000),31,IF(AND(J8>704000001,J8<=957000000),32,IF(AND(J8>957000001,J8<=1405000000),33,34))))))))))))))))))))))))))))))))))))))) -> 0 | V8: =IF(J8<=6600000,0,IF(AND(J8>6600001,J8<=6950000),0.25,IF(AND(J8>6950001,J8<=7350000),0.5,IF(AND(J8>7350001,J8<=7800000),0.75,IF(AND(J8>7800001,J8<=8850000),1,IF(AND(J8>8850001,J8<=9800000),1.25,IF(AND(J8>9800001,J8<=10950000),1.5,IF(AND(J8>10950001,J8<=11200000),1.75,IF(AND(J8>11200001,J8<=12050000),2,IF(AND(J8>12050001,J8<=12950000),3,IF(AND(J8>12950001,J8<=14150000),4,IF(AND(J8>14150001,J8<=15550000),5,IF(AND(J8>15550001,J8<=17050000),6,IF(AND(J8>17050001,J8<=19500000),7,IF(AND(J8>19500001,J8<=22700000),8,IF(AND(J8>22700001,J8<=26600000),9,IF(AND(J8>26600001,J8<=28100000),10,IF(AND(J8>28100001,J8<=30100000),11,IF(AND(J8>30100001,J8<=32600000),12,IF(AND(J8>32600001,J8<=35400000),13,IF(AND(J8>35400001,J8<=38900000),14,IF(AND(J8>38900001,J8<=43000000),15,IF(AND(J8>43000001,J8<=47400000),16,IF(AND(J8>47400001,J8<=51200000),17,IF(AND(J8>51200001,J8<=55800000),18,IF(AND(J8>55800001,J8<=60400000),19,IF(AND(J8>60400001,J8<=66700000),20,IF(AND(J8>66700001,J8<=74500000),21,IF(AND(J8>74500001,J8<=83200000),22,IF(AND(J8>83200001,J8<=95600000),23,IF(AND(J8>95600001,J8<=110000000),24,IF(AND(J8>110000001,J8<=134000000),25,IF(AND(J8>134000001,J8<=169000000),26,IF(AND(J8>169000001,J8<=221000000),27,IF(AND(J8>221000001,J8<=390000000),28,IF(AND(J8>390000001,J8<=463000000),29,IF(AND(J8>463000001,J8<=561000000),30,IF(AND(J8>561000001,J8<=709000000),31,IF(AND(J8>709000001,J8<=965000000),32,IF(AND(J8>965000001,J8<=1419000000),33,34)))))))))))))))))))))))))))))))))))))))) -> 0 | W8: =IF(J8<=60000000,5,IF(AND(J8>60000000,J8<=250000000),15,IF(AND(J8>250000000,J8<=500000000),25,IF(AND(J8>500000000,J8<=5000000000),30,35)))) -> 5 | X8: =IF(J8<=450000,0,IF(AND(J8>450000,J8<=2500000),0.5,0)) -> 0 | Y8: =IF(J8<=50000000,0,IF(AND(J8>50000000,J8<=100000000),5,IF(AND(J8>100000000,J8<=500000000),15,25))) -> 0 | Z8: =IF(J8<=50000000,0,5) -> 0
C9: 2025 | D9: 3311041608030006 | F9: TK/0 | G9: N/A | I9: =IF(Table1[[#This Row],[Kode Objek Pajak]]<>"",VLOOKUP(Table1[[#This Row],[Kode Objek Pajak]],REF!$A$1:$B$33,2,FALSE),"") | K9: =VLOOKUP(H9,REF!$A$2:$D$33,3,0) -> #N/A | L9: =IF(S9="TER",IF(OR(F9="TK/0",F9="TK/1",F9="K/0",F9="HB/0",F9="HB/1"),T9,IF(OR(F9="TK/2",F9="TK/3",F9="K/1",F9="K/2",F9="HB/2",F9="HB/3"),U9,V9)),IF(S9="PS17",W9,IF(S9="HARIAN",X9,IF(S9="PESANGON",Y9,IF(S9="PENSIUN",Z9,S9))))) -> #N/A | M9: Other | P9: 0410414049526000000000 | R9: =5/100*Table1[[#This Row],[Penghasilan]] -> 0 | S9: =VLOOKUP(H9,REF!$A$2:$D$43,4,0) -> #N/A | T9: =IF(J9<=5400000,0,IF(AND(J9>5400001,J9<=5650000),0.25,IF(AND(J9>5650001,J9<=5950000),0.5,IF(AND(J9>5950001,J9<=6300000),0.75,IF(AND(J9>6300001,J9<=6750000),1,IF(AND(J9>6750001,J9<=7500000),1.25,IF(AND(J9>7500001,J9<=8550000),1.5,IF(AND(J9>8550001,J9<=9650000),1.75,IF(AND(J9>9650001,J9<=10050000),2,IF(AND(J9>10050001,J9<=10350000),2.25,IF(AND(J9>10350001,J9<=10700000),2.5,IF(AND(J9>10700001,J9<=11050000),3,IF(AND(J9>11050001,J9<=11600000),3.5,IF(AND(J9>11600001,J9<=12500000),4,IF(AND(J9>12500001,J9<=13750000),5,IF(AND(J9>13750001,J9<=15100000),6,IF(AND(J9>15100001,J9<=16950000),7,IF(AND(J9>16950001,J9<=19750000),8,IF(AND(J9>19750001,J9<=24150000),9,IF(AND(J9>24150001,J9<=26450000),10,IF(AND(J9>26450001,J9<=28000000),11,IF(AND(J9>28000001,J9<=30050000),12,IF(AND(J9>30050001,J9<=32400000),13,IF(AND(J9>32400001,J9<=35400000),14,IF(AND(J9>35400001,J9<=39100000),15,IF(AND(J9>39100001,J9<=43850000),16,IF(AND(J9>43850001,J9<=47800000),17,IF(AND(J9>47800001,J9<=51400000),18,IF(AND(J9>51400001,J9<=56300000),19,IF(AND(J9>56300001,J9<=62200000),20,IF(AND(J9>62200001,J9<=68600000),21,IF(AND(J9>68600001,J9<=77500000),22,IF(AND(J9>77500001,J9<=89000000),23,IF(AND(J9>89000001,J9<=103000000),24,IF(AND(J9>103000001,J9<=125000000),25,IF(AND(J9>125000001,J9<=157000000),26,IF(AND(J9>157000001,J9<=206000000),27,IF(AND(J9>206000001,J9<=337000000),28,IF(AND(J9>337000001,J9<=454000000),29,IF(AND(J9>454000001,J9<=550000000),30,IF(AND(J9>550000001,J9<=695000000),31,IF(AND(J9>695000001,J9<=910000000),32,IF(AND(J9>910000001,J9<=1400000000),33,34))))))))))))))))))))))))))))))))))))))))))) -> 0 | U9: =IF(J9<=6200000,0,IF(AND(J9>6200001,J9<=6500000),0.25,IF(AND(J9>6500001,J9<=6850000),0.5,IF(AND(J9>6850001,J9<=7300000),0.75,IF(AND(J9>7300001,J9<=9200000),1,IF(AND(J9>9200001,J9<=10750000),1.5,IF(AND(J9>10750001,J9<=11250000),2,IF(AND(J9>11250001,J9<=11600000),2.5,IF(AND(J9>11600001,J9<=12600000),3,IF(AND(J9>12600001,J9<=13600000),4,IF(AND(J9>13600001,J9<=14950000),5,IF(AND(J9>14950001,J9<=16400000),6,IF(AND(J9>16400001,J9<=18450000),7,IF(AND(J9>18450001,J9<=21850000),8,IF(AND(J9>21850001,J9<=26000000),9,IF(AND(J9>26000001,J9<=27700000),10,IF(AND(J9>27700001,J9<=29350000),11,IF(AND(J9>29350001,J9<=31450000),12,IF(AND(J9>31450001,J9<=33950000),13,IF(AND(J9>33950001,J9<=37100000),14,IF(AND(J9>37100001,J9<=41100000),15,IF(AND(J9>41100001,J9<=45800000),16,IF(AND(J9>45800001,J9<=49500000),17,IF(AND(J9>49500001,J9<=53800000),18,IF(AND(J9>53800001,J9<=58500000),19,IF(AND(J9>58500001,J9<=64000000),20,IF(AND(J9>64000001,J9<=71000000),21,IF(AND(J9>71000001,J9<=80000000),22,IF(AND(J9>80000001,J9<=93000000),23,IF(AND(J9>93000001,J9<=109000000),24,IF(AND(J9>109000001,J9<=129000000),25,IF(AND(J9>129000001,J9<=163000000),26,IF(AND(J9>163000001,J9<=211000000),27,IF(AND(J9>211000001,J9<=374000000),28,IF(AND(J9>374000001,J9<=459000000),29,IF(AND(J9>459000001,J9<=555000000),30,IF(AND(J9>555000001,J9<=704000000),31,IF(AND(J9>704000001,J9<=957000000),32,IF(AND(J9>957000001,J9<=1405000000),33,34))))))))))))))))))))))))))))))))))))))) -> 0 | V9: =IF(J9<=6600000,0,IF(AND(J9>6600001,J9<=6950000),0.25,IF(AND(J9>6950001,J9<=7350000),0.5,IF(AND(J9>7350001,J9<=7800000),0.75,IF(AND(J9>7800001,J9<=8850000),1,IF(AND(J9>8850001,J9<=9800000),1.25,IF(AND(J9>9800001,J9<=10950000),1.5,IF(AND(J9>10950001,J9<=11200000),1.75,IF(AND(J9>11200001,J9<=12050000),2,IF(AND(J9>12050001,J9<=12950000),3,IF(AND(J9>12950001,J9<=14150000),4,IF(AND(J9>14150001,J9<=15550000),5,IF(AND(J9>15550001,J9<=17050000),6,IF(AND(J9>17050001,J9<=19500000),7,IF(AND(J9>19500001,J9<=22700000),8,IF(AND(J9>22700001,J9<=26600000),9,IF(AND(J9>26600001,J9<=28100000),10,IF(AND(J9>28100001,J9<=30100000),11,IF(AND(J9>30100001,J9<=32600000),12,IF(AND(J9>32600001,J9<=35400000),13,IF(AND(J9>35400001,J9<=38900000),14,IF(AND(J9>38900001,J9<=43000000),15,IF(AND(J9>43000001,J9<=47400000),16,IF(AND(J9>47400001,J9<=51200000),17,IF(AND(J9>51200001,J9<=55800000),18,IF(AND(J9>55800001,J9<=60400000),19,IF(AND(J9>60400001,J9<=66700000),20,IF(AND(J9>66700001,J9<=74500000),21,IF(AND(J9>74500001,J9<=83200000),22,IF(AND(J9>83200001,J9<=95600000),23,IF(AND(J9>95600001,J9<=110000000),24,IF(AND(J9>110000001,J9<=134000000),25,IF(AND(J9>134000001,J9<=169000000),26,IF(AND(J9>169000001,J9<=221000000),27,IF(AND(J9>221000001,J9<=390000000),28,IF(AND(J9>390000001,J9<=463000000),29,IF(AND(J9>463000001,J9<=561000000),30,IF(AND(J9>561000001,J9<=709000000),31,IF(AND(J9>709000001,J9<=965000000),32,IF(AND(J9>965000001,J9<=1419000000),33,34)))))))))))))))))))))))))))))))))))))))) -> 0 | W9: =IF(J9<=60000000,5,IF(AND(J9>60000000,J9<=250000000),15,IF(AND(J9>250000000,J9<=500000000),25,IF(AND(J9>500000000,J9<=5000000000),30,35)))) -> 5 | X9: =IF(J9<=450000,0,IF(AND(J9>450000,J9<=2500000),0.5,0)) -> 0 | Y9: =IF(J9<=50000000,0,IF(AND(J9>50000000,J9<=100000000),5,IF(AND(J9>100000000,J9<=500000000),15,25))) -> 0 | Z9: =IF(J9<=50000000,0,5) -> 0
C10: 2025 | D10: 3313101101030001 | F10: TK/0 | G10: N/A | I10: =IF(Table1[[#This Row],[Kode Objek Pajak]]<>"",VLOOKUP(Table1[[#This Row],[Kode Objek Pajak]],REF!$A$1:$B$33,2,FALSE),"") | K10: =VLOOKUP(H10,REF!$A$2:$D$33,3,0) -> #N/A | L10: =IF(S10="TER",IF(OR(F10="TK/0",F10="TK/1",F10="K/0",F10="HB/0",F10="HB/1"),T10,IF(OR(F10="TK/2",F10="TK/3",F10="K/1",F10="K/2",F10="HB/2",F10="HB/3"),U10,V10)),IF(S10="PS17",W10,IF(S10="HARIAN",X10,IF(S10="PESANGON",Y10,IF(S10="PENSIUN",Z10,S10))))) -> #N/A | M10: Other | P10: 0410414049526000000000 | R10: =5/100*Table1[[#This Row],[Penghasilan]] -> 0 | S10: =VLOOKUP(H10,REF!$A$2:$D$43,4,0) -> #N/A | T10: =IF(J10<=5400000,0,IF(AND(J10>5400001,J10<=5650000),0.25,IF(AND(J10>5650001,J10<=5950000),0.5,IF(AND(J10>5950001,J10<=6300000),0.75,IF(AND(J10>6300001,J10<=6750000),1,IF(AND(J10>6750001,J10<=7500000),1.25,IF(AND(J10>7500001,J10<=8550000),1.5,IF(AND(J10>8550001,J10<=9650000),1.75,IF(AND(J10>9650001,J10<=10050000),2,IF(AND(J10>10050001,J10<=10350000),2.25,IF(AND(J10>10350001,J10<=10700000),2.5,IF(AND(J10>10700001,J10<=11050000),3,IF(AND(J10>11050001,J10<=11600000),3.5,IF(AND(J10>11600001,J10<=12500000),4,IF(AND(J10>12500001,J10<=13750000),5,IF(AND(J10>13750001,J10<=15100000),6,IF(AND(J10>15100001,J10<=16950000),7,IF(AND(J10>16950001,J10<=19750000),8,IF(AND(J10>19750001,J10<=24150000),9,IF(AND(J10>24150001,J10<=26450000),10,IF(AND(J10>26450001,J10<=28000000),11,IF(AND(J10>28000001,J10<=30050000),12,IF(AND(J10>30050001,J10<=32400000),13,IF(AND(J10>32400001,J10<=35400000),14,IF(AND(J10>35400001,J10<=39100000),15,IF(AND(J10>39100001,J10<=43850000),16,IF(AND(J10>43850001,J10<=47800000),17,IF(AND(J10>47800001,J10<=51400000),18,IF(AND(J10>51400001,J10<=56300000),19,IF(AND(J10>56300001,J10<=62200000),20,IF(AND(J10>62200001,J10<=68600000),21,IF(AND(J10>68600001,J10<=77500000),22,IF(AND(J10>77500001,J10<=89000000),23,IF(AND(J10>89000001,J10<=103000000),24,IF(AND(J10>103000001,J10<=125000000),25,IF(AND(J10>125000001,J10<=157000000),26,IF(AND(J10>157000001,J10<=206000000),27,IF(AND(J10>206000001,J10<=337000000),28,IF(AND(J10>337000001,J10<=454000000),29,IF(AND(J10>454000001,J10<=550000000),30,IF(AND(J10>550000001,J10<=695000000),31,IF(AND(J10>695000001,J10<=910000000),32,IF(AND(J10>910000001,J10<=1400000000),33,34))))))))))))))))))))))))))))))))))))))))))) -> 0 | U10: =IF(J10<=6200000,0,IF(AND(J10>6200001,J10<=6500000),0.25,IF(AND(J10>6500001,J10<=6850000),0.5,IF(AND(J10>6850001,J10<=7300000),0.75,IF(AND(J10>7300001,J10<=9200000),1,IF(AND(J10>9200001,J10<=10750000),1.5,IF(AND(J10>10750001,J10<=11250000),2,IF(AND(J10>11250001,J10<=11600000),2.5,IF(AND(J10>11600001,J10<=12600000),3,IF(AND(J10>12600001,J10<=13600000),4,IF(AND(J10>13600001,J10<=14950000),5,IF(AND(J10>14950001,J10<=16400000),6,IF(AND(J10>16400001,J10<=18450000),7,IF(AND(J10>18450001,J10<=21850000),8,IF(AND(J10>21850001,J10<=26000000),9,IF(AND(J10>26000001,J10<=27700000),10,IF(AND(J10>27700001,J10<=29350000),11,IF(AND(J10>29350001,J10<=31450000),12,IF(AND(J10>31450001,J10<=33950000),13,IF(AND(J10>33950001,J10<=37100000),14,IF(AND(J10>37100001,J10<=41100000),15,IF(AND(J10>41100001,J10<=45800000),16,IF(AND(J10>45800001,J10<=49500000),17,IF(AND(J10>49500001,J10<=53800000),18,IF(AND(J10>53800001,J10<=58500000),19,IF(AND(J10>58500001,J10<=64000000),20,IF(AND(J10>64000001,J10<=71000000),21,IF(AND(J10>71000001,J10<=80000000),22,IF(AND(J10>80000001,J10<=93000000),23,IF(AND(J10>93000001,J10<=109000000),24,IF(AND(J10>109000001,J10<=129000000),25,IF(AND(J10>129000001,J10<=163000000),26,IF(AND(J10>163000001,J10<=211000000),27,IF(AND(J10>211000001,J10<=374000000),28,IF(AND(J10>374000001,J10<=459000000),29,IF(AND(J10>459000001,J10<=555000000),30,IF(AND(J10>555000001,J10<=704000000),31,IF(AND(J10>704000001,J10<=957000000),32,IF(AND(J10>957000001,J10<=1405000000),33,34))))))))))))))))))))))))))))))))))))))) -> 0 | V10: =IF(J10<=6600000,0,IF(AND(J10>6600001,J10<=6950000),0.25,IF(AND(J10>6950001,J10<=7350000),0.5,IF(AND(J10>7350001,J10<=7800000),0.75,IF(AND(J10>7800001,J10<=8850000),1,IF(AND(J10>8850001,J10<=9800000),1.25,IF(AND(J10>9800001,J10<=10950000),1.5,IF(AND(J10>10950001,J10<=11200000),1.75,IF(AND(J10>11200001,J10<=12050000),2,IF(AND(J10>12050001,J10<=12950000),3,IF(AND(J10>12950001,J10<=14150000),4,IF(AND(J10>14150001,J10<=15550000),5,IF(AND(J10>15550001,J10<=17050000),6,IF(AND(J10>17050001,J10<=19500000),7,IF(AND(J10>19500001,J10<=22700000),8,IF(AND(J10>22700001,J10<=26600000),9,IF(AND(J10>26600001,J10<=28100000),10,IF(AND(J10>28100001,J10<=30100000),11,IF(AND(J10>30100001,J10<=32600000),12,IF(AND(J10>32600001,J10<=35400000),13,IF(AND(J10>35400001,J10<=38900000),14,IF(AND(J10>38900001,J10<=43000000),15,IF(AND(J10>43000001,J10<=47400000),16,IF(AND(J10>47400001,J10<=51200000),17,IF(AND(J10>51200001,J10<=55800000),18,IF(AND(J10>55800001,J10<=60400000),19,IF(AND(J10>60400001,J10<=66700000),20,IF(AND(J10>66700001,J10<=74500000),21,IF(AND(J10>74500001,J10<=83200000),22,IF(AND(J10>83200001,J10<=95600000),23,IF(AND(J10>95600001,J10<=110000000),24,IF(AND(J10>110000001,J10<=134000000),25,IF(AND(J10>134000001,J10<=169000000),26,IF(AND(J10>169000001,J10<=221000000),27,IF(AND(J10>221000001,J10<=390000000),28,IF(AND(J10>390000001,J10<=463000000),29,IF(AND(J10>463000001,J10<=561000000),30,IF(AND(J10>561000001,J10<=709000000),31,IF(AND(J10>709000001,J10<=965000000),32,IF(AND(J10>965000001,J10<=1419000000),33,34)))))))))))))))))))))))))))))))))))))))) -> 0 | W10: =IF(J10<=60000000,5,IF(AND(J10>60000000,J10<=250000000),15,IF(AND(J10>250000000,J10<=500000000),25,IF(AND(J10>500000000,J10<=5000000000),30,35)))) -> 5 | X10: =IF(J10<=450000,0,IF(AND(J10>450000,J10<=2500000),0.5,0)) -> 0 | Y10: =IF(J10<=50000000,0,IF(AND(J10>50000000,J10<=100000000),5,IF(AND(J10>100000000,J10<=500000000),15,25))) -> 0 | Z10: =IF(J10<=50000000,0,5) -> 0
C11: 2025 | D11: 3313065308030003 | F11: TK/0 | G11: N/A | I11: =IF(Table1[[#This Row],[Kode Objek Pajak]]<>"",VLOOKUP(Table1[[#This Row],[Kode Objek Pajak]],REF!$A$1:$B$33,2,FALSE),"") | K11: =VLOOKUP(H11,REF!$A$2:$D$33,3,0) -> #N/A | L11: =IF(S11="TER",IF(OR(F11="TK/0",F11="TK/1",F11="K/0",F11="HB/0",F11="HB/1"),T11,IF(OR(F11="TK/2",F11="TK/3",F11="K/1",F11="K/2",F11="HB/2",F11="HB/3"),U11,V11)),IF(S11="PS17",W11,IF(S11="HARIAN",X11,IF(S11="PESANGON",Y11,IF(S11="PENSIUN",Z11,S11))))) -> #N/A | M11: Other | P11: 0410414049526000000000 | R11: =5/100*Table1[[#This Row],[Penghasilan]] -> 0 | S11: =VLOOKUP(H11,REF!$A$2:$D$43,4,0) -> #N/A | T11: =IF(J11<=5400000,0,IF(AND(J11>5400001,J11<=5650000),0.25,IF(AND(J11>5650001,J11<=5950000),0.5,IF(AND(J11>5950001,J11<=6300000),0.75,IF(AND(J11>6300001,J11<=6750000),1,IF(AND(J11>6750001,J11<=7500000),1.25,IF(AND(J11>7500001,J11<=8550000),1.5,IF(AND(J11>8550001,J11<=9650000),1.75,IF(AND(J11>9650001,J11<=10050000),2,IF(AND(J11>10050001,J11<=10350000),2.25,IF(AND(J11>10350001,J11<=10700000),2.5,IF(AND(J11>10700001,J11<=11050000),3,IF(AND(J11>11050001,J11<=11600000),3.5,IF(AND(J11>11600001,J11<=12500000),4,IF(AND(J11>12500001,J11<=13750000),5,IF(AND(J11>13750001,J11<=15100000),6,IF(AND(J11>15100001,J11<=16950000),7,IF(AND(J11>16950001,J11<=19750000),8,IF(AND(J11>19750001,J11<=24150000),9,IF(AND(J11>24150001,J11<=26450000),10,IF(AND(J11>26450001,J11<=28000000),11,IF(AND(J11>28000001,J11<=30050000),12,IF(AND(J11>30050001,J11<=32400000),13,IF(AND(J11>32400001,J11<=35400000),14,IF(AND(J11>35400001,J11<=39100000),15,IF(AND(J11>39100001,J11<=43850000),16,IF(AND(J11>43850001,J11<=47800000),17,IF(AND(J11>47800001,J11<=51400000),18,IF(AND(J11>51400001,J11<=56300000),19,IF(AND(J11>56300001,J11<=62200000),20,IF(AND(J11>62200001,J11<=68600000),21,IF(AND(J11>68600001,J11<=77500000),22,IF(AND(J11>77500001,J11<=89000000),23,IF(AND(J11>89000001,J11<=103000000),24,IF(AND(J11>103000001,J11<=125000000),25,IF(AND(J11>125000001,J11<=157000000),26,IF(AND(J11>157000001,J11<=206000000),27,IF(AND(J11>206000001,J11<=337000000),28,IF(AND(J11>337000001,J11<=454000000),29,IF(AND(J11>454000001,J11<=550000000),30,IF(AND(J11>550000001,J11<=695000000),31,IF(AND(J11>695000001,J11<=910000000),32,IF(AND(J11>910000001,J11<=1400000000),33,34))))))))))))))))))))))))))))))))))))))))))) -> 0 | U11: =IF(J11<=6200000,0,IF(AND(J11>6200001,J11<=6500000),0.25,IF(AND(J11>6500001,J11<=6850000),0.5,IF(AND(J11>6850001,J11<=7300000),0.75,IF(AND(J11>7300001,J11<=9200000),1,IF(AND(J11>9200001,J11<=10750000),1.5,IF(AND(J11>10750001,J11<=11250000),2,IF(AND(J11>11250001,J11<=11600000),2.5,IF(AND(J11>11600001,J11<=12600000),3,IF(AND(J11>12600001,J11<=13600000),4,IF(AND(J11>13600001,J11<=14950000),5,IF(AND(J11>14950001,J11<=16400000),6,IF(AND(J11>16400001,J11<=18450000),7,IF(AND(J11>18450001,J11<=21850000),8,IF(AND(J11>21850001,J11<=26000000),9,IF(AND(J11>26000001,J11<=27700000),10,IF(AND(J11>27700001,J11<=29350000),11,IF(AND(J11>29350001,J11<=31450000),12,IF(AND(J11>31450001,J11<=33950000),13,IF(AND(J11>33950001,J11<=37100000),14,IF(AND(J11>37100001,J11<=41100000),15,IF(AND(J11>41100001,J11<=45800000),16,IF(AND(J11>45800001,J11<=49500000),17,IF(AND(J11>49500001,J11<=53800000),18,IF(AND(J11>53800001,J11<=58500000),19,IF(AND(J11>58500001,J11<=64000000),20,IF(AND(J11>64000001,J11<=71000000),21,IF(AND(J11>71000001,J11<=80000000),22,IF(AND(J11>80000001,J11<=93000000),23,IF(AND(J11>93000001,J11<=109000000),24,IF(AND(J11>109000001,J11<=129000000),25,IF(AND(J11>129000001,J11<=163000000),26,IF(AND(J11>163000001,J11<=211000000),27,IF(AND(J11>211000001,J11<=374000000),28,IF(AND(J11>374000001,J11<=459000000),29,IF(AND(J11>459000001,J11<=555000000),30,IF(AND(J11>555000001,J11<=704000000),31,IF(AND(J11>704000001,J11<=957000000),32,IF(AND(J11>957000001,J11<=1405000000),33,34))))))))))))))))))))))))))))))))))))))) -> 0 | V11: =IF(J11<=6600000,0,IF(AND(J11>6600001,J11<=6950000),0.25,IF(AND(J11>6950001,J11<=7350000),0.5,IF(AND(J11>7350001,J11<=7800000),0.75,IF(AND(J11>7800001,J11<=8850000),1,IF(AND(J11>8850001,J11<=9800000),1.25,IF(AND(J11>9800001,J11<=10950000),1.5,IF(AND(J11>10950001,J11<=11200000),1.75,IF(AND(J11>11200001,J11<=12050000),2,IF(AND(J11>12050001,J11<=12950000),3,IF(AND(J11>12950001,J11<=14150000),4,IF(AND(J11>14150001,J11<=15550000),5,IF(AND(J11>15550001,J11<=17050000),6,IF(AND(J11>17050001,J11<=19500000),7,IF(AND(J11>19500001,J11<=22700000),8,IF(AND(J11>22700001,J11<=26600000),9,IF(AND(J11>26600001,J11<=28100000),10,IF(AND(J11>28100001,J11<=30100000),11,IF(AND(J11>30100001,J11<=32600000),12,IF(AND(J11>32600001,J11<=35400000),13,IF(AND(J11>35400001,J11<=38900000),14,IF(AND(J11>38900001,J11<=43000000),15,IF(AND(J11>43000001,J11<=47400000),16,IF(AND(J11>47400001,J11<=51200000),17,IF(AND(J11>51200001,J11<=55800000),18,IF(AND(J11>55800001,J11<=60400000),19,IF(AND(J11>60400001,J11<=66700000),20,IF(AND(J11>66700001,J11<=74500000),21,IF(AND(J11>74500001,J11<=83200000),22,IF(AND(J11>83200001,J11<=95600000),23,IF(AND(J11>95600001,J11<=110000000),24,IF(AND(J11>110000001,J11<=134000000),25,IF(AND(J11>134000001,J11<=169000000),26,IF(AND(J11>169000001,J11<=221000000),27,IF(AND(J11>221000001,J11<=390000000),28,IF(AND(J11>390000001,J11<=463000000),29,IF(AND(J11>463000001,J11<=561000000),30,IF(AND(J11>561000001,J11<=709000000),31,IF(AND(J11>709000001,J11<=965000000),32,IF(AND(J11>965000001,J11<=1419000000),33,34)))))))))))))))))))))))))))))))))))))))) -> 0 | W11: =IF(J11<=60000000,5,IF(AND(J11>60000000,J11<=250000000),15,IF(AND(J11>250000000,J11<=500000000),25,IF(AND(J11>500000000,J11<=5000000000),30,35)))) -> 5 | X11: =IF(J11<=450000,0,IF(AND(J11>450000,J11<=2500000),0.5,0)) -> 0 | Y11: =IF(J11<=50000000,0,IF(AND(J11>50000000,J11<=100000000),5,IF(AND(J11>100000000,J11<=500000000),15,25))) -> 0 | Z11: =IF(J11<=50000000,0,5) -> 0
C12: 2025 | D12: 3313065308030003 | F12: TK/0 | G12: N/A | I12: =IF(Table1[[#This Row],[Kode Objek Pajak]]<>"",VLOOKUP(Table1[[#This Row],[Kode Objek Pajak]],REF!$A$1:$B$33,2,FALSE),"") | K12: =VLOOKUP(H12,REF!$A$2:$D$33,3,0) -> #N/A | L12: =IF(S12="TER",IF(OR(F12="TK/0",F12="TK/1",F12="K/0",F12="HB/0",F12="HB/1"),T12,IF(OR(F12="TK/2",F12="TK/3",F12="K/1",F12="K/2",F12="HB/2",F12="HB/3"),U12,V12)),IF(S12="PS17",W12,IF(S12="HARIAN",X12,IF(S12="PESANGON",Y12,IF(S12="PENSIUN",Z12,S12))))) -> #N/A | M12: Other | P12: 0410414049526000000000 | R12: =5/100*Table1[[#This Row],[Penghasilan]] -> 0 | S12: =VLOOKUP(H12,REF!$A$2:$D$43,4,0) -> #N/A | T12: =IF(J12<=5400000,0,IF(AND(J12>5400001,J12<=5650000),0.25,IF(AND(J12>5650001,J12<=5950000),0.5,IF(AND(J12>5950001,J12<=6300000),0.75,IF(AND(J12>6300001,J12<=6750000),1,IF(AND(J12>6750001,J12<=7500000),1.25,IF(AND(J12>7500001,J12<=8550000),1.5,IF(AND(J12>8550001,J12<=9650000),1.75,IF(AND(J12>9650001,J12<=10050000),2,IF(AND(J12>10050001,J12<=10350000),2.25,IF(AND(J12>10350001,J12<=10700000),2.5,IF(AND(J12>10700001,J12<=11050000),3,IF(AND(J12>11050001,J12<=11600000),3.5,IF(AND(J12>11600001,J12<=12500000),4,IF(AND(J12>12500001,J12<=13750000),5,IF(AND(J12>13750001,J12<=15100000),6,IF(AND(J12>15100001,J12<=16950000),7,IF(AND(J12>16950001,J12<=19750000),8,IF(AND(J12>19750001,J12<=24150000),9,IF(AND(J12>24150001,J12<=26450000),10,IF(AND(J12>26450001,J12<=28000000),11,IF(AND(J12>28000001,J12<=30050000),12,IF(AND(J12>30050001,J12<=32400000),13,IF(AND(J12>32400001,J12<=35400000),14,IF(AND(J12>35400001,J12<=39100000),15,IF(AND(J12>39100001,J12<=43850000),16,IF(AND(J12>43850001,J12<=47800000),17,IF(AND(J12>47800001,J12<=51400000),18,IF(AND(J12>51400001,J12<=56300000),19,IF(AND(J12>56300001,J12<=62200000),20,IF(AND(J12>62200001,J12<=68600000),21,IF(AND(J12>68600001,J12<=77500000),22,IF(AND(J12>77500001,J12<=89000000),23,IF(AND(J12>89000001,J12<=103000000),24,IF(AND(J12>103000001,J12<=125000000),25,IF(AND(J12>125000001,J12<=157000000),26,IF(AND(J12>157000001,J12<=206000000),27,IF(AND(J12>206000001,J12<=337000000),28,IF(AND(J12>337000001,J12<=454000000),29,IF(AND(J12>454000001,J12<=550000000),30,IF(AND(J12>550000001,J12<=695000000),31,IF(AND(J12>695000001,J12<=910000000),32,IF(AND(J12>910000001,J12<=1400000000),33,34))))))))))))))))))))))))))))))))))))))))))) -> 0 | U12: =IF(J12<=6200000,0,IF(AND(J12>6200001,J12<=6500000),0.25,IF(AND(J12>6500001,J12<=6850000),0.5,IF(AND(J12>6850001,J12<=7300000),0.75,IF(AND(J12>7300001,J12<=9200000),1,IF(AND(J12>9200001,J12<=10750000),1.5,IF(AND(J12>10750001,J12<=11250000),2,IF(AND(J12>11250001,J12<=11600000),2.5,IF(AND(J12>11600001,J12<=12600000),3,IF(AND(J12>12600001,J12<=13600000),4,IF(AND(J12>13600001,J12<=14950000),5,IF(AND(J12>14950001,J12<=16400000),6,IF(AND(J12>16400001,J12<=18450000),7,IF(AND(J12>18450001,J12<=21850000),8,IF(AND(J12>21850001,J12<=26000000),9,IF(AND(J12>26000001,J12<=27700000),10,IF(AND(J12>27700001,J12<=29350000),11,IF(AND(J12>29350001,J12<=31450000),12,IF(AND(J12>31450001,J12<=33950000),13,IF(AND(J12>33950001,J12<=37100000),14,IF(AND(J12>37100001,J12<=41100000),15,IF(AND(J12>41100001,J12<=45800000),16,IF(AND(J12>45800001,J12<=49500000),17,IF(AND(J12>49500001,J12<=53800000),18,IF(AND(J12>53800001,J12<=58500000),19,IF(AND(J12>58500001,J12<=64000000),20,IF(AND(J12>64000001,J12<=71000000),21,IF(AND(J12>71000001,J12<=80000000),22,IF(AND(J12>80000001,J12<=93000000),23,IF(AND(J12>93000001,J12<=109000000),24,IF(AND(J12>109000001,J12<=129000000),25,IF(AND(J12>129000001,J12<=163000000),26,IF(AND(J12>163000001,J12<=211000000),27,IF(AND(J12>211000001,J12<=374000000),28,IF(AND(J12>374000001,J12<=459000000),29,IF(AND(J12>459000001,J12<=555000000),30,IF(AND(J12>555000001,J12<=704000000),31,IF(AND(J12>704000001,J12<=957000000),32,IF(AND(J12>957000001,J12<=1405000000),33,34))))))))))))))))))))))))))))))))))))))) -> 0 | V12: =IF(J12<=6600000,0,IF(AND(J12>6600001,J12<=6950000),0.25,IF(AND(J12>6950001,J12<=7350000),0.5,IF(AND(J12>7350001,J12<=7800000),0.75,IF(AND(J12>7800001,J12<=8850000),1,IF(AND(J12>8850001,J12<=9800000),1.25,IF(AND(J12>9800001,J12<=10950000),1.5,IF(AND(J12>10950001,J12<=11200000),1.75,IF(AND(J12>11200001,J12<=12050000),2,IF(AND(J12>12050001,J12<=12950000),3,IF(AND(J12>12950001,J12<=14150000),4,IF(AND(J12>14150001,J12<=15550000),5,IF(AND(J12>15550001,J12<=17050000),6,IF(AND(J12>17050001,J12<=19500000),7,IF(AND(J12>19500001,J12<=22700000),8,IF(AND(J12>22700001,J12<=26600000),9,IF(AND(J12>26600001,J12<=28100000),10,IF(AND(J12>28100001,J12<=30100000),11,IF(AND(J12>30100001,J12<=32600000),12,IF(AND(J12>32600001,J12<=35400000),13,IF(AND(J12>35400001,J12<=38900000),14,IF(AND(J12>38900001,J12<=43000000),15,IF(AND(J12>43000001,J12<=47400000),16,IF(AND(J12>47400001,J12<=51200000),17,IF(AND(J12>51200001,J12<=55800000),18,IF(AND(J12>55800001,J12<=60400000),19,IF(AND(J12>60400001,J12<=66700000),20,IF(AND(J12>66700001,J12<=74500000),21,IF(AND(J12>74500001,J12<=83200000),22,IF(AND(J12>83200001,J12<=95600000),23,IF(AND(J12>95600001,J12<=110000000),24,IF(AND(J12>110000001,J12<=134000000),25,IF(AND(J12>134000001,J12<=169000000),26,IF(AND(J12>169000001,J12<=221000000),27,IF(AND(J12>221000001,J12<=390000000),28,IF(AND(J12>390000001,J12<=463000000),29,IF(AND(J12>463000001,J12<=561000000),30,IF(AND(J12>561000001,J12<=709000000),31,IF(AND(J12>709000001,J12<=965000000),32,IF(AND(J12>965000001,J12<=1419000000),33,34)))))))))))))))))))))))))))))))))))))))) -> 0 | W12: =IF(J12<=60000000,5,IF(AND(J12>60000000,J12<=250000000),15,IF(AND(J12>250000000,J12<=500000000),25,IF(AND(J12>500000000,J12<=5000000000),30,35)))) -> 5 | X12: =IF(J12<=450000,0,IF(AND(J12>450000,J12<=2500000),0.5,0)) -> 0 | Y12: =IF(J12<=50000000,0,IF(AND(J12>50000000,J12<=100000000),5,IF(AND(J12>100000000,J12<=500000000),15,25))) -> 0 | Z12: =IF(J12<=50000000,0,5) -> 0
C13: 2025 | D13: 3310221405040002 | F13: TK/0 | G13: N/A | I13: =IF(Table1[[#This Row],[Kode Objek Pajak]]<>"",VLOOKUP(Table1[[#This Row],[Kode Objek Pajak]],REF!$A$1:$B$33,2,FALSE),"") | K13: =VLOOKUP(H13,REF!$A$2:$D$33,3,0) -> #N/A | L13: =IF(S13="TER",IF(OR(F13="TK/0",F13="TK/1",F13="K/0",F13="HB/0",F13="HB/1"),T13,IF(OR(F13="TK/2",F13="TK/3",F13="K/1",F13="K/2",F13="HB/2",F13="HB/3"),U13,V13)),IF(S13="PS17",W13,IF(S13="HARIAN",X13,IF(S13="PESANGON",Y13,IF(S13="PENSIUN",Z13,S13))))) -> #N/A | M13: Other | P13: 0410414049526000000000 | R13: =5/100*Table1[[#This Row],[Penghasilan]] -> 0 | S13: =VLOOKUP(H13,REF!$A$2:$D$43,4,0) -> #N/A | T13: =IF(J13<=5400000,0,IF(AND(J13>5400001,J13<=5650000),0.25,IF(AND(J13>5650001,J13<=5950000),0.5,IF(AND(J13>5950001,J13<=6300000),0.75,IF(AND(J13>6300001,J13<=6750000),1,IF(AND(J13>6750001,J13<=7500000),1.25,IF(AND(J13>7500001,J13<=8550000),1.5,IF(AND(J13>8550001,J13<=9650000),1.75,IF(AND(J13>9650001,J13<=10050000),2,IF(AND(J13>10050001,J13<=10350000),2.25,IF(AND(J13>10350001,J13<=10700000),2.5,IF(AND(J13>10700001,J13<=11050000),3,IF(AND(J13>11050001,J13<=11600000),3.5,IF(AND(J13>11600001,J13<=12500000),4,IF(AND(J13>12500001,J13<=13750000),5,IF(AND(J13>13750001,J13<=15100000),6,IF(AND(J13>15100001,J13<=16950000),7,IF(AND(J13>16950001,J13<=19750000),8,IF(AND(J13>19750001,J13<=24150000),9,IF(AND(J13>24150001,J13<=26450000),10,IF(AND(J13>26450001,J13<=28000000),11,IF(AND(J13>28000001,J13<=30050000),12,IF(AND(J13>30050001,J13<=32400000),13,IF(AND(J13>32400001,J13<=35400000),14,IF(AND(J13>35400001,J13<=39100000),15,IF(AND(J13>39100001,J13<=43850000),16,IF(AND(J13>43850001,J13<=47800000),17,IF(AND(J13>47800001,J13<=51400000),18,IF(AND(J13>51400001,J13<=56300000),19,IF(AND(J13>56300001,J13<=62200000),20,IF(AND(J13>62200001,J13<=68600000),21,IF(AND(J13>68600001,J13<=77500000),22,IF(AND(J13>77500001,J13<=89000000),23,IF(AND(J13>89000001,J13<=103000000),24,IF(AND(J13>103000001,J13<=125000000),25,IF(AND(J13>125000001,J13<=157000000),26,IF(AND(J13>157000001,J13<=206000000),27,IF(AND(J13>206000001,J13<=337000000),28,IF(AND(J13>337000001,J13<=454000000),29,IF(AND(J13>454000001,J13<=550000000),30,IF(AND(J13>550000001,J13<=695000000),31,IF(AND(J13>695000001,J13<=910000000),32,IF(AND(J13>910000001,J13<=1400000000),33,34))))))))))))))))))))))))))))))))))))))))))) -> 0 | U13: =IF(J13<=6200000,0,IF(AND(J13>6200001,J13<=6500000),0.25,IF(AND(J13>6500001,J13<=6850000),0.5,IF(AND(J13>6850001,J13<=7300000),0.75,IF(AND(J13>7300001,J13<=9200000),1,IF(AND(J13>9200001,J13<=10750000),1.5,IF(AND(J13>10750001,J13<=11250000),2,IF(AND(J13>11250001,J13<=11600000),2.5,IF(AND(J13>11600001,J13<=12600000),3,IF(AND(J13>12600001,J13<=13600000),4,IF(AND(J13>13600001,J13<=14950000),5,IF(AND(J13>14950001,J13<=16400000),6,IF(AND(J13>16400001,J13<=18450000),7,IF(AND(J13>18450001,J13<=21850000),8,IF(AND(J13>21850001,J13<=26000000),9,IF(AND(J13>26000001,J13<=27700000),10,IF(AND(J13>27700001,J13<=29350000),11,IF(AND(J13>29350001,J13<=31450000),12,IF(AND(J13>31450001,J13<=33950000),13,IF(AND(J13>33950001,J13<=37100000),14,IF(AND(J13>37100001,J13<=41100000),15,IF(AND(J13>41100001,J13<=45800000),16,IF(AND(J13>45800001,J13<=49500000),17,IF(AND(J13>49500001,J13<=53800000),18,IF(AND(J13>53800001,J13<=58500000),19,IF(AND(J13>58500001,J13<=64000000),20,IF(AND(J13>64000001,J13<=71000000),21,IF(AND(J13>71000001,J13<=80000000),22,IF(AND(J13>80000001,J13<=93000000),23,IF(AND(J13>93000001,J13<=109000000),24,IF(AND(J13>109000001,J13<=129000000),25,IF(AND(J13>129000001,J13<=163000000),26,IF(AND(J13>163000001,J13<=211000000),27,IF(AND(J13>211000001,J13<=374000000),28,IF(AND(J13>374000001,J13<=459000000),29,IF(AND(J13>459000001,J13<=555000000),30,IF(AND(J13>555000001,J13<=704000000),31,IF(AND(J13>704000001,J13<=957000000),32,IF(AND(J13>957000001,J13<=1405000000),33,34))))))))))))))))))))))))))))))))))))))) -> 0 | V13: =IF(J13<=6600000,0,IF(AND(J13>6600001,J13<=6950000),0.25,IF(AND(J13>6950001,J13<=7350000),0.5,IF(AND(J13>7350001,J13<=7800000),0.75,IF(AND(J13>7800001,J13<=8850000),1,IF(AND(J13>8850001,J13<=9800000),1.25,IF(AND(J13>9800001,J13<=10950000),1.5,IF(AND(J13>10950001,J13<=11200000),1.75,IF(AND(J13>11200001,J13<=12050000),2,IF(AND(J13>12050001,J13<=12950000),3,IF(AND(J13>12950001,J13<=14150000),4,IF(AND(J13>14150001,J13<=15550000),5,IF(AND(J13>15550001,J13<=17050000),6,IF(AND(J13>17050001,J13<=19500000),7,IF(AND(J13>19500001,J13<=22700000),8,IF(AND(J13>22700001,J13<=26600000),9,IF(AND(J13>26600001,J13<=28100000),10,IF(AND(J13>28100001,J13<=30100000),11,IF(AND(J13>30100001,J13<=32600000),12,IF(AND(J13>32600001,J13<=35400000),13,IF(AND(J13>35400001,J13<=38900000),14,IF(AND(J13>38900001,J13<=43000000),15,IF(AND(J13>43000001,J13<=47400000),16,IF(AND(J13>47400001,J13<=51200000),17,IF(AND(J13>51200001,J13<=55800000),18,IF(AND(J13>55800001,J13<=60400000),19,IF(AND(J13>60400001,J13<=66700000),20,IF(AND(J13>66700001,J13<=74500000),21,IF(AND(J13>74500001,J13<=83200000),22,IF(AND(J13>83200001,J13<=95600000),23,IF(AND(J13>95600001,J13<=110000000),24,IF(AND(J13>110000001,J13<=134000000),25,IF(AND(J13>134000001,J13<=169000000),26,IF(AND(J13>169000001,J13<=221000000),27,IF(AND(J13>221000001,J13<=390000000),28,IF(AND(J13>390000001,J13<=463000000),29,IF(AND(J13>463000001,J13<=561000000),30,IF(AND(J13>561000001,J13<=709000000),31,IF(AND(J13>709000001,J13<=965000000),32,IF(AND(J13>965000001,J13<=1419000000),33,34)))))))))))))))))))))))))))))))))))))))) -> 0 | W13: =IF(J13<=60000000,5,IF(AND(J13>60000000,J13<=250000000),15,IF(AND(J13>250000000,J13<=500000000),25,IF(AND(J13>500000000,J13<=5000000000),30,35)))) -> 5 | X13: =IF(J13<=450000,0,IF(AND(J13>450000,J13<=2500000),0.5,0)) -> 0 | Y13: =IF(J13<=50000000,0,IF(AND(J13>50000000,J13<=100000000),5,IF(AND(J13>100000000,J13<=500000000),15,25))) -> 0 | Z13: =IF(J13<=50000000,0,5) -> 0
C14: 2025 | D14: 3310221405040002 | F14: TK/0 | G14: N/A | I14: =IF(Table1[[#This Row],[Kode Objek Pajak]]<>"",VLOOKUP(Table1[[#This Row],[Kode Objek Pajak]],REF!$A$1:$B$33,2,FALSE),"") | K14: =VLOOKUP(H14,REF!$A$2:$D$33,3,0) -> #N/A | L14: =IF(S14="TER",IF(OR(F14="TK/0",F14="TK/1",F14="K/0",F14="HB/0",F14="HB/1"),T14,IF(OR(F14="TK/2",F14="TK/3",F14="K/1",F14="K/2",F14="HB/2",F14="HB/3"),U14,V14)),IF(S14="PS17",W14,IF(S14="HARIAN",X14,IF(S14="PESANGON",Y14,IF(S14="PENSIUN",Z14,S14))))) -> #N/A | M14: Other | P14: 0410414049526000000000 | R14: =5/100*Table1[[#This Row],[Penghasilan]] -> 0 | S14: =VLOOKUP(H14,REF!$A$2:$D$43,4,0) -> #N/A | T14: =IF(J14<=5400000,0,IF(AND(J14>5400001,J14<=5650000),0.25,IF(AND(J14>5650001,J14<=5950000),0.5,IF(AND(J14>5950001,J14<=6300000),0.75,IF(AND(J14>6300001,J14<=6750000),1,IF(AND(J14>6750001,J14<=7500000),1.25,IF(AND(J14>7500001,J14<=8550000),1.5,IF(AND(J14>8550001,J14<=9650000),1.75,IF(AND(J14>9650001,J14<=10050000),2,IF(AND(J14>10050001,J14<=10350000),2.25,IF(AND(J14>10350001,J14<=10700000),2.5,IF(AND(J14>10700001,J14<=11050000),3,IF(AND(J14>11050001,J14<=11600000),3.5,IF(AND(J14>11600001,J14<=12500000),4,IF(AND(J14>12500001,J14<=13750000),5,IF(AND(J14>13750001,J14<=15100000),6,IF(AND(J14>15100001,J14<=16950000),7,IF(AND(J14>16950001,J14<=19750000),8,IF(AND(J14>19750001,J14<=24150000),9,IF(AND(J14>24150001,J14<=26450000),10,IF(AND(J14>26450001,J14<=28000000),11,IF(AND(J14>28000001,J14<=30050000),12,IF(AND(J14>30050001,J14<=32400000),13,IF(AND(J14>32400001,J14<=35400000),14,IF(AND(J14>35400001,J14<=39100000),15,IF(AND(J14>39100001,J14<=43850000),16,IF(AND(J14>43850001,J14<=47800000),17,IF(AND(J14>47800001,J14<=51400000),18,IF(AND(J14>51400001,J14<=56300000),19,IF(AND(J14>56300001,J14<=62200000),20,IF(AND(J14>62200001,J14<=68600000),21,IF(AND(J14>68600001,J14<=77500000),22,IF(AND(J14>77500001,J14<=89000000),23,IF(AND(J14>89000001,J14<=103000000),24,IF(AND(J14>103000001,J14<=125000000),25,IF(AND(J14>125000001,J14<=157000000),26,IF(AND(J14>157000001,J14<=206000000),27,IF(AND(J14>206000001,J14<=337000000),28,IF(AND(J14>337000001,J14<=454000000),29,IF(AND(J14>454000001,J14<=550000000),30,IF(AND(J14>550000001,J14<=695000000),31,IF(AND(J14>695000001,J14<=910000000),32,IF(AND(J14>910000001,J14<=1400000000),33,34))))))))))))))))))))))))))))))))))))))))))) -> 0 | U14: =IF(J14<=6200000,0,IF(AND(J14>6200001,J14<=6500000),0.25,IF(AND(J14>6500001,J14<=6850000),0.5,IF(AND(J14>6850001,J14<=7300000),0.75,IF(AND(J14>7300001,J14<=9200000),1,IF(AND(J14>9200001,J14<=10750000),1.5,IF(AND(J14>10750001,J14<=11250000),2,IF(AND(J14>11250001,J14<=11600000),2.5,IF(AND(J14>11600001,J14<=12600000),3,IF(AND(J14>12600001,J14<=13600000),4,IF(AND(J14>13600001,J14<=14950000),5,IF(AND(J14>14950001,J14<=16400000),6,IF(AND(J14>16400001,J14<=18450000),7,IF(AND(J14>18450001,J14<=21850000),8,IF(AND(J14>21850001,J14<=26000000),9,IF(AND(J14>26000001,J14<=27700000),10,IF(AND(J14>27700001,J14<=29350000),11,IF(AND(J14>29350001,J14<=31450000),12,IF(AND(J14>31450001,J14<=33950000),13,IF(AND(J14>33950001,J14<=37100000),14,IF(AND(J14>37100001,J14<=41100000),15,IF(AND(J14>41100001,J14<=45800000),16,IF(AND(J14>45800001,J14<=49500000),17,IF(AND(J14>49500001,J14<=53800000),18,IF(AND(J14>53800001,J14<=58500000),19,IF(AND(J14>58500001,J14<=64000000),20,IF(AND(J14>64000001,J14<=71000000),21,IF(AND(J14>71000001,J14<=80000000),22,IF(AND(J14>80000001,J14<=93000000),23,IF(AND(J14>93000001,J14<=109000000),24,IF(AND(J14>109000001,J14<=129000000),25,IF(AND(J14>129000001,J14<=163000000),26,IF(AND(J14>163000001,J14<=211000000),27,IF(AND(J14>211000001,J14<=374000000),28,IF(AND(J14>374000001,J14<=459000000),29,IF(AND(J14>459000001,J14<=555000000),30,IF(AND(J14>555000001,J14<=704000000),31,IF(AND(J14>704000001,J14<=957000000),32,IF(AND(J14>957000001,J14<=1405000000),33,34))))))))))))))))))))))))))))))))))))))) -> 0 | V14: =IF(J14<=6600000,0,IF(AND(J14>6600001,J14<=6950000),0.25,IF(AND(J14>6950001,J14<=7350000),0.5,IF(AND(J14>7350001,J14<=7800000),0.75,IF(AND(J14>7800001,J14<=8850000),1,IF(AND(J14>8850001,J14<=9800000),1.25,IF(AND(J14>9800001,J14<=10950000),1.5,IF(AND(J14>10950001,J14<=11200000),1.75,IF(AND(J14>11200001,J14<=12050000),2,IF(AND(J14>12050001,J14<=12950000),3,IF(AND(J14>12950001,J14<=14150000),4,IF(AND(J14>14150001,J14<=15550000),5,IF(AND(J14>15550001,J14<=17050000),6,IF(AND(J14>17050001,J14<=19500000),7,IF(AND(J14>19500001,J14<=22700000),8,IF(AND(J14>22700001,J14<=26600000),9,IF(AND(J14>26600001,J14<=28100000),10,IF(AND(J14>28100001,J14<=30100000),11,IF(AND(J14>30100001,J14<=32600000),12,IF(AND(J14>32600001,J14<=35400000),13,IF(AND(J14>35400001,J14<=38900000),14,IF(AND(J14>38900001,J14<=43000000),15,IF(AND(J14>43000001,J14<=47400000),16,IF(AND(J14>47400001,J14<=51200000),17,IF(AND(J14>51200001,J14<=55800000),18,IF(AND(J14>55800001,J14<=60400000),19,IF(AND(J14>60400001,J14<=66700000),20,IF(AND(J14>66700001,J14<=74500000),21,IF(AND(J14>74500001,J14<=83200000),22,IF(AND(J14>83200001,J14<=95600000),23,IF(AND(J14>95600001,J14<=110000000),24,IF(AND(J14>110000001,J14<=134000000),25,IF(AND(J14>134000001,J14<=169000000),26,IF(AND(J14>169000001,J14<=221000000),27,IF(AND(J14>221000001,J14<=390000000),28,IF(AND(J14>390000001,J14<=463000000),29,IF(AND(J14>463000001,J14<=561000000),30,IF(AND(J14>561000001,J14<=709000000),31,IF(AND(J14>709000001,J14<=965000000),32,IF(AND(J14>965000001,J14<=1419000000),33,34)))))))))))))))))))))))))))))))))))))))) -> 0 | W14: =IF(J14<=60000000,5,IF(AND(J14>60000000,J14<=250000000),15,IF(AND(J14>250000000,J14<=500000000),25,IF(AND(J14>500000000,J14<=5000000000),30,35)))) -> 5 | X14: =IF(J14<=450000,0,IF(AND(J14>450000,J14<=2500000),0.5,0)) -> 0 | Y14: =IF(J14<=50000000,0,IF(AND(J14>50000000,J14<=100000000),5,IF(AND(J14>100000000,J14<=500000000),15,25))) -> 0 | Z14: =IF(J14<=50000000,0,5) -> 0
C15: 2025 | D15: 3375025204040001 | F15: TK/0 | G15: N/A | I15: =IF(Table1[[#This Row],[Kode Objek Pajak]]<>"",VLOOKUP(Table1[[#This Row],[Kode Objek Pajak]],REF!$A$1:$B$33,2,FALSE),"") | K15: =VLOOKUP(H15,REF!$A$2:$D$33,3,0) -> #N/A | L15: =IF(S15="TER",IF(OR(F15="TK/0",F15="TK/1",F15="K/0",F15="HB/0",F15="HB/1"),T15,IF(OR(F15="TK/2",F15="TK/3",F15="K/1",F15="K/2",F15="HB/2",F15="HB/3"),U15,V15)),IF(S15="PS17",W15,IF(S15="HARIAN",X15,IF(S15="PESANGON",Y15,IF(S15="PENSIUN",Z15,S15))))) -> #N/A | M15: Other | P15: 0410414049526000000000 | R15: =5/100*Table1[[#This Row],[Penghasilan]] -> 0 | S15: =VLOOKUP(H15,REF!$A$2:$D$43,4,0) -> #N/A | T15: =IF(J15<=5400000,0,IF(AND(J15>5400001,J15<=5650000),0.25,IF(AND(J15>5650001,J15<=5950000),0.5,IF(AND(J15>5950001,J15<=6300000),0.75,IF(AND(J15>6300001,J15<=6750000),1,IF(AND(J15>6750001,J15<=7500000),1.25,IF(AND(J15>7500001,J15<=8550000),1.5,IF(AND(J15>8550001,J15<=9650000),1.75,IF(AND(J15>9650001,J15<=10050000),2,IF(AND(J15>10050001,J15<=10350000),2.25,IF(AND(J15>10350001,J15<=10700000),2.5,IF(AND(J15>10700001,J15<=11050000),3,IF(AND(J15>11050001,J15<=11600000),3.5,IF(AND(J15>11600001,J15<=12500000),4,IF(AND(J15>12500001,J15<=13750000),5,IF(AND(J15>13750001,J15<=15100000),6,IF(AND(J15>15100001,J15<=16950000),7,IF(AND(J15>16950001,J15<=19750000),8,IF(AND(J15>19750001,J15<=24150000),9,IF(AND(J15>24150001,J15<=26450000),10,IF(AND(J15>26450001,J15<=28000000),11,IF(AND(J15>28000001,J15<=30050000),12,IF(AND(J15>30050001,J15<=32400000),13,IF(AND(J15>32400001,J15<=35400000),14,IF(AND(J15>35400001,J15<=39100000),15,IF(AND(J15>39100001,J15<=43850000),16,IF(AND(J15>43850001,J15<=47800000),17,IF(AND(J15>47800001,J15<=51400000),18,IF(AND(J15>51400001,J15<=56300000),19,IF(AND(J15>56300001,J15<=62200000),20,IF(AND(J15>62200001,J15<=68600000),21,IF(AND(J15>68600001,J15<=77500000),22,IF(AND(J15>77500001,J15<=89000000),23,IF(AND(J15>89000001,J15<=103000000),24,IF(AND(J15>103000001,J15<=125000000),25,IF(AND(J15>125000001,J15<=157000000),26,IF(AND(J15>157000001,J15<=206000000),27,IF(AND(J15>206000001,J15<=337000000),28,IF(AND(J15>337000001,J15<=454000000),29,IF(AND(J15>454000001,J15<=550000000),30,IF(AND(J15>550000001,J15<=695000000),31,IF(AND(J15>695000001,J15<=910000000),32,IF(AND(J15>910000001,J15<=1400000000),33,34))))))))))))))))))))))))))))))))))))))))))) -> 0 | U15: =IF(J15<=6200000,0,IF(AND(J15>6200001,J15<=6500000),0.25,IF(AND(J15>6500001,J15<=6850000),0.5,IF(AND(J15>6850001,J15<=7300000),0.75,IF(AND(J15>7300001,J15<=9200000),1,IF(AND(J15>9200001,J15<=10750000),1.5,IF(AND(J15>10750001,J15<=11250000),2,IF(AND(J15>11250001,J15<=11600000),2.5,IF(AND(J15>11600001,J15<=12600000),3,IF(AND(J15>12600001,J15<=13600000),4,IF(AND(J15>13600001,J15<=14950000),5,IF(AND(J15>14950001,J15<=16400000),6,IF(AND(J15>16400001,J15<=18450000),7,IF(AND(J15>18450001,J15<=21850000),8,IF(AND(J15>21850001,J15<=26000000),9,IF(AND(J15>26000001,J15<=27700000),10,IF(AND(J15>27700001,J15<=29350000),11,IF(AND(J15>29350001,J15<=31450000),12,IF(AND(J15>31450001,J15<=33950000),13,IF(AND(J15>33950001,J15<=37100000),14,IF(AND(J15>37100001,J15<=41100000),15,IF(AND(J15>41100001,J15<=45800000),16,IF(AND(J15>45800001,J15<=49500000),17,IF(AND(J15>49500001,J15<=53800000),18,IF(AND(J15>53800001,J15<=58500000),19,IF(AND(J15>58500001,J15<=64000000),20,IF(AND(J15>64000001,J15<=71000000),21,IF(AND(J15>71000001,J15<=80000000),22,IF(AND(J15>80000001,J15<=93000000),23,IF(AND(J15>93000001,J15<=109000000),24,IF(AND(J15>109000001,J15<=129000000),25,IF(AND(J15>129000001,J15<=163000000),26,IF(AND(J15>163000001,J15<=211000000),27,IF(AND(J15>211000001,J15<=374000000),28,IF(AND(J15>374000001,J15<=459000000),29,IF(AND(J15>459000001,J15<=555000000),30,IF(AND(J15>555000001,J15<=704000000),31,IF(AND(J15>704000001,J15<=957000000),32,IF(AND(J15>957000001,J15<=1405000000),33,34))))))))))))))))))))))))))))))))))))))) -> 0 | V15: =IF(J15<=6600000,0,IF(AND(J15>6600001,J15<=6950000),0.25,IF(AND(J15>6950001,J15<=7350000),0.5,IF(AND(J15>7350001,J15<=7800000),0.75,IF(AND(J15>7800001,J15<=8850000),1,IF(AND(J15>8850001,J15<=9800000),1.25,IF(AND(J15>9800001,J15<=10950000),1.5,IF(AND(J15>10950001,J15<=11200000),1.75,IF(AND(J15>11200001,J15<=12050000),2,IF(AND(J15>12050001,J15<=12950000),3,IF(AND(J15>12950001,J15<=14150000),4,IF(AND(J15>14150001,J15<=15550000),5,IF(AND(J15>15550001,J15<=17050000),6,IF(AND(J15>17050001,J15<=19500000),7,IF(AND(J15>19500001,J15<=22700000),8,IF(AND(J15>22700001,J15<=26600000),9,IF(AND(J15>26600001,J15<=28100000),10,IF(AND(J15>28100001,J15<=30100000),11,IF(AND(J15>30100001,J15<=32600000),12,IF(AND(J15>32600001,J15<=35400000),13,IF(AND(J15>35400001,J15<=38900000),14,IF(AND(J15>38900001,J15<=43000000),15,IF(AND(J15>43000001,J15<=47400000),16,IF(AND(J15>47400001,J15<=51200000),17,IF(AND(J15>51200001,J15<=55800000),18,IF(AND(J15>55800001,J15<=60400000),19,IF(AND(J15>60400001,J15<=66700000),20,IF(AND(J15>66700001,J15<=74500000),21,IF(AND(J15>74500001,J15<=83200000),22,IF(AND(J15>83200001,J15<=95600000),23,IF(AND(J15>95600001,J15<=110000000),24,IF(AND(J15>110000001,J15<=134000000),25,IF(AND(J15>134000001,J15<=169000000),26,IF(AND(J15>169000001,J15<=221000000),27,IF(AND(J15>221000001,J15<=390000000),28,IF(AND(J15>390000001,J15<=463000000),29,IF(AND(J15>463000001,J15<=561000000),30,IF(AND(J15>561000001,J15<=709000000),31,IF(AND(J15>709000001,J15<=965000000),32,IF(AND(J15>965000001,J15<=1419000000),33,34)))))))))))))))))))))))))))))))))))))))) -> 0 | W15: =IF(J15<=60000000,5,IF(AND(J15>60000000,J15<=250000000),15,IF(AND(J15>250000000,J15<=500000000),25,IF(AND(J15>500000000,J15<=5000000000),30,35)))) -> 5 | X15: =IF(J15<=450000,0,IF(AND(J15>450000,J15<=2500000),0.5,0)) -> 0 | Y15: =IF(J15<=50000000,0,IF(AND(J15>50000000,J15<=100000000),5,IF(AND(J15>100000000,J15<=500000000),15,25))) -> 0 | Z15: =IF(J15<=50000000,0,5) -> 0
C16: 2025 | D16: 3375025204040001 | F16: TK/0 | G16: N/A | I16: =IF(Table1[[#This Row],[Kode Objek Pajak]]<>"",VLOOKUP(Table1[[#This Row],[Kode Objek Pajak]],REF!$A$1:$B$33,2,FALSE),"") | K16: =VLOOKUP(H16,REF!$A$2:$D$33,3,0) -> #N/A | L16: =IF(S16="TER",IF(OR(F16="TK/0",F16="TK/1",F16="K/0",F16="HB/0",F16="HB/1"),T16,IF(OR(F16="TK/2",F16="TK/3",F16="K/1",F16="K/2",F16="HB/2",F16="HB/3"),U16,V16)),IF(S16="PS17",W16,IF(S16="HARIAN",X16,IF(S16="PESANGON",Y16,IF(S16="PENSIUN",Z16,S16))))) -> #N/A | M16: Other | P16: 0410414049526000000000 | R16: =5/100*Table1[[#This Row],[Penghasilan]] -> 0 | S16: =VLOOKUP(H16,REF!$A$2:$D$43,4,0) -> #N/A | T16: =IF(J16<=5400000,0,IF(AND(J16>5400001,J16<=5650000),0.25,IF(AND(J16>5650001,J16<=5950000),0.5,IF(AND(J16>5950001,J16<=6300000),0.75,IF(AND(J16>6300001,J16<=6750000),1,IF(AND(J16>6750001,J16<=7500000),1.25,IF(AND(J16>7500001,J16<=8550000),1.5,IF(AND(J16>8550001,J16<=9650000),1.75,IF(AND(J16>9650001,J16<=10050000),2,IF(AND(J16>10050001,J16<=10350000),2.25,IF(AND(J16>10350001,J16<=10700000),2.5,IF(AND(J16>10700001,J16<=11050000),3,IF(AND(J16>11050001,J16<=11600000),3.5,IF(AND(J16>11600001,J16<=12500000),4,IF(AND(J16>12500001,J16<=13750000),5,IF(AND(J16>13750001,J16<=15100000),6,IF(AND(J16>15100001,J16<=16950000),7,IF(AND(J16>16950001,J16<=19750000),8,IF(AND(J16>19750001,J16<=24150000),9,IF(AND(J16>24150001,J16<=26450000),10,IF(AND(J16>26450001,J16<=28000000),11,IF(AND(J16>28000001,J16<=30050000),12,IF(AND(J16>30050001,J16<=32400000),13,IF(AND(J16>32400001,J16<=35400000),14,IF(AND(J16>35400001,J16<=39100000),15,IF(AND(J16>39100001,J16<=43850000),16,IF(AND(J16>43850001,J16<=47800000),17,IF(AND(J16>47800001,J16<=51400000),18,IF(AND(J16>51400001,J16<=56300000),19,IF(AND(J16>56300001,J16<=62200000),20,IF(AND(J16>62200001,J16<=68600000),21,IF(AND(J16>68600001,J16<=77500000),22,IF(AND(J16>77500001,J16<=89000000),23,IF(AND(J16>89000001,J16<=103000000),24,IF(AND(J16>103000001,J16<=125000000),25,IF(AND(J16>125000001,J16<=157000000),26,IF(AND(J16>157000001,J16<=206000000),27,IF(AND(J16>206000001,J16<=337000000),28,IF(AND(J16>337000001,J16<=454000000),29,IF(AND(J16>454000001,J16<=550000000),30,IF(AND(J16>550000001,J16<=695000000),31,IF(AND(J16>695000001,J16<=910000000),32,IF(AND(J16>910000001,J16<=1400000000),33,34))))))))))))))))))))))))))))))))))))))))))) -> 0 | U16: =IF(J16<=6200000,0,IF(AND(J16>6200001,J16<=6500000),0.25,IF(AND(J16>6500001,J16<=6850000),0.5,IF(AND(J16>6850001,J16<=7300000),0.75,IF(AND(J16>7300001,J16<=9200000),1,IF(AND(J16>9200001,J16<=10750000),1.5,IF(AND(J16>10750001,J16<=11250000),2,IF(AND(J16>11250001,J16<=11600000),2.5,IF(AND(J16>11600001,J16<=12600000),3,IF(AND(J16>12600001,J16<=13600000),4,IF(AND(J16>13600001,J16<=14950000),5,IF(AND(J16>14950001,J16<=16400000),6,IF(AND(J16>16400001,J16<=18450000),7,IF(AND(J16>18450001,J16<=21850000),8,IF(AND(J16>21850001,J16<=26000000),9,IF(AND(J16>26000001,J16<=27700000),10,IF(AND(J16>27700001,J16<=29350000),11,IF(AND(J16>29350001,J16<=31450000),12,IF(AND(J16>31450001,J16<=33950000),13,IF(AND(J16>33950001,J16<=37100000),14,IF(AND(J16>37100001,J16<=41100000),15,IF(AND(J16>41100001,J16<=45800000),16,IF(AND(J16>45800001,J16<=49500000),17,IF(AND(J16>49500001,J16<=53800000),18,IF(AND(J16>53800001,J16<=58500000),19,IF(AND(J16>58500001,J16<=64000000),20,IF(AND(J16>64000001,J16<=71000000),21,IF(AND(J16>71000001,J16<=80000000),22,IF(AND(J16>80000001,J16<=93000000),23,IF(AND(J16>93000001,J16<=109000000),24,IF(AND(J16>109000001,J16<=129000000),25,IF(AND(J16>129000001,J16<=163000000),26,IF(AND(J16>163000001,J16<=211000000),27,IF(AND(J16>211000001,J16<=374000000),28,IF(AND(J16>374000001,J16<=459000000),29,IF(AND(J16>459000001,J16<=555000000),30,IF(AND(J16>555000001,J16<=704000000),31,IF(AND(J16>704000001,J16<=957000000),32,IF(AND(J16>957000001,J16<=1405000000),33,34))))))))))))))))))))))))))))))))))))))) -> 0 | V16: =IF(J16<=6600000,0,IF(AND(J16>6600001,J16<=6950000),0.25,IF(AND(J16>6950001,J16<=7350000),0.5,IF(AND(J16>7350001,J16<=7800000),0.75,IF(AND(J16>7800001,J16<=8850000),1,IF(AND(J16>8850001,J16<=9800000),1.25,IF(AND(J16>9800001,J16<=10950000),1.5,IF(AND(J16>10950001,J16<=11200000),1.75,IF(AND(J16>11200001,J16<=12050000),2,IF(AND(J16>12050001,J16<=12950000),3,IF(AND(J16>12950001,J16<=14150000),4,IF(AND(J16>14150001,J16<=15550000),5,IF(AND(J16>15550001,J16<=17050000),6,IF(AND(J16>17050001,J16<=19500000),7,IF(AND(J16>19500001,J16<=22700000),8,IF(AND(J16>22700001,J16<=26600000),9,IF(AND(J16>26600001,J16<=28100000),10,IF(AND(J16>28100001,J16<=30100000),11,IF(AND(J16>30100001,J16<=32600000),12,IF(AND(J16>32600001,J16<=35400000),13,IF(AND(J16>35400001,J16<=38900000),14,IF(AND(J16>38900001,J16<=43000000),15,IF(AND(J16>43000001,J16<=47400000),16,IF(AND(J16>47400001,J16<=51200000),17,IF(AND(J16>51200001,J16<=55800000),18,IF(AND(J16>55800001,J16<=60400000),19,IF(AND(J16>60400001,J16<=66700000),20,IF(AND(J16>66700001,J16<=74500000),21,IF(AND(J16>74500001,J16<=83200000),22,IF(AND(J16>83200001,J16<=95600000),23,IF(AND(J16>95600001,J16<=110000000),24,IF(AND(J16>110000001,J16<=134000000),25,IF(AND(J16>134000001,J16<=169000000),26,IF(AND(J16>169000001,J16<=221000000),27,IF(AND(J16>221000001,J16<=390000000),28,IF(AND(J16>390000001,J16<=463000000),29,IF(AND(J16>463000001,J16<=561000000),30,IF(AND(J16>561000001,J16<=709000000),31,IF(AND(J16>709000001,J16<=965000000),32,IF(AND(J16>965000001,J16<=1419000000),33,34)))))))))))))))))))))))))))))))))))))))) -> 0 | W16: =IF(J16<=60000000,5,IF(AND(J16>60000000,J16<=250000000),15,IF(AND(J16>250000000,J16<=500000000),25,IF(AND(J16>500000000,J16<=5000000000),30,35)))) -> 5 | X16: =IF(J16<=450000,0,IF(AND(J16>450000,J16<=2500000),0.5,0)) -> 0 | Y16: =IF(J16<=50000000,0,IF(AND(J16>50000000,J16<=100000000),5,IF(AND(J16>100000000,J16<=500000000),15,25))) -> 0 | Z16: =IF(J16<=50000000,0,5) -> 0
I17: =IF(Table1[[#This Row],[Kode Objek Pajak]]<>"",VLOOKUP(Table1[[#This Row],[Kode Objek Pajak]],REF!$A$1:$B$33,2,FALSE),"") | K17: =VLOOKUP(H17,REF!$A$2:$D$33,3,0) -> #N/A | L17: =IF(S17="TER",IF(OR(F17="TK/0",F17="TK/1",F17="K/0",F17="HB/0",F17="HB/1"),T17,IF(OR(F17="TK/2",F17="TK/3",F17="K/1",F17="K/2",F17="HB/2",F17="HB/3"),U17,V17)),IF(S17="PS17",W17,IF(S17="HARIAN",X17,IF(S17="PESANGON",Y17,IF(S17="PENSIUN",Z17,S17))))) -> 0
I18: =IF(Table1[[#This Row],[Kode Objek Pajak]]<>"",VLOOKUP(Table1[[#This Row],[Kode Objek Pajak]],REF!$A$1:$B$33,2,FALSE),"") | K18: =VLOOKUP(H18,REF!$A$2:$D$33,3,0) -> #N/A | L18: =IF(S18="TER",IF(OR(F18="TK/0",F18="TK/1",F18="K/0",F18="HB/0",F18="HB/1"),T18,IF(OR(F18="TK/2",F18="TK/3",F18="K/1",F18="K/2",F18="HB/2",F18="HB/3"),U18,V18)),IF(S18="PS17",W18,IF(S18="HARIAN",X18,IF(S18="PESANGON",Y18,IF(S18="PENSIUN",Z18,S18))))) -> 0
I19: =IF(Table1[[#This Row],[Kode Objek Pajak]]<>"",VLOOKUP(Table1[[#This Row],[Kode Objek Pajak]],REF!$A$1:$B$33,2,FALSE),"") | K19: =VLOOKUP(H19,REF!$A$2:$D$33,3,0) -> #N/A | L19: =IF(S19="TER",IF(OR(F19="TK/0",F19="TK/1",F19="K/0",F19="HB/0",F19="HB/1"),T19,IF(OR(F19="TK/2",F19="TK/3",F19="K/1",F19="K/2",F19="HB/2",F19="HB/3"),U19,V19)),IF(S19="PS17",W19,IF(S19="HARIAN",X19,IF(S19="PESANGON",Y19,IF(S19="PENSIUN",Z19,S19))))) -> 0
I20: =IF(Table1[[#This Row],[Kode Objek Pajak]]<>"",VLOOKUP(Table1[[#This Row],[Kode Objek Pajak]],REF!$A$1:$B$33,2,FALSE),"") | K20: =VLOOKUP(H20,REF!$A$2:$D$33,3,0) -> #N/A | L20: =IF(S20="TER",IF(OR(F20="TK/0",F20="TK/1",F20="K/0",F20="HB/0",F20="HB/1"),T20,IF(OR(F20="TK/2",F20="TK/3",F20="K/1",F20="K/2",F20="HB/2",F20="HB/3"),U20,V20)),IF(S20="PS17",W20,IF(S20="HARIAN",X20,IF(S20="PESANGON",Y20,IF(S20="PENSIUN",Z20,S20))))) -> 0
I21: =IF(Table1[[#This Row],[Kode Objek Pajak]]<>"",VLOOKUP(Table1[[#This Row],[Kode Objek Pajak]],REF!$A$1:$B$33,2,FALSE),"") | K21: =VLOOKUP(H21,REF!$A$2:$D$33,3,0) -> #N/A | L21: =IF(S21="TER",IF(OR(F21="TK/0",F21="TK/1",F21="K/0",F21="HB/0",F21="HB/1"),T21,IF(OR(F21="TK/2",F21="TK/3",F21="K/1",F21="K/2",F21="HB/2",F21="HB/3"),U21,V21)),IF(S21="PS17",W21,IF(S21="HARIAN",X21,IF(S21="PESANGON",Y21,IF(S21="PENSIUN",Z21,S21))))) -> 0
I22: =IF(Table1[[#This Row],[Kode Objek Pajak]]<>"",VLOOKUP(Table1[[#This Row],[Kode Objek Pajak]],REF!$A$1:$B$33,2,FALSE),"") | K22: =VLOOKUP(H22,REF!$A$2:$D$33,3,0) -> #N/A | L22: =IF(S22="TER",IF(OR(F22="TK/0",F22="TK/1",F22="K/0",F22="HB/0",F22="HB/1"),T22,IF(OR(F22="TK/2",F22="TK/3",F22="K/1",F22="K/2",F22="HB/2",F22="HB/3"),U22,V22)),IF(S22="PS17",W22,IF(S22="HARIAN",X22,IF(S22="PESANGON",Y22,IF(S22="PENSIUN",Z22,S22))))) -> 0
I23: =IF(Table1[[#This Row],[Kode Objek Pajak]]<>"",VLOOKUP(Table1[[#This Row],[Kode Objek Pajak]],REF!$A$1:$B$33,2,FALSE),"") | K23: =VLOOKUP(H23,REF!$A$2:$D$33,3,0) -> #N/A | L23: =IF(S23="TER",IF(OR(F23="TK/0",F23="TK/1",F23="K/0",F23="HB/0",F23="HB/1"),T23,IF(OR(F23="TK/2",F23="TK/3",F23="K/1",F23="K/2",F23="HB/2",F23="HB/3"),U23,V23)),IF(S23="PS17",W23,IF(S23="HARIAN",X23,IF(S23="PESANGON",Y23,IF(S23="PENSIUN",Z23,S23))))) -> 0
I24: =IF(Table1[[#This Row],[Kode Objek Pajak]]<>"",VLOOKUP(Table1[[#This Row],[Kode Objek Pajak]],REF!$A$1:$B$33,2,FALSE),"") | K24: =VLOOKUP(H24,REF!$A$2:$D$33,3,0) -> #N/A | L24: =IF(S24="TER",IF(OR(F24="TK/0",F24="TK/1",F24="K/0",F24="HB/0",F24="HB/1"),T24,IF(OR(F24="TK/2",F24="TK/3",F24="K/1",F24="K/2",F24="HB/2",F24="HB/3"),U24,V24)),IF(S24="PS17",W24,IF(S24="HARIAN",X24,IF(S24="PESANGON",Y24,IF(S24="PENSIUN",Z24,S24))))) -> 0
I25: =IF(Table1[[#This Row],[Kode Objek Pajak]]<>"",VLOOKUP(Table1[[#This Row],[Kode Objek Pajak]],REF!$A$1:$B$33,2,FALSE),"") | K25: =VLOOKUP(H25,REF!$A$2:$D$33,3,0) -> #N/A | L25: =IF(S25="TER",IF(OR(F25="TK/0",F25="TK/1",F25="K/0",F25="HB/0",F25="HB/1"),T25,IF(OR(F25="TK/2",F25="TK/3",F25="K/1",F25="K/2",F25="HB/2",F25="HB/3"),U25,V25)),IF(S25="PS17",W25,IF(S25="HARIAN",X25,IF(S25="PESANGON",Y25,IF(S25="PENSIUN",Z25,S25))))) -> 0
I26: =IF(Table1[[#This Row],[Kode Objek Pajak]]<>"",VLOOKUP(Table1[[#This Row],[Kode Objek Pajak]],REF!$A$1:$B$33,2,FALSE),"") | K26: =VLOOKUP(H26,REF!$A$2:$D$33,3,0) -> #N/A | L26: =IF(S26="TER",IF(OR(F26="TK/0",F26="TK/1",F26="K/0",F26="HB/0",F26="HB/1"),T26,IF(OR(F26="TK/2",F26="TK/3",F26="K/1",F26="K/2",F26="HB/2",F26="HB/3"),U26,V26)),IF(S26="PS17",W26,IF(S26="HARIAN",X26,IF(S26="PESANGON",Y26,IF(S26="PENSIUN",Z26,S26))))) -> 0
I27: =IF(Table1[[#This Row],[Kode Objek Pajak]]<>"",VLOOKUP(Table1[[#This Row],[Kode Objek Pajak]],REF!$A$1:$B$33,2,FALSE),"") | K27: =VLOOKUP(H27,REF!$A$2:$D$33,3,0) -> #N/A | L27: =IF(S27="TER",IF(OR(F27="TK/0",F27="TK/1",F27="K/0",F27="HB/0",F27="HB/1"),T27,IF(OR(F27="TK/2",F27="TK/3",F27="K/1",F27="K/2",F27="HB/2",F27="HB/3"),U27,V27)),IF(S27="PS17",W27,IF(S27="HARIAN",X27,IF(S27="PESANGON",Y27,IF(S27="PENSIUN",Z27,S27))))) -> 0
I28: =IF(Table1[[#This Row],[Kode Objek Pajak]]<>"",VLOOKUP(Table1[[#This Row],[Kode Objek Pajak]],REF!$A$1:$B$33,2,FALSE),"") | K28: =VLOOKUP(H28,REF!$A$2:$D$33,3,0) -> #N/A | L28: =IF(S28="TER",IF(OR(F28="TK/0",F28="TK/1",F28="K/0",F28="HB/0",F28="HB/1"),T28,IF(OR(F28="TK/2",F28="TK/3",F28="K/1",F28="K/2",F28="HB/2",F28="HB/3"),U28,V28)),IF(S28="PS17",W28,IF(S28="HARIAN",X28,IF(S28="PESANGON",Y28,IF(S28="PENSIUN",Z28,S28))))) -> 0
... I50: =IF(Table1[[#This Row],[Kode Objek Pajak]]<>"",VLOOKUP(Table1[[#This Row],[Kode Objek Pajak]],REF!$A$1:$B$33,2,FALSE),"") | K50: =VLOOKUP(H50,REF!$A$2:$D$33,3,0) -> #N/A | L50: =IF(S50="TER",IF(OR(F50="TK/0",F50="TK/1",F50="K/0",F50="HB/0",F50="HB/1"),T50,IF(OR(F50="TK/2",F50="TK/3",F50="K/1",F50="K/2",F50="HB/2",F50="HB/3"),U50,V50)),IF(S50="PS17",W50,IF(S50="HARIAN",X50,IF(S50="PESANGON",Y50,IF(S50="PENSIUN",Z50,S50))))) -> 0

Sheet BP21
A1: Kolom pada excel | B1: Kolom pada xml | C1: Petunjuk pengisian | D1: Contoh pengisian | E1: Validasi | F1: Keterangan tambahan
A2: NPWP Pemotong | B2: TIN | C2: Diisi dengan NPWP pemotong | D2: 1234567890123456 | E2: NPWP Pemotong harus sama dengan NPWP login
A3: Masa Pajak | B3: TaxPeriodMonth | C3: Diisi dengan masa pajak pemotongan | D3: 1
A4: Tahun Pajak | B4: TaxPeriodYear | C4: Diisi dengan masa pajak pemotongan | D4: 2025
A5: NPWP | B5: CounterpartTin | C5: Diisi dengan NIK penerima penghasilan | D5: 0987654321098765 | E5: NPWP/NIK wajib valid
A6: ID TKU Penerima Penghasilan | B6: IDPlaceOfBusinessActivityOfIncomeRecipient | C6: Diisi dengan ID TKU penerima penghasilan | D6: 0987654321098765432109
A7: Status PTKP | B7: StatusTaxExemption | C7: Diisi dengan status PTKP penerima penghasilan | D7: TK/3
A8: Fasilitas | B8: TaxCertificate | C8: Diisi dengan fasilitas perpajakan yang digunakan | D8: N/A
A9: Kode Objek Pajak | B9: TaxObjectCode | C9: Diisi dengan kode objek pajak | D9: 21-100-03
A10: Penghasilan | B10: Gross | C10: Diisi dengan penghasilan bruto | D10: 10000000000
A11: Deemed | B11: Deemed | C11: Diisi dengan norma penghasilan bruto | D11: 50 | E11: Jika menggunakan fasilitas perpajakan lainnya, norma dapat diisi tidak sesuai dengan referensi kode objek pajak
A12: Tarif | B12: Rate | C12: Diisi dengan tarif yang sesuai dengan referensi kode objek pajak | D12: 35 | E12: Jika menggunakan fasilitas perpajakan lainnya, tarif dapat diisi tidak sesuai dengan referensi kode objek pajak | F12: Jika tarif menggunakan koma, di export ke xml, excel secara otomatis akan merubah menjadi format desimal menggunakan titik
A13: Jenis Dok. Referensi | B13: Document | C13: Diisi dengan jenis dokumen yang menjadi dasar pemotongan | D13: TaxInvoice
A14: Nomor Dok. Referensi | B14: DocumentNumber | C14: Diisi dengan nomor dokumen dasar pemotongan | D14: 0100012292489165 | E14: Jika Document = TaxInvoice, maka document number wajib nomor faktur pajak yang valid
A15: Tanggal Dok. Referensi | B15: DocumentDate | C15: Diisi dengan tanggal dokumen dasar pemotongan | D15: 45671 | E15: Jika Document = TaxInvoice, maka document date wajib sesuai dengan tanggal faktur pajak | F15: Saat di export ke xml, excel secara otomatis akan merubah menjadi format YYYY-MM-DD
A16: ID TKU Pemotong | B16: IDPlaceOfBusinessActivity | C16: Diisi dengan ID TKU pemotong | D16: 1234567890123456789012
A17: Tanggal Pemotongan | B17: WithholdingDate | C17: Diisi dengan tanggal pemotongan | D17: 45673 | E17: Tanggal pemotongan tidak boleh lebih rendah dari masa/tahun pajak bukti potong | F17: Saat di export ke xml, excel secara otomatis akan merubah menjadi format YYYY-MM-DD

Sheet REF
A1: Kode Objek Pajak | B1: Nama Objek Pajak | C1: Deemed | D1: Tarif | G1: Kode Fasilitas | H1: Nama Fasilitas
A2: 21-100-35 | B2: Upah Pegawai Tidak Tetap yang Dibayarkan secara Bulanan | C2: 100 | D2: TER | G2: N/A | H2: Tanpa Fasilitas
A3: 21-100-10 | B3: Honorarium atau Imbalan kepada Anggota Dewan Komisaris atau Dewan Pengawas yang Menerima Imbalan secara Tidak Teratur | C3: 100 | D3: TER | G3: TaxExAr21 | H3: Surat Keterangan Bebas (SKB) Pemotongan PPh Pasal 21
A4: 21-100-27 | B4: Upah Pegawai Tidak Tetap yang Dibayarkan secara Bulanan yang Mendapat Fasilitas di Daerah Tertentu | C4: 100 | D4: TER | G4: DTP | H4: PPh Ditanggung Pemerintah (DTP)
A5: 21-100-07 | B5: Imbalan kepada Tenaga Ahli (Pengacara, Akuntan, Arsitek, Dokter, Konsultan, Notaris, Pejabat Pembuat Akte Tanah, Penilai, Aktuaris) | C5: 50 | D5: PS17 | G5: ETC | H5: Fasilitas Lainnya
A6: 21-100-18 | B6: Imbalan kepada Penasihat, Pengajar, Pelatih, Penceramah, Penyuluh, dan Moderator | C6: 50 | D6: PS17
A7: 21-100-19 | B7: Imbalan kepada Pengarang, Peneliti, Penerjemah | C7: 50 | D7: PS17
A8: 21-100-20 | B8: Imbalan kepada Pemberi Jasa dalam Segala Bidang | C8: 50 | D8: PS17 | G8: Kode Dokumen | H8: Nama Dokumen Referensi
A9: 21-100-21 | B9: Imbalan kepada Agen Iklan | C9: 50 | D9: PS17 | G9: Announcement | H9: Pengumuman
A10: 21-100-22 | B10: Imbalan kepada Pengawas atau Pengelola Proyek | C10: 50 | D10: PS17 | G10: CommercialInvoice | H10: Surat Tagihan
A11: 21-100-23 | B11: Imbalan kepada Pembawa Pesanan atau yang Menemukan Langganan atau yang Menjadi Perantara | C11: 50 | D11: PS17 | G11: Contract | H11: Kontrak
A12: 21-100-06 | B12: Imbalan kepada Petugas Penjaja Barang Dagangan | C12: 50 | D12: PS17 | G12: CurrentAccount | H12: Jasa Giro
A13: 21-100-05 | B13: Imbalan kepada Agen Asuransi | C13: 50 | D13: PS17 | G13: Decree | H13: Decree
A14: 21-100-04 | B14: Imbalan kepada Distributor Perusahaan Pemasaran Berjenjang atau Penjualan Langsung dan Kegiatan Sejenis Lainnya | C14: 50 | D14: PS17 | G14: DeedOfEngagement | H14: Akta Perjanjian
A15: 21-100-30 | B15: Upah Pegawai Tidak Tetap yang Dibayarkan secara Harian, Mingguan, Satuan dan Borongan dengan Penghasilan Bruto lebih dari Rp2.500.000 Sehari | C15: 50 | D15: PS17 | G15: DeedOfGeneral | H15: Akta RUPS
A16: 21-100-31 | B16: Upah Pegawai Tidak Tetap yang Dibayarkan secara Harian, Mingguan, Satuan dan Borongan dengan Penghasilan Bruto lebih dari Rp2.500.000 Sehari yang Mendapat Fasilitas di Daerah Tertentu | C16: 50 | D16: PS17 | G16: Other | H16: Lainnya
A17: 21-100-12 | B17: Uang Manfaat Pensiun atau Penghasilan Sejenisnya yang diambil sebagian oleh Peserta Program Pensiun yang Masih Berstatus sebagai Pegawai | C17: 100 | D17: PS17 | G17: OtherFacilityDoc | H17: Dokumen Fasilitas Lainnya
A18: 21-100-36 | B18: Imbalan kepada Peserta Perlombaan dalam Segala Bidang, antara lain Perlombaan Olah Raga, Seni, Ketangkasan, Ilmu Pengetahuan, Teknologi, dan Perlombaan Lainnya | C18: 100 | D18: PS17 | G18: PaymentProof | H18: Bukti Pembayaran
A19: 21-100-14 | B19: Imbalan kepada Peserta Rapat, Konferensi, Sidang, Pertemuan, Kunjungan Kerja, Seminar, Lokakarya, atau Pertunjukan, atau Kegiatan Tertentu Lainnya | C19: 100 | D19: PS17 | G19: StatementLetter | H19: Surat Pernyataan
... A22: 21-100-17 | B22: Imbalan kepada Peserta Kegiatan Lainnya | C22: 100 | D22: PS17 | G22: TradeConfirmation | H22: Trade Confirmation
A23: 21-100-25 | B23: Penghasilan berupa Uang Pesangon, Uang Manfaat Pensiun, Tunjangan Hari Tua, atau Jaminan Hari Tua yang Terutang atau Dibayarkan pada Tahun Ketiga dan Tahun-Tahun Berikutnya | C23: 100 | D23: PS17
A24: 21-100-33 | B24: Imbalan kepada Pemain Musik, Pembawa Acara, Penyanyi, Pelawak, Bintang Film, Bintang Sinetron, Bintang Iklan, Sutradara, Kru Film, Foto Model, Peragawan/Peragawati, Pemain Drama, Penari, Pemahat, Pelukis, Pembuat/Pencipta Konten pada Media yang Dibagikan secara Daring (Influencer, Selebgram, Blogger, Vlogger, dan Sejenis Lainnya), dan Seniman Lainnya | C24: 50 | D24: PS17
A25: 21-100-34 | B25: Imbalan yang Diterima oleh Olahragawan | C25: 50 | D25: PS17 | G25: Status PTKP
A26: 21-100-24 | B26: Upah Pegawai Tidak Tetap yang Dibayarkan secara Harian, Mingguan, Satuan dan Borongan dengan Penghasilan Bruto sampai dengan Rp2.500.000 Sehari | C26: 100 | D26: HARIAN | G26: TK/0
A27: 21-100-29 | B27: Upah Pegawai Tidak Tetap yang Dibayarkan secara Harian, Mingguan, Satuan dan Borongan dengan Penghasilan Bruto sampai dengan Rp2.500.000 Sehari yang Mendapat Fasilitas di Daerah Tertentu | C27: 100 | D27: HARIAN | G27: TK/1
A28: 21-402-04 | B28: Honor atau Imbalan Lain yang Dibebankan kepada APBN atau APBD yang Diterima oleh PNS Golongan I dan Golongan II, Anggota TNI dan Anggota POLRI Golongan Pangkat Tamtama dan Bintara, dan Pensiunannya | C28: 100 | D28: 0 | G28: TK/2
A29: 21-402-02 | B29: Honor atau Imbalan Lain yang Dibebankan kepada APBN atau APBD yang Diterima oleh PNS Golongan III, Anggota TNI dan Anggota POLRI Golongan Pangkat Perwira Pertama, dan Pensiunannya | C29: 100 | D29: 5 | G29: TK/3
A30: 21-402-03 | B30: Honor atau Imbalan Lain yang Dibebankan kepada APBN atau APBD yang Diterima oleh Pejabat Negara, PNS Golongan IV, Anggota TNI dan Anggota POLRI Golongan Pangkat Perwira Menengah dan Perwira Tinggi, dan Pensiunannya | C30: 100 | D30: 15 | G30: K/0
A31: 21-401-01 | B31: Uang Pesangon yang Dibayarkan Sekaligus | C31: 100 | D31: PESANGON | G31: K/1
A32: 21-401-02 | B32: Uang Manfaat Pensiun, Tunjangan Hari Tua, atau Jaminan Hari Tua yang Dibayarkan Sekaligus | C32: 100 | D32: PENSIUN | G32: K/2
A33: 21-100-37 | B33: Penghasilan yang Diterima atau Diperoleh Pegawai Tetap di Daerah Tertentu yang Tidak Memenuhi Persyaratan Fasilitas | C33: 100 | D33: TER | G33: K/3
