Workbook

Sheet DATA
A1: NPWP Pemotong | C1: 0410414049526000
B2: KOSONGI | D2: NIK PENERIMA | E2: KOSONGI | F2: ABAIKAN | G2: ABAIKAN | H2: MOHON MELIHAT KOLOM REF | I2: OTOMATIS | J2: BRUTO | K2: ABAIKAN | L2: ABAIKAN | M2: ABAIKAN | N2: UNIT PEMOHON | O2: TANGGAL SPJ | P2: ABAIKAN | Q2: ABAIKAN | S2: ABAIKAN | T2: ABAIKAN | U2: ABAIKAN | V2: ABAIKAN | W2: ABAIKAN | X2: ABAIKAN | Y2: ABAIKAN | Z2: ABAIKAN
B3: Masa Pajak | C3: Tahun Pajak | D3: NIK | E3: ID TKU Penerima Penghasilan | F3: Status PTKP | G3: Fasilitas | H3: Kode Objek Pajak | I3: Nama Objek Pajak | J3: Penghasilan | K3: Deemed | L3: Tarif | M3: Jenis Dok. Referensi | N3: Nomor Dok. Referensi | O3: Tanggal Dok. Referensi | P3: ID TKU Pemotong | Q3: Tanggal Pemotongan | R3: PAJAK | T3: TER A | U3: TER B | V3: TER C | W3: PS17 | X3: HARIAN | Y3: PESANGON | Z3: PENSIUN
C4: 2025 | D4: 3501042702030002 | F4: TK/0 | G4: N/A | I4: =IF(Table1[[#This Row],[Kode Objek Pajak]]<>"",VLOOKUP(Table1[[#This Row],[Kode Objek Pajak]],REF!$A$1:$B$33,2,FALSE),"") | K4: =VLOOKUP(H4,REF!$A$2:$D$33,3,0) -> #N/A | L4: =IF(S4="TER",IF(OR(F4="TK/0",F4="TK/1",F4="K/0",F4="HB/0",F4="HB/1"),T4,IF(OR(F4="TK/2",F4="TK/3",F4="K/1",F4="K/2",F4="HB/2",F4="HB/3"),U4,V4)),IF(S4="PS17",W4,IF(S4="HARIAN",X4,IF(S4="PESANGON",Y4,IF(S4="PENSIUN",Z4,S4))))) -> #N/A | M4: Other | P4: 0410414049526000000000 | R4: =5/100*Table1[[#This Row],[Penghasilan]] -> 0 | S4: =VLOOKUP(H4,REF!$A$2:$D$43,4,0) -> #N/A | T4: =IF(J4<=5400000,0,IF(AND(J4>5400001,J4<=5650000),0.25,IF(AND(J4>5650001,J4<=5950000),0.5,IF(AND(J4>5950001,J4<=6300000),0.75,IF(AND(J4>6300001,J4<=6750000),1,IF(AND(J4>6750001,J4<=7500000),1.25,IF(AND(J4>7500001,J4<=8550000),1.5,IF(AND(J4>8550001,J4<=9650000),1.75,IF(AND(J4>9650001,J4<=10050000),2,IF(AND(J4>10050001,J4<=10350000),2.25,IF(AND(J4>10350001,J4<=10700000),2.5,IF(AND(J4>10700001,J4<=11050000),3,IF(AND(J4>11050001,J4<=11600000),3.5,IF(AND(J4>11600001,J4<=12500000),4,IF(AND(J4>12500001,J4<=13750000),5,IF(AND(J4>13750001,J4<=15100000),6,IF(AND(J4>15100001,J4<=16950000),7,IF(AND(J4>16950001,J4<=19750000),8,IF(AND(J4>19750001,J4<=24150000),9,IF(AND(J4>24150001,J4<=26450000),10,IF(AND(J4>26450001,J4<=28000000),11,IF(AND(J4>28000001,J4<=30050000),12,IF(AND(J4>30050001,J4<=32400000),13,IF(AND(J4>32400001,J4<=35400000),14,IF(AND(J4>35400001,J4<=39100000),15,IF(AND(J4>39100001,J4<=43850000),16,IF(AND(J4>43850001,J4<=47800000),17,IF(AND(J4>47800001,J4<=51400000),18,IF(AND(J4>51400001,J4<=56300000),19,IF(AND(J4>56300001,J4<=62200000),20,IF(AND(J4>62200001,J4<=68600000),21,IF(AND(J4>68600001,J4<=77500000),22,IF(AND(J4>77500001,J4<=89000000),23,IF(AND(J4>89000001,J4<=103000000),24,IF(AND(J4>103000001,J4<=125000000),25,IF(AND(J4>125000001,J4<=157000000),26,IF(AND(J4>157000001,J4<=206000000),27,IF(AND(J4>206000001,J4<=337000000),28,IF(AND(J4>337000001,J4<=454000000),29,IF(AND(J4>454000001,J4<=550000000),30,IF(AND(J4>550000001,J4<=695000000),31,IF(AND(J4>695000001,J4<=910000000),32,IF(AND(J4>910000001,J4<=1400000000),33,34))))))))))))))))))))))))))))))))))))))))))) -> 0 | U4: =IF(J4<=6200000,0,IF(AND(J4>6200001,J4<=6500000),0.25,IF(AND(J4>6500001,J4<=6850000),0.5,IF(AND(J4>6850001,J4<=7300000),0.75,IF(AND(J4>7300001,J4<=9200000),1,IF(AND(J4>9200001,J4<=10750000),1.5,IF(AND(J4>10750001,J4<=11250000),2,IF(AND(J4>11250001,J4<=11600000),2.5,IF(AND(J4>11600001,J4<=12600000),3,IF(AND(J4>12600001,J4<=13600000),4,IF(AND(J4>13600001,J4<=14950000),5,IF(AND(J4>14950001,J4<=16400000),6,IF(AND(J4>16400001,J4<=18450000),7,IF(AND(J4>18450001,J4<=21850000),8,IF(AND(J4>21850001,J4<=26000000),9,IF(AND(J4>26000001,J4<=27700000),10,IF(AND(J4>27700001,J4<=29350000),11,IF(AND(J4>29350001,J4<=31450000),12,IF(AND(J4>31450001,J4<=33950000),13,IF(AND(J4>33950001,J4<=37100000),14,IF(AND(J4>37100001,J4<=41100000),15,IF(AND(J4>41100001,J4<=45800000),16,IF(AND(J4>45800001,J4<=49500000),17,IF(AND(J4>49500001,J4<=53800000),18,IF(AND(J4>53800001,J4<=58500000),19,IF(AND(J4>58500001,J4<=64000000),20,IF(AND(J4>64000001,J4<=71000000),21,IF(AND(J4>71000001,J4<=80000000),22,IF(AND(J4>80000001,J4<=93000000),23,IF(AND(J4>93000001,J4<=109000000),24,IF(AND(J4>109000001,J4<=129000000),25,IF(AND(J4>129000001,J4<=163000000),26,IF(AND(J4>163000001,J4<=211000000),27,IF(AND(J4>211000001,J4<=374000000),28,IF(AND(J4>374000001,J4<=459000000),29,IF(AND(J4>459000001,J4<=555000000),30,IF(AND(J4>555000001,J4<=704000000),31,IF(AND(J4>704000001,J4<=957000000),32,IF(AND(J4>957000001,J4<=1405000000),33,34))))))))))))))))))))))))))))))))))))))) -> 0 | V4: =IF(J4<=6600000,0,IF(AND(J4>6600001,J4<=6950000),0.25,IF(AND(J4>6950001,J4<=7350000),0.5,IF(AND(J4>7350001,J4<=7800000),0.75,IF(AND(J4>7800001,J4<=8850000),1,IF(AND(J4>8850001,J4<=9800000),1.25,IF(AND(J4>9800001,J4<=10950000),1.5,IF(AND(J4>10950001,J4<=11200000),1.75,IF(AND(J4>11200001,J4<=12050000),2,IF(AND(J4>12050001,J4<=12950000),3,IF(AND(J4>12950001,J4<=14150000),4,IF(AND(J4>14150001,J4<=15550000),5,IF(AND(J4>15550001,J4<=17050000),6,IF(AND(J4>17050001,J4<=19500000),7,IF(AND(J4>19500001,J4<=22700000),8,IF(AND(J4>22700001,J4<=26600000),9,IF(AND(J4>26600001,J4<=28100000),10,IF(AND(J4>28100001,J4<=30100000),11,IF(AND(J4>30100001,J4<=32600000),12,IF(AND(J4>32600001,J4<=35400000),13,IF(AND(J4>35400001,J4<=38900000),14,IF(AND(J4>38900001,J4<=43000000),15,IF(AND(J4>43000001,J4<=47400000),16,IF(AND(J4>47400001,J4<=51200000),17,IF(AND(J4>51200001,J4<=55800000),18,IF(AND(J4>55800001,J4<=60400000),19,IF(AND(J4>60400001,J4<=66700000),20,IF(AND(J4>66700001,J4<=74500000),21,IF(AND(J4>74500001,J4<=83200000),22,IF(AND(J4>83200001,J4<=95600000),23,IF(AND(J4>95600001,J4<=110000000),24,IF(AND(J4>110000001,J4<=134000000),25,IF(AND(J4>134000001,J4<=169000000),26,IF(AND(J4>169000001,J4<=221000000),27,IF(AND(J4>221000001,J4<=390000000),28,IF(AND(J4>390000001,J4<=463000000),29,IF(AND(J4>463000001,J4<=561000000),30,IF(AND(J4>561000001,J4<=709000000),31,IF(AND(J4>709000001,J4<=965000000),32,IF(AND(J4>965000001,J4<=1419000000),33,34)))))))))))))))))))))))))))))))))))))))) -> 0 | W4: =IF(J4<=60000000,5,IF(AND(J4>60000000,J4<=250000000),15,IF(AND(J4>250000000,J4<=500000000),25,IF(AND(J4>500000000,J4<=5000000000),30,35)))) -> 5 | X4: =IF(J4<=450000,0,IF(AND(J4>450000,J4<=2500000),0.5,0)) -> 0 | Y4: =IF(J4<=50000000,0,IF(AND(J4>50000000,J4<=100000000),5,IF(AND(J4>100000000,J4<=500000000),15,25))) -> 0 | Z4: =IF(J4<=50000000,0,5) -> 0
C5: 2025 | D5: 3373020609030002 | F5: TK/0 | G5: N/A | I5: =IF(Table1[[#This Row],[Kode Objek Pajak]]<>"",VLOOKUP(Table1[[#This Row],[Kode Objek Pajak]],REF!$A$1:$B$33,2,FALSE),"") | K5: =VLOOKUP(H5,REF!$A$2:$D$33,3,0) -> #N/A | L5: =IF(S5="TER",IF(OR(F5="TK/0",F5="TK/1",F5="K/0",F5="HB/0",F5="HB/1"),T5,IF(OR(F5="TK/2",F5="TK/3",F5="K/1",F5="K/2",F5="HB/2",F5="HB/3"),U5,V5)),IF(S5="PS17",W5,IF(S5="HARIAN",X5,IF(S5="PESANGON",Y5,IF(S5="PENSIUN",Z5,S5))))) -> #N/A | M5: Other | P5: 0410414049526000000000 | R5: =5/100*Table1[[#This Row],[Penghasilan]] -> 0 | S5: =VLOOKUP(H5,REF!$A$2:$D$43,4,0) -> #N/A | T5: =IF(J5<=5400000,0,IF(AND(J5>5400001,J5<=5650000),0.25,IF(AND(J5>5650001,J5<=5950000),0.5,IF(AND(J5>5950001,J5<=6300000),0.75,IF(AND(J5>6300001,J5<=6750000),1,IF(AND(J5>6750001,J5<=7500000),1.25,IF(AND(J5>7500001,J5<=8550000),1.5,IF(AND(J5>8550001,J5<=9650000),1.75,IF(AND(J5>9650001,J5<=10050000),2,IF(AND(J5>10050001,J5<=10350000),2.25,IF(AND(J5>10350001,J5<=10700000),2.5,IF(AND(J5>10700001,J5<=11050000),3,IF(AND(J5>11050001,J5<=11600000),3.5,IF(AND(J5>11600001,J5<=12500000),4,IF(AND(J5>12500001,J5<=13750000),5,IF(AND(J5>13750001,J5<=15100000),6,IF(AND(J5>15100001,J5<=16950000),7,IF(AND(J5>16950001,J5<=19750000),8,IF(AND(J5>19750001,J5<=24150000),9,IF(AND(J5>24150001,J5<=26450000),10,IF(AND(J5>26450001,J5<=28000000),11,IF(AND(J5>28000001,J5<=30050000),12,IF(AND(J5>30050001,J5<=32400000),13,IF(AND(J5>32400001,J5<=35400000),14,IF(AND(J5>35400001,J5<=39100000),15,IF(AND(J5>39100001,J5<=43850000),16,IF(AND(J5>43850001,J5<=47800000),17,IF(AND(J5>47800001,J5<=51400000),18,IF(AND(J5>51400001,J5<=56300000),19,IF(AND(J5>56300001,J5<=62200000),20,IF(AND(J5>62200001,J5<=68600000),21,IF(AND(J5>68600001,J5<=77500000),22,IF(AND(J5>77500001,J5<=89000000),23,IF(AND(J5>89000001,J5<=103000000),24,IF(AND(J5>103000001,J5<=125000000),25,IF(AND(J5>125000001,J5<=157000000),26,IF(AND(J5>157000001,J5<=206000000),27,IF(AND(J5>206000001,J5<=337000000),28,IF(AND(J5>337000001,J5<=454000000),29,IF(AND(J5>454000001,J5<=550000000),30,IF(AND(J5>550000001,J5<=695000000),31,IF(AND(J5>695000001,J5<=910000000),32,IF(AND(J5>910000001,J5<=1400000000),33,34))))))))))))))))))))))))))))))))))))))))))) -> 0 | U5: =IF(J5<=6200000,0,IF(AND(J5>6200001,J5<=6500000),0.25,IF(AND(J5>6500001,J5<=6850000),0.5,IF(AND(J5>6850001,J5<=7300000),0.75,IF(AND(J5>7300001,J5<=9200000),1,IF(AND(J5>9200001,J5<=10750000),1.5,IF(AND(J5>10750001,J5<=11250000),2,IF(AND(J5>11250001,J5<=11600000),2.5,IF(AND(J5>11600001,J5<=12600000),3,IF(AND(J5>12600001,J5<=13600000),4,IF(AND(J5>13600001,J5<=14950000),5,IF(AND(J5>14950001,J5<=16400000),6,IF(AND(J5>16400001,J5<=18450000),7,IF(AND(J5>18450001,J5<=21850000),8,IF(AND(J5>21850001,J5<=26000000),9,IF(AND(J5>26000001,J5<=27700000),10,IF(AND(J5>27700001,J5<=29350000),11,IF(AND(J5>29350001,J5<=31450000),12,IF(AND(J5>31450001,J5<=33950000),13,IF(AND(J5>33950001,J5<=37100000),14,IF(AND(J5>37100001,J5<=41100000),15,IF(AND(J5>41100001,J5<=45800000),16,IF(AND(J5>45800001,J5<=49500000),17,IF(AND(J5>49500001,J5<=53800000),18,IF(AND(J5>53800001,J5<=58500000),19,IF(AND(J5>58500001,J5<=64000000),20,IF(AND(J5>64000001,J5<=71000000),21,IF(AND(J5>71000001,J5<=80000000),22,IF(AND(J5>80000001,J5<=93000000),23,IF(AND(J5>93000001,J5<=109000000),24,IF(AND(J5>109000001,J5<=129000000),25,IF(AND(J5>129000001,J5<=163000000),26,IF(AND(J5>163000001,J5<=211000000),27,IF(AND(J5>211000001,J5<=374000000),28,IF(AND(J5>374000001,J5<=459000000),29,IF(AND(J5>459000001,J5<=555000000),30,IF(AND(J5>555000001,J5<=704000000),31,IF(AND(J5>704000001,J5<=957000000),32,IF(AND(J5>957000001,J5<=1405000000),33,34))))))))))))))))))))))))))))))))))))))) -> 0 | V5: =IF(J5<=6600000,0,IF(AND(J5>6600001,J5<=6950000),0.25,IF(AND(J5>6950001,J5<=7350000),0.5,IF(AND(J5>7350001,J5<=7800000),0.75,IF(AND(J5>7800001,J5<=8850000),1,IF(AND(J5>8850001,J5<=9800000),1.25,IF(AND(J5>9800001,J5<=10950000),1.5,IF(AND(J5>10950001,J5<=11200000),1.75,IF(AND(J5>11200001,J5<=12050000),2,IF(AND(J5>12050001,J5<=12950000),3,IF(AND(J5>12950001,J5<=14150000),4,IF(AND(J5>14150001,J5<=15550000),5,IF(AND(J5>15550001,J5<=17050000),6,IF(AND(J5>17050001,J5<=19500000),7,IF(AND(J5>19500001,J5<=22700000),8,IF(AND(J5>22700001,J5<=26600000),9,IF(AND(J5>26600001,J5<=28100000),10,IF(AND(J5>28100001,J5<=30100000),11,IF(AND(J5>30100001,J5<=32600000),12,IF(AND(J5>32600001,J5<=35400000),13,IF(AND(J5>35400001,J5<=38900000),14,IF(AND(J5>38900001,J5<=43000000),15,IF(AND(J5>43000001,J5<=47400000),16,IF(AND(J5>47400001,J5<=51200000),17,IF(AND(J5>51200001,J5<=55800000),18,IF(AND(J5>55800001,J5<=60400000),19,IF(AND(J5>60400001,J5<=66700000),20,IF(AND(J5>66700001,J5<=74500000),21,IF(AND(J5>74500001,J5<=83200000),22,IF(AND(J5>83200001,J5<=95600000),23,IF(AND(J5>95600001,J5<=110000000),24,IF(AND(J5>110000001,J5<=134000000),25,IF(AND(J5>134000001,J5<=169000000),26,IF(AND(J5>169000001,J5<=221000000),27,IF(AND(J5>221000001,J5<=390000000),28,IF(AND(J5>390000001,J5<=463000000),29,IF(AND(J5>463000001,J5<=561000000),30,IF(AND(J5>561000001,J5<=709000000),31,IF(AND(J5>709000001,J5<=965000000),32,IF(AND(J5>965000001,J5<=1419000000),33,34)))))))))))))))))))))))))))))))))))))))) -> 0 | W5: =IF(J5<=60000000,5,IF(AND(J5>60000000,J5<=250000000),15,IF(AND(J5>250000000,J5<=500000000),25,IF(AND(J5>500000000,J5<=5000000000),30,35)))) -> 5 | X5: =IF(J5<=450000,0,IF(AND(J5>450000,J5<=2500000),0.5,0)) -> 0 | Y5: =IF(J5<=50000000,0,IF(AND(J5>50000000,J5<=100000000),5,IF(AND(J5>100000000,J5<=500000000),15,25))) -> 0 | Z5: =IF(J5<=50000000,0,5) -> 0
C6: 2025 | D6: 3372025210030001 | F6: TK/0 | G6: N/A | I6: =IF(Table1[[#This Row],[Kode Objek Pajak]]<>"",VLOOKUP(Table1[[#This Row],[Kode Objek Pajak]],REF!$A$1:$B$33,2,FALSE),"") | K6: =VLOOKUP(H6,REF!$A$2:$D$33,3,0) -> #N/A | L6: =IF(S6="TER",IF(OR(F6="TK/0",F6="TK/1",F6="K/0",F6="HB/0",F6="HB/1"),T6,IF(OR(F6="TK/2",F6="TK/3",F6="K/1",F6="K/2",F6="HB/2",F6="HB/3"),U6,V6)),IF(S6="PS17",W6,IF(S6="HARIAN",X6,IF(S6="PESANGON",Y6,IF(S6="PENSIUN",Z6,S6))))) -> #N/A | M6: Other | P6: 0410414049526000000000 | R6: =5/100*Table1[[#This Row],[Penghasilan]] -> 0 | S6: =VLOOKUP(H6,REF!$A$2:$D$43,4,0) -> #N/A | T6: =IF(J6<=5400000,0,IF(AND(J6>5400001,J6<=5650000),0.25,IF(AND(J6>5650001,J6<=5950000),0.5,IF(AND(J6>5950001,J6<=6300000),0.75,IF(AND(J6>6300001,J6<=6750000),1,IF(AND(J6>6750001,J6<=7500000),1.25,IF(AND(J6>7500001,J6<=8550000),1.5,IF(AND(J6>8550001,J6<=9650000),1.75,IF(AND(J6>9650001,J6<=10050000),2,IF(AND(J6>10050001,J6<=10350000),2.25,IF(AND(J6>10350001,J6<=10700000),2.5,IF(AND(J6>10700001,J6<=11050000),3,IF(AND(J6>11050001,J6<=11600000),3.5,IF(AND(J6>11600001,J6<=12500000),4,IF(AND(J6>12500001,J6<=13750000),5,IF(AND(J6>13750001,J6<=15100000),6,IF(AND(J6>15100001,J6<=16950000),7,IF(AND(J6>16950001,J6<=19750000),8,IF(AND(J6>19750001,J6<=24150000),9,IF(AND(J6>24150001,J6<=26450000),10,IF(AND(J6>26450001,J6<=28000000),11,IF(AND(J6>28000001,J6<=30050000),12,IF(AND(J6>30050001,J6<=32400000),13,IF(AND(J6>32400001,J6<=35400000),14,IF(AND(J6>35400001,J6<=39100000),15,IF(AND(J6>39100001,J6<=43850000),16,IF(AND(J6>43850001,J6<=47800000),17,IF(AND(J6>47800001,J6<=51400000),18,IF(AND(J6>51400001,J6<=56300000),19,IF(AND(J6>56300001,J6<=62200000),20,IF(AND(J6>62200001,J6<=68600000),21,IF(AND(J6>68600001,J6<=77500000),22,IF(AND(J6>77500001,J6<=89000000),23,IF(AND(J6>89000001,J6<=103000000),24,IF(AND(J6>103000001,J6<=125000000),25,IF(AND(J6>125000001,J6<=157000000),26,IF(AND(J6>157000001,J6<=206000000),27,IF(AND(J6>206000001,J6<=337000000),28,IF(AND(J6>337000001,J6<=454000000),29,IF(AND(J6>454000001,J6<=550000000),30,IF(AND(J6>550000001,J6<=695000000),31,IF(AND(J6>695000001,J6<=910000000),32,IF(AND(J6>910000001,J6<=1400000000),33,34))))))))))))))))))))))))))))))))))))))))))) -> 0 | U6: =IF(J6<=6200000,0,IF(AND(J6>6200001,J6<=6500000),0.25,IF(AND(J6>6500001,J6<=6850000),0.5,IF(AND(J6>6850001,J6<=7300000),0.75,IF(AND(J6>7300001,J6<=9200000),1,IF(AND(J6>9200001,J6<=10750000),1.5,IF(AND(J6>10750001,J6<=11250000),2,IF(AND(J6>11250001,J6<=11600000),2.5,IF(AND(J6>11600001,J6<=12600000),3,IF(AND(J6>12600001,J6<=13600000),4,IF(AND(J6>13600001,J6<=14950000),5,IF(AND(J6>14950001,J6<=16400000),6,IF(AND(J6>16400001,J6<=18450000),7,IF(AND(J6>18450001,J6<=21850000),8,IF(AND(J6>21850001,J6<=26000000),9,IF(AND(J6>26000001,J6<=27700000),10,IF(AND(J6>27700001,J6<=29350000),11,IF(AND(J6>29350001,J6<=31450000),12,IF(AND(J6>31450001,J6<=33950000),13,IF(AND(J6>33950001,J6<=37100000),14,IF(AND(J6>37100001,J6<=41100000),15,IF(AND(J6>41100001,J6<=45800000),16,IF(AND(J6>45800001,J6<=49500000),17,IF(AND(J6>49500001,J6<=53800000),18,IF(AND(J6>53800001,J6<=58500000),19,IF(AND(J6>58500001,J6<=64000000),20,IF(AND(J6>64000001,J6<=71000000),21,IF(AND(J6>71000001,J6<=80000000),22,IF(AND(J6>80000001,J6<=93000000),23,IF(AND(J6>93000001,J6<=109000000),24,IF(AND(J6>109000001,J6<=129000000),25,IF(AND(J6>129000001,J6<=163000000),26,IF(AND(J6>163000001,J6<=211000000),27,IF(AND(J6>211000001,J6<=374000000),28,IF(AND(J6>374000001,J6<=459000000),29,IF(AND(J6>459000001,J6<=555000000),30,IF(AND(J6>555000001,J6<=704000000),31,IF(AND(J6>704000001,J6<=957000000),32,IF(AND(J6>957000001,J6<=1405000000),33,34))))))))))))))))))))))))))))))))))))))) -> 0 | V6: =IF(J6<=6600000,0,IF(AND(J6>6600001,J6<=6950000),0.25,IF(AND(J6>6950001,J6<=7350000),0.5,IF(AND(J6>7350001,J6<=7800000),0.75,IF(AND(J6>7800001,J6<=8850000),1,IF(AND(J6>8850001,J6<=9800000),1.25,IF(AND(J6>9800001,J6<=10950000),1.5,IF(AND(J6>10950001,J6<=11200000),1.75,IF(AND(J6>11200001,J6<=12050000),2,IF(AND(J6>12050001,J6<=12950000),3,IF(AND(J6>12950001,J6<=14150000),4,IF(AND(J6>14150001,J6<=15550000),5,IF(AND(J6>15550001,J6<=17050000),6,IF(AND(J6>17050001,J6<=19500000),7,IF(AND(J6>19500001,J6<=22700000),8,IF(AND(J6>22700001,J6<=26600000),9,IF(AND(J6>26600001,J6<=28100000),10,IF(AND(J6>28100001,J6<=30100000),11,IF(AND(J6>30100001,J6<=32600000),12,IF(AND(J6>32600001,J6<=35400000),13,IF(AND(J6>35400001,J6<=38900000),14,IF(AND(J6>38900001,J6<=43000000),15,IF(AND(J6>43000001,J6<=47400000),16,IF(AND(J6>47400001,J6<=51200000),17,IF(AND(J6>51200001,J6<=55800000),18,IF(AND(J6>55800001,J6<=60400000),19,IF(AND(J6>60400001,J6<=66700000),20,IF(AND(J6>66700001,J6<=74500000),21,IF(AND(J6>74500001,J6<=83200000),22,IF(AND(J6>83200001,J6<=95600000),23,IF(AND(J6>95600001,J6<=110000000),24,IF(AND(J6>110000001,J6<=134000000),25,IF(AND(J6>134000001,J6<=169000000),26,IF(AND(J6>169000001,J6<=221000000),27,IF(AND(J6>221000001,J6<=390000000),28,IF(AND(J6>390000001,J6<=463000000),29,IF(AND(J6>463000001,J6<=561000000),30,IF(AND(J6>561000001,J6<=709000000),31,IF(AND(J6>709000001,J6<=965000000),32,IF(AND(J6>965000001,J6<=1419000000),33,34)))))))))))))))))))))))))))))))))))))))) -> 0 | W6: =IF(J6<=60000000,5,IF(AND(J6>60000000,J6<=250000000),15,IF(AND(J6>250000000,J6<=500000000),25,IF(AND(J6>500000000,J6<=5000000000),30,35)))) -> 5 | X6: =IF(J6<=450000,0,IF(AND(J6>450000,J6<=2500000),0.5,0)) -> 0 | Y6: =IF(J6<=50000000,0,IF(AND(J6>50000000,J6<=100000000),5,IF(AND(J6>100000000,J6<=500000000),15,25))) -> 0 | Z6: =IF(J6<=50000000,0,5) -> 0
C7: 2025 | D7: 3512130103040002 | F7: TK/0 | G7: N/A | I7: =IF(Table1[[#This Row],[Kode Objek Pajak]]<>"",VLOOKUP(Table1[[#This Row],[Kode Objek Pajak]],REF!$A$1:$B$33,2,FALSE),"") | K7: =VLOOKUP(H7,REF!$A$2:$D$33,3,0) -> #N/A | L7: =IF(S7="TER",IF(OR(F7="TK/0",F7="TK/1",F7="K/0",F7="HB/0",F7="HB/1"),T7,IF(OR(F7="TK/2",F7="TK/3",F7="K/1",F7="K/2",F7="HB/2",F7="HB/3"),U7,V7)),IF(S7="PS17",W7,IF(S7="HARIAN",X7,IF(S7="PESANGON",Y7,IF(S7="PENSIUN",Z7,S7))))) -> #N/A | M7: Other | P7: 0410414049526000000000 | R7: =5/100*Table1[[#This Row],[Penghasilan]] -> 0 | S7: =VLOOKUP(H7,REF!$A$2:$D$43,4,0) -> #N/A | T7: =IF(J7<=5400000,0,IF(AND(J7>5400001,J7<=5650000),0.25,IF(AND(J7>5650001,J7<=5950000),0.5,IF(AND(J7>5950001,J7<=6300000),0.75,IF(AND(J7>6300001,J7<=6750000),1,IF(AND(J7>6750001,J7<=7500000),1.25,IF(AND(J7>7500001,J7<=8550000),1.5,IF(AND(J7>8550001,J7<=9650000),1.75,IF(AND(J7>9650001,J7<=10050000),2,IF(AND(J7>10050001,J7<=10350000),2.25,IF(AND(J7>10350001,J7<=10700000),2.5,IF(AND(J7>10700001,J7<=11050000),3,IF(AND(J7>11050001,J7<=11600000),3.5,IF(AND(J7>11600001,J7<=12500000),4,IF(AND(J7>12500001,J7<=13750000),5,IF(AND(J7>13750001,J7<=15100000),6,IF(AND(J7>15100001,J7<=16950000),7,IF(AND(J7>16950001,J7<=19750000),8,IF(AND(J7>19750001,J7<=24150000),9,IF(AND(J7>24150001,J7<=26450000),10,IF(AND(J7>26450001,J7<=28000000),11,IF(AND(J7>28000001,J7<=30050000),12,IF(AND(J7>30050001,J7<=32400000),13,IF(AND(J7>32400001,J7<=35400000),14,IF(AND(J7>35400001,J7<=39100000),15,IF(AND(J7>39100001,J7<=43850000),16,IF(AND(J7>43850001,J7<=47800000),17,IF(AND(J7>47800001,J7<=51400000),18,IF(AND(J7>51400001,J7<=56300000),19,IF(AND(J7>56300001,J7<=62200000),20,IF(AND(J7>62200001,J7<=68600000),21,IF(AND(J7>68600001,J7<=77500000),22,IF(AND(J7>77500001,J7<=89000000),23,IF(AND(J7>89000001,J7<=103000000),24,IF(AND(J7>103000001,J7<=125000000),25,IF(AND(J7>125000001,J7<=157000000),26,IF(AND(J7>157000001,J7<=206000000),27,IF(AND(J7>206000001,J7<=337000000),28,IF(AND(J7>337000001,J7<=454000000),29,IF(AND(J7>454000001,J7<=550000000),30,IF(AND(J7>550000001,J7<=695000000),31,IF(AND(J7>695000001,J7<=910000000),32,IF(AND(J7>910000001,J7<=1400000000),33,34))))))))))))))))))))))))))))))))))))))))))) -> 0 | U7: =IF(J7<=6200000,0,IF(AND(J7>6200001,J7<=6500000),0.25,IF(AND(J7>6500001,J7<=6850000),0.5,IF(AND(J7>6850001,J7<=7300000),0.75,IF(AND(J7>7300001,J7<=9200000),1,IF(AND(J7>9200001,J7<=10750000),1.5,IF(AND(J7>10750001,J7<=11250000),2,IF(AND(J7>11250001,J7<=11600000),2.5,IF(AND(J7>11600001,J7<=12600000),3,IF(AND(J7>12600001,J7<=13600000),4,IF(AND(J7>13600001,J7<=14950000),5,IF(AND(J7>14950001,J7<=16400000),6,IF(AND(J7>16400001,J7<=18450000),7,IF(AND(J7>18450001,J7<=21850000),8,IF(AND(J7>21850001,J7<=26000000),9,IF(AND(J7>26000001,J7<=27700000),10,IF(AND(J7>27700001,J7<=29350000),11,IF(AND(J7>29350001,J7<=31450000),12,IF(AND(J7>31450001,J7<=33950000),13,IF(AND(J7>33950001,J7<=37100000),14,IF(AND(J7>37100001,J7<=41100000),15,IF(AND(J7>41100001,J7<=45800000),16,IF(AND(J7>45800001,J7<=49500000),17,IF(AND(J7>49500001,J7<=53800000),18,IF(AND(J7>53800001,J7<=58500000),19,IF(AND(J7>58500001,J7<=64000000),20,IF(AND(J7>64000001,J7<=71000000),21,IF(AND(J7>71000001,J7<=80000000),22,IF(AND(J7>80000001,J7<=93000000),23,IF(AND(J7>93000001,J7<=109000000),24,IF(AND(J7>109000001,J7<=129000000),25,IF(AND(J7>129000001,J7<=163000000),26,IF(AND(J7>163000001,J7<=211000000),27,IF(AND(J7>211000001,J7<=374000000),28,IF(AND(J7>374000001,J7<=459000000),29,IF(AND(J7>459000001,J7<=555000000),30,IF(AND(J7>555000001,J7<=704000000),31,IF(AND(J7>704000001,J7<=957000000),32,IF(AND(J7>957000001,J7<=1405000000),33,34))))))))))))))))))))))))))))))))))))))) -> 0 | V7: =IF(J7<=6600000,0,IF(AND(J7>6600001,J7<=6950000),0.25,IF(AND(J7>6950001,J7<=7350000),0.5,IF(AND(J7>7350001,J7<=7800000),0.75,IF(AND(J7>7800001,J7<=8850000),1,IF(AND(J7>8850001,J7<=9800000),1.25,IF(AND(J7>9800001,J7<=10950000),1.5,IF(AND(J7>10950001,J7<=11200000),1.75,IF(AND(J7>11200001,J7<=12050000),2,IF(AND(J7>12050001,J7<=12950000),3,IF(AND(J7>12950001,J7<=14150000),4,IF(AND(J7>14150001,J7<=15550000),5,IF(AND(J7>15550001,J7<=17050000),6,IF(AND(J7>17050001,J7<=19500000),7,IF(AND(J7>19500001,J7<=22700000),8,IF(AND(J7>22700001,J7<=26600000),9,IF(AND(J7>26600001,J7<=28100000),10,IF(AND(J7>28100001,J7<=30100000),11,IF(AND(J7>30100001,J7<=32600000),12,IF(AND(J7>32600001,J7<=35400000),13,IF(AND(J7>35400001,J7<=38900000),14,IF(AND(J7>38900001,J7<=43000000),15,IF(AND(J7>43000001,J7<=47400000),16,IF(AND(J7>47400001,J7<=51200000),17,IF(AND(J7>51200001,J7<=55800000),18,IF(AND(J7>55800001,J7<=60400000),19,IF(AND(J7>60400001,J7<=66700000),20,IF(AND(J7>66700001,J7<=74500000),21,IF(AND(J7>74500001,J7<=83200000),22,IF(AND(J7>83200001,J7<=95600000),23,IF(AND(J7>95600001,J7<=110000000),24,IF(AND(J7>110000001,J7<=134000000),25,IF(AND(J7>134000001,J7<=169000000),26,IF(AND(J7>169000001,J7<=221000000),27,IF(AND(J7>221000001,J7<=390000000),28,IF(AND(J7>390000001,J7<=463000000),29,IF(AND(J7>463000001,J7<=561000000),30,IF(AND(J7>561000001,J7<=709000000),31,IF(AND(J7>709000001,J7<=965000000),32,IF(AND(J7>965000001,J7<=1419000000),33,34)))))))))))))))))))))))))))))))))))))))) -> 0 | W7: =IF(J7<=60000000,5,IF(AND(J7>60000000,J7<=250000000),15,IF(AND(J7>250000000,J7<=500000000),25,IF(AND(J7>500000000,J7<=5000000000),30,35)))) -> 5 | X7: =IF(J7<=450000,0,IF(AND(J7>450000,J7<=2500000),0.5,0)) -> 0 | Y7: =IF(J7<=50000000,0,IF(AND(J7>50000000,J7<=100000000),5,IF(AND(J7>100000000,J7<=500000000),15,25))) -> 0 | Z7: =IF(J7<=50000000,0,5) -> 0
C8: 2025 | D8: 3311041608030006 | F8: TK/0 | G8: N/A | I8: =IF(Table1[[#This Row],[Kode Objek Pajak]]<>"",VLOOKUP(Table1[[#This Row],[Kode Objek Pajak]],REF!$A$1:$B$33,2,FALSE),"") | K8: =VLOOKUP(H8,REF!$A$2:$D$33,3,0) -> #N/A | L8: =IF(S8="TER",IF(OR(F8="TK/0",F8="TK/1",F8="K/0",F8="HB/0",F8="HB/1"),T8,IF(OR(F8="TK/2",F8="TK/3",F8="K/1",F8="K/2",F8="HB/2",F8="HB/3"),U8,V8)),IF(S8="PS17",W8,IF(S8="HARIAN",X8,IF(S8="PESANGON",Y8,IF(S8="PENSIUN",Z8,S8))))) -> #N/A | M8: Other | P8: 0410414049526000000000 | R8: =5/100*Table1[[#This Row],[Penghasilan]] -> 0 | S8: =VLOOKUP(H8,REF!$A$2:$D$43,4,0) -> #N/A | T8: =IF(J8<=5400000,0,IF(AND(J8>5400001,J8<=5650000),0.25,IF(AND(J8>5650001,J8<=5950000),0.5,IF(AND(J8>5950001,J8<=6300000),0.75,IF(AND(J8>6300001,J8<=6750000),1,IF(AND(J8>6750001,J8<=7500000),1.25,IF(AND(J8>7500001,J8<=8550000),1.5,IF(AND(J8>8550001,J8<=9650000),1.75,IF(AND(J8>9650001,J8<=10050000),2,IF(AND(J8>10050001,J8<=10350000),2.25,IF(AND(J8>10350001,J8<=10700000),2.5,IF(AND(J8>10700001,J8<=11050000),3,IF(AND(J8>11050001,J8<=11600000),3.5,IF(AND(J8>11600001,J8<=12500000),4,IF(AND(J8>12500001,J8<=13750000),5,IF(AND(J8>13750001,J8<=15100000),6,IF(AND(J8>15100001,J8<=16950000),7,IF(AND(J8>16950001,J8<=19750000),8,IF(AND(J8>19750001,J8<=24150000),9,IF(AND(J8>24150001,J8<=26450000),10,IF(AND(J8>26450001,J8<=28000000),11,IF(AND(J8>28000001,J8<=30050000),12,IF(AND(J8>30050001,J8<=32400000),13,IF(AND(J8>32400001,J8<=35400000),14,IF(AND(J8>35400001,J8<=39100000),15,IF(AND(J8>39100001,J8<=43850000),16,IF(AND(J8>43850001,J8<=47800000),17,IF(AND(J8>47800001,J8<=51400000),18,IF(AND(J8>51400001,J8<=56300000),19,IF(AND(J8>56300001,J8<=62200000),20,IF(AND(J8>62200001,J8<=68600000),21,IF(AND(J8>68600001,J8<=77500000),22,IF(AND(J8>77500001,J8<=89000000),23,IF(AND(J8>89000001,J8<=103000000),24,IF(AND(J8>103000001,J8<=125000000),25,IF(AND(J8>125000001,J8<=157000000),26,IF(AND(J8>157000001,J8<=206000000),27,IF(AND(J8>206000001,J8<=337000000),28,IF(AND(J8>337000001,J8<=454000000),29,IF(AND(J8>454000001,J8<=550000000),30,IF(AND(J8>550000001,J8<=695000000),31,IF(AND(J8>695000001,J8<=910000000),32,IF(AND(J8>910000001,J8<=1400000000),33,34))))))))))))))))))))))))))))))))))))))))))) -> 0 | U8: =IF(J8<=6200000,0,IF(AND(J8>6200001,J8<=6500000),0.25,IF(AND(J8>6500001,J8<=6850000),0.5,IF(AND(J8>6850001,J8<=7300000),0.75,IF(AND(J8>7300001,J8<=9200000),1,IF(AND(J8>9200001,J8<=10750000),1.5,IF(AND(J8>10750001,J8<=11250000),2,IF(AND(J8>11250001,J8<=11600000),2.5,IF(AND(J8>11600001,J8<=12600000),3,IF(AND(J8>12600001,J8<=13600000),4,IF(AND(J8>13600001,J8<=14950000),5,IF(AND(J8>14950001,J8<=16400000),6,IF(AND(J8>16400001,J8<=18450000),7,IF(AND(J8>18450001,J8<=21850000),8,IF(AND(J8>21850001,J8<=26000000),9,IF(AND(J8>26000001,J8<=27700000),10,IF(AND(J8>27700001,J8<=29350000),11,IF(AND(J8>29350001,J8<=31450000),12,IF(AND(J8>31450001,J8<=33950000),13,IF(AND(J8>33950001,J8<=37100000),14,IF(AND(J8>37100001,J8<=41100000),15,IF(AND(J8>41100001,J8<=45800000),16,IF(AND(J8>45800001,J8<=49500000),17,IF(AND(J8>49500001,J8<=53800000),18,IF(AND(J8>53800001,J8<=58500000),19,IF(AND(J8>58500001,J8<=64000000),20,IF(AND(J8>64000001,J8<=71000000),21,IF(AND(J8>71000001,J8<=80000000),22,IF(AND(J8>80000001,J8<=93000000),23,IF(AND(J8>93000001,J8<=109000000),24,IF(AND(J8>109000001,J8<=129000000),25,IF(AND(J8>129000001,J8<=163000000),26,IF(AND(J8>163000001,J8<=211000000),27,IF(AND(J8>211000001,J8<=374000000),28,IF(AND(J8>374000001,J8<=459000000),29,IF(AND(J8>459000001,J8<=555000000),30,IF(AND(J8>555000001,J8<=704000000),31,IF(AND(J8>704000001,J8<=957000000),32,IF(AND(J8>957000001,J8<=1405000000),33,34))))))))))))))))))))))))))))))))))))))) -> 0 | V8: =IF(J8<=6600000,0,IF(AND(J8>6600001,J8<=6950000),0.25,IF(AND(J8>6950001,J8<=7350000),0.5,IF(AND(J8>7350001,J8<=7800000),0.75,IF(AND(J8>7800001,J8<=8850000),1,IF(AND(J8>8850001,J8<=9800000),1.25,IF(AND(J8>9800001,J8<=10950000),1.5,IF(AND(J8>10950001,J8<=11200000),1.75,IF(AND(J8>11200001,J8<=12050000),2,IF(AND(J8>12050001,J8<=12950000),3,IF(AND(J8>12950001,J8<=14150000),4,IF(AND(J8>14150001,J8<=15550000),5,IF(AND(J8>15550001,J8<=17050000),6,IF(AND(J8>17050001,J8<=19500000),7,IF(AND(J8>19500001,J8<=22700000),8,IF(AND(J8>22700001,J8<=26600000),9,IF(AND(J8>26600001,J8<=28100000),10,IF(AND(J8>28100001,J8<=30100000),11,IF(AND(J8>30100001,J8<=32600000),12,IF(AND(J8>32600001,J8<=35400000),13,IF(AND(J8>35400001,J8<=38900000),14,IF(AND(J8>38900001,J8<=43000000),15,IF(AND(J8>43000001,J8<=47400000),16,IF(AND(J8>47400001,J8<=51200000),17,IF(AND(J8>51200001,J8<=55800000),18,IF(AND(J8>55800001,J8<=60400000),19,IF(AND(J8>60400001,J8<=66700000),20,IF(AND(J8>66700001,J8<=74500000),21,IF(AND(J8>74500001,J8<=83200000),22,IF(AND(J8>83200001,J8<=95600000),23,IF(AND(J8>95600001,J8<=110000000),24,IF(AND(J8>110000001,J8<=134000000),25,IF(AND(J8>134000001,J8<=169000000),26,IF(AND(J8>169000001,J8<=221000000),27,IF(AND(J8>221000001,J8<=390000000),28,IF(AND(J8>390000001,J8<=463000000),29,IF(AND(J8>463000001,J8<=561000000),30,IF(AND(J8>561000001,J8<=709000000),31,IF(AND(J8>709000001,J8<=965000000),32,IF(AND(J8>965000001,J8<=1419000000),33,34)))))))))))))))))))))))))))))))))))))))) -> 0 | W8: =IF(J8<=60000000,5,IF(AND(J8>60000000,J8<=250000000),15,IF(AND(J8>250000000,J8<=500000000),25,IF(AND(J8>500000000,J8<=5000000000),30,35)))) -> 5 | X8: =IF(J8<=450000,0,IF(AND(J8>450000,J8<=2500000),0.5,0)) -> 0 | Y8: =IF(J8<=50000000,0,IF(AND(J8>50000000,J8<=100000000),5,IF(AND(J8>100000000,J8<=500000000),15,25))) -> 0 | Z8: =IF(J8<=50000000,0,5) -> 0
C9: 2025 | D9: 3311041608030006 | F9: TK/0 | G9: N/A | I9: =IF(Table1[[#This Row],[Kode Objek Pajak]]<>"",VLOOKUP(Table1[[#This Row],[Kode Objek Pajak]],REF!$A$1:$B$33,2,FALSE),"") | K9: =VLOOKUP(H9,REF!$A$2:$D$33,3,0) -> #N/A | L9: =IF(S9="TER",IF(OR(F9="TK/0",F9="TK/1",F9="K/0",F9="HB/0",F9="HB/1"),T9,IF(OR(F9="TK/2",F9="TK/3",F9="K/1",F9="K/2",F9="HB/2",F9="HB/3"),U9,V9)),IF(S9="PS17",W9,IF(S9="HARIAN",X9,IF(S9="PESANGON",Y9,IF(S9="PENSIUN",Z9,S9))))) -> #N/A | M9: Other | P9: 0410414049526000000000 | R9: =5/100*Table1[[#This Row],[Penghasilan]] -> 0 | S9: =VLOOKUP(H9,REF!$A$2:$D$43,4,0) -> #N/A | T9: =IF(J9<=5400000,0,IF(AND(J9>5400001,J9<=5650000),0.25,IF(AND(J9>5650001,J9<=5950000),0.5,IF(AND(J9>5950001,J9<=6300000),0.75,IF(AND(J9>6300001,J9<=6750000),1,IF(AND(J9>6750001,J9<=7500000),1.25,IF(AND(J9>7500001,J9<=8550000),1.5,IF(AND(J9>8550001,J9<=9650000),1.75,IF(AND(J9>9650001,J9<=10050000),2,IF(AND(J9>10050001,J9<=10350000),2.25,IF(AND(J9>10350001,J9<=10700000),2.5,IF(AND(J9>10700001,J9<=11050000),3,IF(AND(J9>11050001,J9<=11600000),3.5,IF(AND(J9>11600001,J9<=12500000),4,IF(AND(J9>12500001,J9<=13750000),5,IF(AND(J9>13750001,J9<=15100000),6,IF(AND(J9>15100001,J9<=16950000),7,IF(AND(J9>16950001,J9<=19750000),8,IF(AND(J9>19750001,J9<=24150000),9,IF(AND(J9>24150001,J9<=26450000),10,IF(AND(J9>26450001,J9<=28000000),11,IF(AND(J9>28000001,J9<=30050000),12,IF(AND(J9>30050001,J9<=32400000),13,IF(AND(J9>32400001,J9<=35400000),14,IF(AND(J9>35400001,J9<=39100000),15,IF(AND(J9>39100001,J9<=43850000),16,IF(AND(J9>43850001,J9<=47800000),17,IF(AND(J9>47800001,J9<=51400000),18,IF(AND(J9>51400001,J9<=56300000),19,IF(AND(J9>56300001,J9<=62200000),20,IF(AND(J9>62200001,J9<=68600000),21,IF(AND(J9>68600001,J9<=77500000),22,IF(AND(J9>77500001,J9<=89000000),23,IF(AND(J9>89000001,J9<=103000000),24,IF(AND(J9>103000001,J9<=125000000),25,IF(AND(J9>125000001,J9<=157000000),26,IF(AND(J9>157000001,J9<=206000000),27,IF(AND(J9>206000001,J9<=337000000),28,IF(AND(J9>337000001,J9<=454000000),29,IF(AND(J9>454000001,J9<=550000000),30,IF(AND(J9>550000001,J9<=695000000),31,IF(AND(J9>695000001,J9<=910000000),32,IF(AND(J9>910000001,J9<=1400000000),33,34))))))))))))))))))))))))))))))))))))))))))) -> 0 | U9: =IF(J9<=6200000,0,IF(AND(J9>6200001,J9<=6500000),0.25,IF(AND(J9>6500001,J9<=6850000),0.5,IF(AND(J9>6850001,J9<=7300000),0.75,IF(AND(J9>7300001,J9<=9200000),1,IF(AND(J9>9200001,J9<=10750000),1.5,IF(AND(J9>10750001,J9<=11250000),2,IF(AND(J9>11250001,J9<=11600000),2.5,IF(AND(J9>11600001,J9<=12600000),3,IF(AND(J9>12600001,J9<=13600000),4,IF(AND(J9>13600001,J9<=14950000),5,IF(AND(J9>14950001,J9<=16400000),6,IF(AND(J9>16400001,J9<=18450000),7,IF(AND(J9>18450001,J9<=21850000),8,IF(AND(J9>21850001,J9<=26000000),9,IF(AND(J9>26000001,J9<=27700000),10,IF(AND(J9>27700001,J9<=29350000),11,IF(AND(J9>29350001,J9<=31450000),12,IF(AND(J9>31450001,J9<=33950000),13,IF(AND(J9>33950001,J9<=37100000),14,IF(AND(J9>37100001,J9<=41100000),15,IF(AND(J9>41100001,J9<=45800000),16,IF(AND(J9>45800001,J9<=49500000),17,IF(AND(J9>49500001,J9<=53800000),18,IF(AND(J9>53800001,J9<=58500000),19,IF(AND(J9>58500001,J9<=64000000),20,IF(AND(J9>64000001,J9<=71000000),21,IF(AND(J9>71000001,J9<=80000000),22,IF(AND(J9>80000001,J9<=93000000),23,IF(AND(J9>93000001,J9<=109000000),24,IF(AND(J9>109000001,J9<=129000000),25,IF(AND(J9>129000001,J9<=163000000),26,IF(AND(J9>163000001,J9<=211000000),27,IF(AND(J9>211000001,J9<=374000000),28,IF(AND(J9>374000001,J9<=459000000),29,IF(AND(J9>459000001,J9<=555000000),30,IF(AND(J9>555000001,J9<=704000000),31,IF(AND(J9>704000001,J9<=957000000),32,IF(AND(J9>957000001,J9<=1405000000),33,34))))))))))))))))))))))))))))))))))))))) -> 0 | V9: =IF(J9<=6600000,0,IF(AND(J9>6600001,J9<=6950000),0.25,IF(AND(J9>6950001,J9<=7350000),0.5,IF(AND(J9>7350001,J9<=7800000),0.75,IF(AND(J9>7800001,J9<=8850000),1,IF(AND(J9>8850001,J9<=9800000),1.25,IF(AND(J9>9800001,J9<=10950000),1.5,IF(AND(J9>10950001,J9<=11200000),1.75,IF(AND(J9>11200001,J9<=12050000),2,IF(AND(J9>12050001,J9<=12950000),3,IF(AND(J9>12950001,J9<=14150000),4,IF(AND(J9>14150001,J9<=15550000),5,IF(AND(J9>15550001,J9<=17050000),6,IF(AND(J9>17050001,J9<=19500000),7,IF(AND(J9>19500001,J9<=22700000),8,IF(AND(J9>22700001,J9<=26600000),9,IF(AND(J9>26600001,J9<=28100000),10,IF(AND(J9>28100001,J9<=30100000),11,IF(AND(J9>30100001,J9<=32600000),12,IF(AND(J9>32600001,J9<=35400000),13,IF(AND(J9>35400001,J9<=38900000),14,IF(AND(J9>38900001,J9<=43000000),15,IF(AND(J9>43000001,J9<=47400000),16,IF(AND(J9>47400001,J9<=51200000),17,IF(AND(J9>51200001,J9<=55800000),18,IF(AND(J9>55800001,J9<=60400000),19,IF(AND(J9>60400001,J9<=66700000),20,IF(AND(J9>66700001,J9<=74500000),21,IF(AND(J9>74500001,J9<=83200000),22,IF(AND(J9>83200001,J9<=95600000),23,IF(AND(J9>95600001,J9<=110000000),24,IF(AND(J9>110000001,J9<=134000000),25,IF(AND(J9>134000001,J9<=169000000),26,IF(AND(J9>169000001,J9<=221000000),27,IF(AND(J9>221000001,J9<=390000000),28,IF(AND(J9>390000001,J9<=463000000),29,IF(AND(J9>463000001,J9<=561000000),30,IF(AND(J9>561000001,J9<=709000000),31,IF(AND(J9>709000001,J9<=965000000),32,IF(AND(J9>965000001,J9<=1419000000),33,34)))))))))))))))))))))))))))))))))))))))) -> 0 | W9: =IF(J9<=60000000,5,IF(AND(J9>60000000,J9<=250000000),15,IF(AND(J9>250000000,J9<=500000000),25,IF(AND(J9>500000000,J9<=5000000000),30,35)))) -> 5 | X9: =IF(J9<=450000,0,IF(AND(J9>450000,J9<=2500000),0.5,0)) -> 0 | Y9: =IF(J9<=50000000,0,IF(AND(J9>50000000,J9<=100000000),5,IF(AND(J9>100000000,J9<=500000000),15,25))) -> 0 | Z9: =IF(J9<=50000000,0,5) -> 0
C10: 2025 | D10: 3313101101030001 | F10: TK/0 | G10: N/A | I10: =IF(Table1[[#This Row],[Kode Objek Pajak]]<>"",VLOOKUP(Table1[[#This Row],[Kode Objek Pajak]],REF!$A$1:$B$33,2,FALSE),"") | K10: =VLOOKUP(H10,REF!$A$2:$D$33,3,0) -> #N/A | L10: =IF(S10="TER",IF(OR(F10="TK/0",F10="TK/1",F10="K/0",F10="HB/0",F10="HB/1"),T10,IF(OR(F10="TK/2",F10="TK/3",F10="K/1",F10="K/2",F10="HB/2",F10="HB/3"),U10,V10)),IF(S10="PS17",W10,IF(S10="HARIAN",X10,IF(S10="PESANGON",Y10,IF(S10="PENSIUN",Z10,S10))))) -> #N/A | M10: Other | P10: 0410414049526000000000 | R10: =5/100*Table1[[#This Row],[Penghasilan]] -> 0 | S10: =VLOOKUP(H10,REF!$A$2:$D$43,4,0) -> #N/A | T10: =IF(J10<=5400000,0,IF(AND(J10>5400001,J10<=5650000),0.25,IF(AND(J10>5650001,J10<=5950000),0.5,IF(AND(J10>5950001,J10<=6300000),0.75,IF(AND(J10>6300001,J10<=6750000),1,IF(AND(J10>6750001,J10<=7500000),1.25,IF(AND(J10>7500001,J10<=8550000),1.5,IF(AND(J10>8550001,J10<=9650000),1.75,IF(AND(J10>9650001,J10<=10050000),2,IF(AND(J10>10050001,J10<=10350000),2.25,IF(AND(J10>10350001,J10<=10700000),2.5,IF(AND(J10>10700001,J10<=11050000),3,IF(AND(J10>11050001,J10<=11600000),3.5,IF(AND(J10>11600001,J10<=12500000),4,IF(AND(J10>12500001,J10<=13750000),5,IF(AND(J10>13750001,J10<=15100000),6,IF(AND(J10>15100001,J10<=16950000),7,IF(AND(J10>16950001,J10<=19750000),8,IF(AND(J10>19750001,J10<=24150000),9,IF(AND(J10>24150001,J10<=26450000),10,IF(AND(J10>26450001,J10<=28000000),11,IF(AND(J10>28000001,J10<=30050000),12,IF(AND(J10>30050001,J10<=32400000),13,IF(AND(J10>32400001,J10<=35400000),14,IF(AND(J10>35400001,J10<=39100000),15,IF(AND(J10>39100001,J10<=43850000),16,IF(AND(J10>43850001,J10<=47800000),17,IF(AND(J10>47800001,J10<=51400000),18,IF(AND(J10>51400001,J10<=56300000),19,IF(AND(J10>56300001,J10<=62200000),20,IF(AND(J10>62200001,J10<=68600000),21,IF(AND(J10>68600001,J10<=77500000),22,IF(AND(J10>77500001,J10<=89000000),23,IF(AND(J10>89000001,J10<=103000000),24,IF(AND(J10>103000001,J10<=125000000),25,IF(AND(J10>125000001,J10<=157000000),26,IF(AND(J10>157000001,J10<=206000000),27,IF(AND(J10>206000001,J10<=337000000),28,IF(AND(J10>337000001,J10<=454000000),29,IF(AND(J10>454000001,J10<=550000000),30,IF(AND(J10>550000001,J10<=695000000),31,IF(AND(J10>695000001,J10<=910000000),32,IF(AND(J10>910000001,J10<=1400000000),33,34))))))))))))))))))))))))))))))))))))))))))) -> 0 | U10: =IF(J10<=6200000,0,IF(AND(J10>6200001,J10<=6500000),0.25,IF(AND(J10>6500001,J10<=6850000),0.5,IF(AND(J10>6850001,J10<=7300000),0.75,IF(AND(J10>7300001,J10<=9200000),1,IF(AND(J10>9200001,J10<=10750000),1.5,IF(AND(J10>10750001,J10<=11250000),2,IF(AND(J10>11250001,J10<=11600000),2.5,IF(AND(J10>11600001,J10<=12600000),3,IF(AND(J10>12600001,J10<=13600000),4,IF(AND(J10>13600001,J10<=14950000),5,IF(AND(J10>14950001,J10<=16400000),6,IF(AND(J10>16400001,J10<=18450000),7,IF(AND(J10>18450001,J10<=21850000),8,IF(AND(J10>21850001,J10<=26000000),9,IF(AND(J10>26000001,J10<=27700000),10,IF(AND(J10>27700001,J10<=29350000),11,IF(AND(J10>29350001,J10<=31450000),12,IF(AND(J10>31450001,J10<=33950000),13,IF(AND(J10>33950001,J10<=37100000),14,IF(AND(J10>37100001,J10<=41100000),15,IF(AND(J10>41100001,J10<=45800000),16,IF(AND(J10>45800001,J10<=49500000),17,IF(AND(J10>49500001,J10<=53800000),18,IF(AND(J10>53800001,J10<=58500000),19,IF(AND(J10>58500001,J10<=64000000),20,IF(AND(J10>64000001,J10<=71000000),21,IF(AND(J10>71000001,J10<=80000000),22,IF(AND(J10>80000001,J10<=93000000),23,IF(AND(J10>93000001,J10<=109000000),24,IF(AND(J10>109000001,J10<=129000000),25,IF(AND(J10>129000001,J10<=163000000),26,IF(AND(J10>163000001,J10<=211000000),27,IF(AND(J10>211000001,J10<=374000000),28,IF(AND(J10>374000001,J10<=459000000),29,IF(AND(J10>459000001,J10<=555000000),30,IF(AND(J10>555000001,J10<=704000000),31,IF(AND(J10>704000001,J10<=957000000),32,IF(AND(J10>957000001,J10<=1405000000),33,34))))))))))))))))))))))))))))))))))))))) -> 0 | V10: =IF(J10<=6600000,0,IF(AND(J10>6600001,J10<=6950000),0.25,IF(AND(J10>6950001,J10<=7350000),0.5,IF(AND(J10>7350001,J10<=7800000),0.75,IF(AND(J10>7800001,J10<=8850000),1,IF(AND(J10>8850001,J10<=9800000),1.25,IF(AND(J10>9800001,J10<=10950000),1.5,IF(AND(J10>10950001,J10<=11200000),1.75,IF(AND(J10>11200001,J10<=12050000),2,IF(AND(J10>12050001,J10<=12950000),3,IF(AND(J10>12950001,J10<=14150000),4,IF(AND(J10>14150001,J10<=15550000),5,IF(AND(J10>15550001,J10<=17050000),6,IF(AND(J10>17050001,J10<=19500000),7,IF(AND(J10>19500001,J10<=22700000),8,IF(AND(J10>22700001,J10<=26600000),9,IF(AND(J10>26600001,J10<=28100000),10,IF(AND(J10>28100001,J10<=30100000),11,IF(AND(J10>30100001,J10<=32600000),12,IF(AND(J10>32600001,J10<=35400000),13,IF(AND(J10>35400001,J10<=38900000),14,IF(AND(J10>38900001,J10<=43000000),15,IF(AND(J10>43000001,J10<=47400000),16,IF(AND(J10>47400001,J10<=51200000),17,IF(AND(J10>51200001,J10<=55800000),18,IF(AND(J10>55800001,J10<=60400000),19,IF(AND(J10>60400001,J10<=66700000),20,IF(AND(J10>66700001,J10<=74500000),21,IF(AND(J10>74500001,J10<=83200000),22,IF(AND(J10>83200001,J10<=95600000),23,IF(AND(J10>95600001,J10<=110000000),24,IF(AND(J10>110000001,J10<=134000000),25,IF(AND(J10>134000001,J10<=169000000),26,IF(AND(J10>169000001,J10<=221000000),27,IF(AND(J10>221000001,J10<=390000000),28,IF(AND(J10>390000001,J10<=463000000),29,IF(AND(J10>463000001,J10<=561000000),30,IF(AND(J10>561000001,J10<=709000000),31,IF(AND(J10>709000001,J10<=965000000),32,IF(AND(J10>965000001,J10<=1419000000),33,34)))))))))))))))))))))))))))))))))))))))) -> 0 | W10: =IF(J10<=60000000,5,IF(AND(J10>60000000,J10<=250000000),15,IF(AND(J10>250000000,J10<=500000000),25,IF(AND(J10>500000000,J10<=5000000000),30,35)))) -> 5 | X10: =IF(J10<=450000,0,IF(AND(J10>450000,J10<=2500000),0.5,0)) -> 0 | Y10: =IF(J10<=50000000,0,IF(AND(J10>50000000,J10<=100000000),5,IF(AND(J10>100000000,J10<=500000000),15,25))) -> 0 | Z10: =IF(J10<=50000000,0,5) -> 0
C11: 2025 | D11: 3313065308030003 | F11: TK/0 | G11: N/A | I11: =IF(Table1[[#This Row],[Kode Objek Pajak]]<>"",VLOOKUP(Table1[[#This Row],[Kode Objek Pajak]],REF!$A$1:$B$33,2,FALSE),"") | K11: =VLOOKUP(H11,REF!$A$2:$D$33,3,0) -> #N/A | L11: =IF(S11="TER",IF(OR(F11="TK/0",F11="TK/1",F11="K/0",F11="HB/0",F11="HB/1"),T11,IF(OR(F11="TK/2",F11="TK/3",F11="K/1",F11="K/2",F11="HB/2",F11="HB/3"),U11,V11)),IF(S11="PS17",W11,IF(S11="HARIAN",X11,IF(S11="PESANGON",Y11,IF(S11="PENSIUN",Z11,S11))))) -> #N/A | M11: Other | P11: 0410414049526000000000 | R11: =5/100*Table1[[#This Row],[Penghasilan]] -> 0 | S11: =VLOOKUP(H11,REF!$A$2:$D$43,4,0) -> #N/A | T11: =IF(J11<=5400000,0,IF(AND(J11>5400001,J11<=5650000),0.25,IF(AND(J11>5650001,J11<=5950000),0.5,IF(AND(J11>5950001,J11<=6300000),0.75,IF(AND(J11>6300001,J11<=6750000),1,IF(AND(J11>6750001,J11<=7500000),1.25,IF(AND(J11>7500001,J11<=8550000),1.5,IF(AND(J11>8550001,J11<=9650000),1.75,IF(AND(J11>9650001,J11<=10050000),2,IF(AND(J11>10050001,J11<=10350000),2.25,IF(AND(J11>10350001,J11<=10700000),2.5,IF(AND(J11>10700001,J11<=11050000),3,IF(AND(J11>11050001,J11<=11600000),3.5,IF(AND(J11>11600001,J11<=12500000),4,IF(AND(J11>12500001,J11<=13750000),5,IF(AND(J11>13750001,J11<=15100000),6,IF(AND(J11>15100001,J11<=16950000),7,IF(AND(J11>16950001,J11<=19750000),8,IF(AND(J11>19750001,J11<=24150000),9,IF(AND(J11>24150001,J11<=26450000),10,IF(AND(J11>26450001,J11<=28000000),11,IF(AND(J11>28000001,J11<=30050000),12,IF(AND(J11>30050001,J11<=32400000),13,IF(AND(J11>32400001,J11<=35400000),14,IF(AND(J11>35400001,J11<=39100000),15,IF(AND(J11>39100001,J11<=43850000),16,IF(AND(J11>43850001,J11<=47800000),17,IF(AND(J11>47800001,J11<=51400000),18,IF(AND(J11>51400001,J11<=56300000),19,IF(AND(J11>56300001,J11<=62200000),20,IF(AND(J11>62200001,J11<=68600000),21,IF(AND(J11>68600001,J11<=77500000),22,IF(AND(J11>77500001,J11<=89000000),23,IF(AND(J11>89000001,J11<=103000000),24,IF(AND(J11>103000001,J11<=125000000),25,IF(AND(J11>125000001,J11<=157000000),26,IF(AND(J11>157000001,J11<=206000000),27,IF(AND(J11>206000001,J11<=337000000),28,IF(AND(J11>337000001,J11<=454000000),29,IF(AND(J11>454000001,J11<=550000000),30,IF(AND(J11>550000001,J11<=695000000),31,IF(AND(J11>695000001,J11<=910000000),32,IF(AND(J11>910000001,J11<=1400000000),33,34))))))))))))))))))))))))))))))))))))))))))) -> 0 | U11: =IF(J11<=6200000,0,IF(AND(J11>6200001,J11<=6500000),0.25,IF(AND(J11>6500001,J11<=6850000),0.5,IF(AND(J11>6850001,J11<=7300000),0.75,IF(AND(J11>7300001,J11<=9200000),1,IF(AND(J11>9200001,J11<=10750000),1.5,IF(AND(J11>10750001,J11<=11250000),2,IF(AND(J11>11250001,J11<=11600000),2.5,IF(AND(J11>11600001,J11<=12600000),3,IF(AND(J11>12600001,J11<=13600000),4,IF(AND(J11>13600001,J11<=14950000),5,IF(AND(J11>14950001,J11<=16400000),6,IF(AND(J11>16400001,J11<=18450000),7,IF(AND(J11>18450001,J11<=21850000),8,IF(AND(J11>21850001,J11<=26000000),9,IF(AND(J11>26000001,J11<=27700000),10,IF(AND(J11>27700001,J11<=29350000),11,IF(AND(J11>29350001,J11<=31450000),12,IF(AND(J11>31450001,J11<=33950000),13,IF(AND(J11>33950001,J11<=37100000),14,IF(AND(J11>37100001,J11<=41100000),15,IF(AND(J11>41100001,J11<=45800000),16,IF(AND(J11>45800001,J11<=49500000),17,IF(AND(J11>49500001,J11<=53800000),18,IF(AND(J11>53800001,J11<=58500000),19,IF(AND(J11>58500001,J11<=64000000),20,IF(AND(J11>64000001,J11<=71000000),21,IF(AND(J11>71000001,J11<=80000000),22,IF(AND(J11>80000001,J11<=93000000),23,IF(AND(J11>93000001,J11<=109000000),24,IF(AND(J11>109000001,J11<=129000000),25,IF(AND(J11>129000001,J11<=163000000),26,IF(AND(J11>163000001,J11<=211000000),27,IF(AND(J11>211000001,J11<=374000000),28,IF(AND(J11>374000001,J11<=459000000),29,IF(AND(J11>459000001,J11<=555000000),30,IF(AND(J11>555000001,J11<=704000000),31,IF(AND(J11>704000001,J11<=957000000),32,IF(AND(J11>957000001,J11<=1405000000),33,34))))))))))))))))))))))))))))))))))))))) -> 0 | V11: =IF(J11<=6600000,0,IF(AND(J11>6600001,J11<=6950000),0.25,IF(AND(J11>6950001,J11<=7350000),0.5,IF(AND(J11>7350001,J11<=7800000),0.75,IF(AND(J11>7800001,J11<=8850000),1,IF(AND(J11>8850001,J11<=9800000),1.25,IF(AND(J11>9800001,J11<=10950000),1.5,IF(AND(J11>10950001,J11<=11200000),1.75,IF(AND(J11>11200001,J11<=12050000),2,IF(AND(J11>12050001,J11<=12950000),3,IF(AND(J11>12950001,J11<=14150000),4,IF(AND(J11>14150001,J11<=15550000),5,IF(AND(J11>15550001,J11<=17050000),6,IF(AND(J11>17050001,J11<=19500000),7,IF(AND(J11>19500001,J11<=22700000),8,IF(AND(J11>22700001,J11<=26600000),9,IF(AND(J11>26600001,J11<=28100000),10,IF(AND(J11>28100001,J11<=30100000),11,IF(AND(J11>30100001,J11<=32600000),12,IF(AND(J11>32600001,J11<=35400000),13,IF(AND(J11>35400001,J11<=38900000),14,IF(AND(J11>38900001,J11<=43000000),15,IF(AND(J11>43000001,J11<=47400000),16,IF(AND(J11>47400001,J11<=51200000),17,IF(AND(J11>51200001,J11<=55800000),18,IF(AND(J11>55800001,J11<=60400000),19,IF(AND(J11>60400001,J11<=66700000),20,IF(AND(J11>66700001,J11<=74500000),21,IF(AND(J11>74500001,J11<=83200000),22,IF(AND(J11>83200001,J11<=95600000),23,IF(AND(J11>95600001,J11<=110000000),24,IF(AND(J11>110000001,J11<=134000000),25,IF(AND(J11>134000001,J11<=169000000),26,IF(AND(J11>169000001,J11<=221000000),27,IF(AND(J11>221000001,J11<=390000000),28,IF(AND(J11>390000001,J11<=463000000),29,IF(AND(J11>463000001,J11<=561000000),30,IF(AND(J11>561000001,J11<=709000000),31,IF(AND(J11>709000001,J11<=965000000),32,IF(AND(J11>965000001,J11<=1419000000),33,34)))))))))))))))))))))))))))))))))))))))) -> 0 | W11: =IF(J11<=60000000,5,IF(AND(J11>60000000,J11<=250000000),15,IF(AND(J11>250000000,J11<=500000000),25,IF(AND(J11>500000000,J11<=5000000000),30,35)))) -> 5 | X11: =IF(J11<=450000,0,IF(AND(J11>450000,J11<=2500000),0.5,0)) -> 0 | Y11: =IF(J11<=50000000,0,IF(AND(J11>50000000,J11<=100000000),5,IF(AND(J11>100000000,J11<=500000000),15,25))) -> 0 | Z11: =IF(J11<=50000000,0,5) -> 0
C12: 2025 | D12: 3313065308030003 | F12: TK/0 | G12: N/A | I12: =IF(Table1[[#This Row],[Kode Objek Pajak]]<>"",VLOOKUP(Table1[[#This Row],[Kode Objek Pajak]],REF!$A$1:$B$33,2,FALSE),"") | K12: =VLOOKUP(H12,REF!$A$2:$D$33,3,0) -> #N/A | L12: =IF(S12="TER",IF(OR(F12="TK/0",F12="TK/1",F12="K/0",F12="HB/0",F12="HB/1"),T12,IF(OR(F12="TK/2",F12="TK/3",F12="K/1",F12="K/2",F12="HB/2",F12="HB/3"),U12,V12)),IF(S12="PS17",W12,IF(S12="HARIAN",X12,IF(S12="PESANGON",Y12,IF(S12="PENSIUN",Z12,S12))))) -> #N/A | M12: Other | P12: 0410414049526000000000 | R12: =5/100*Table1[[#This Row],[Penghasilan]] -> 0 | S12: =VLOOKUP(H12,REF!$A$2:$D$43,4,0) -> #N/A | T12: =IF(J12<=5400000,0,IF(AND(J12>5400001,J12<=5650000),0.25,IF(AND(J12>5650001,J12<=5950000),0.5,IF(AND(J12>5950001,J12<=6300000),0.75,IF(AND(J12>6300001,J12<=6750000),1,IF(AND(J12>6750001,J12<=7500000),1.25,IF(AND(J12>7500001,J12<=8550000),1.5,IF(AND(J12>8550001,J12<=9650000),1.75,IF(AND(J12>9650001,J12<=10050000),2,IF(AND(J12>10050001,J12<=10350000),2.25,IF(AND(J12>10350001,J12<=10700000),2.5,IF(AND(J12>10700001,J12<=11050000),3,IF(AND(J12>11050001,J12<=11600000),3.5,IF(AND(J12>11600001,J12<=12500000),4,IF(AND(J12>12500001,J12<=13750000),5,IF(AND(J12>13750001,J12<=15100000),6,IF(AND(J12>15100001,J12<=16950000),7,IF(AND(J12>16950001,J12<=19750000),8,IF(AND(J12>19750001,J12<=24150000),9,IF(AND(J12>24150001,J12<=26450000),10,IF(AND(J12>26450001,J12<=28000000),11,IF(AND(J12>28000001,J12<=30050000),12,IF(AND(J12>30050001,J12<=32400000),13,IF(AND(J12>32400001,J12<=35400000),14,IF(AND(J12>35400001,J12<=39100000),15,IF(AND(J12>39100001,J12<=43850000),16,IF(AND(J12>43850001,J12<=47800000),17,IF(AND(J12>47800001,J12<=51400000),18,IF(AND(J12>51400001,J12<=56300000),19,IF(AND(J12>56300001,J12<=62200000),20,IF(AND(J12>62200001,J12<=68600000),21,IF(AND(J12>68600001,J12<=77500000),22,IF(AND(J12>77500001,J12<=89000000),23,IF(AND(J12>89000001,J12<=103000000),24,IF(AND(J12>103000001,J12<=125000000),25,IF(AND(J12>125000001,J12<=157000000),26,IF(AND(J12>157000001,J12<=206000000),27,IF(AND(J12>206000001,J12<=337000000),28,IF(AND(J12>337000001,J12<=454000000),29,IF(AND(J12>454000001,J12<=550000000),30,IF(AND(J12>550000001,J12<=695000000),31,IF(AND(J12>695000001,J12<=910000000),32,IF(AND(J12>910000001,J12<=1400000000),33,34))))))))))))))))))))))))))))))))))))))))))) -> 0 | U12: =IF(J12<=6200000,0,IF(AND(J12>6200001,J12<=6500000),0.25,IF(AND(J12>6500001,J12<=6850000),0.5,IF(AND(J12>6850001,J12<=7300000),0.75,IF(AND(J12>7300001,J12<=9200000),1,IF(AND(J12>9200001,J12<=10750000),1.5,IF(AND(J12>10750001,J12<=11250000),2,IF(AND(J12>11250001,J12<=11600000),2.5,IF(AND(J12>11600001,J12<=12600000),3,IF(AND(J12>12600001,J12<=13600000),4,IF(AND(J12>13600001,J12<=14950000),5,IF(AND(J12>14950001,J12<=16400000),6,IF(AND(J12>16400001,J12<=18450000),7,IF(AND(J12>18450001,J12<=21850000),8,IF(AND(J12>21850001,J12<=26000000),9,IF(AND(J12>26000001,J12<=27700000),10,IF(AND(J12>27700001,J12<=29350000),11,IF(AND(J12>29350001,J12<=31450000),12,IF(AND(J12>31450001,J12<=33950000),13,IF(AND(J12>33950001,J12<=37100000),14,IF(AND(J12>37100001,J12<=41100000),15,IF(AND(J12>41100001,J12<=45800000),16,IF(AND(J12>45800001,J12<=49500000),17,IF(AND(J12>49500001,J12<=53800000),18,IF(AND(J12>53800001,J12<=58500000),19,IF(AND(J12>58500001,J12<=64000000),20,IF(AND(J12>64000001,J12<=71000000),21,IF(AND(J12>71000001,J12<=80000000),22,IF(AND(J12>80000001,J12<=93000000),23,IF(AND(J12>93000001,J12<=109000000),24,IF(AND(J12>109000001,J12<=129000000),25,IF(AND(J12>129000001,J12<=163000000),26,IF(AND(J12>163000001,J12<=211000000),27,IF(AND(J12>211000001,J12<=374000000),28,IF(AND(J12>374000001,J12<=459000000),29,IF(AND(J12>459000001,J12<=555000000),30,IF(AND(J12>555000001,J12<=704000000),31,IF(AND(J12>704000001,J12<=957000000),32,IF(AND(J12>957000001,J12<=1405000000),33,34))))))))))))))))))))))))))))))))))))))) -> 0 | V12: =IF(J12<=6600000,0,IF(AND(J12>6600001,J12<=6950000),0.25,IF(AND(J12>6950001,J12<=7350000),0.5,IF(AND(J12>7350001,J12<=7800000),0.75,IF(AND(J12>7800001,J12<=8850000),1,IF(AND(J12>8850001,J12<=9800000),1.25,IF(AND(J12>9800001,J12<=10950000),1.5,IF(AND(J12>10950001,J12<=11200000),1.75,IF(AND(J12>11200001,J12<=12050000),2,IF(AND(J12>12050001,J12<=12950000),3,IF(AND(J12>12950001,J12<=14150000),4,IF(AND(J12>14150001,J12<=15550000),5,IF(AND(J12>15550001,J12<=17050000),6,IF(AND(J12>17050001,J12<=19500000),7,IF(AND(J12>19500001,J12<=22700000),8,IF(AND(J12>22700001,J12<=26600000),9,IF(AND(J12>26600001,J12<=28100000),10,IF(AND(J12>28100001,J12<=30100000),11,IF(AND(J12>30100001,J12<=32600000),12,IF(AND(J12>32600001,J12<=35400000),13,IF(AND(J12>35400001,J12<=38900000),14,IF(AND(J12>38900001,J12<=43000000),15,IF(AND(J12>43000001,J12<=47400000),16,IF(AND(J12>47400001,J12<=51200000),17,IF(AND(J12>51200001,J12<=55800000),18,IF(AND(J12>55800001,J12<=60400000),19,IF(AND(J12>60400001,J12<=66700000),20,IF(AND(J12>66700001,J12<=74500000),21,IF(AND(J12>74500001,J12<=83200000),22,IF(AND(J12>83200001,J12<=95600000),23,IF(AND(J12>95600001,J12<=110000000),24,IF(AND(J12>110000001,J12<=134000000),25,IF(AND(J12>134000001,J12<=169000000),26,IF(AND(J12>169000001,J12<=221000000),27,IF(AND(J12>221000001,J12<=390000000),28,IF(AND(J12>390000001,J12<=463000000),29,IF(AND(J12>463000001,J12<=561000000),30,IF(AND(J12>561000001,J12<=709000000),31,IF(AND(J12>709000001,J12<=965000000),32,IF(AND(J12>965000001,J12<=1419000000),33,34)))))))))))))))))))))))))))))))))))))))) -> 0 | W12: =IF(J12<=60000000,5,IF(AND(J12>60000000,J12<=250000000),15,IF(AND(J12>250000000,J12<=500000000),25,IF(AND(J12>500000000,J12<=5000000000),30,35)))) -> 5 | X12: =IF(J12<=450000,0,IF(AND(J12>450000,J12<=2500000),0.5,0)) -> 0 | Y12: =IF(J12<=50000000,0,IF(AND(J12>50000000,J12<=100000000),5,IF(AND(J12>100000000,J12<=500000000),15,25))) -> 0 | Z12: =IF(J12<=50000000,0,5) -> 0
C13: 2025 | D13: 3310221405040002 | F13: TK/0 | G13: N/A | I13: =IF(Table1[[#This Row],[Kode Objek Pajak]]<>"",VLOOKUP(Table1[[#This Row],[Kode Objek Pajak]],REF!$A$1:$B$33,2,FALSE),"") | K13: =VLOOKUP(H13,REF!$A$2:$D$33,3,0) -> #N/A | L13: =IF(S13="TER",IF(OR(F13="TK/0",F13="TK/1",F13="K/0",F13="HB/0",F13="HB/1"),T13,IF(OR(F13="TK/2",F13="TK/3",F13="K/1",F13="K/2",F13="HB/2",F13="HB/3"),U13,V13)),IF(S13="PS17",W13,IF(S13="HARIAN",X13,IF(S13="PESANGON",Y13,IF(S13="PENSIUN",Z13,S13))))) -> #N/A | M13: Other | P13: 0410414049526000000000 | R13: =5/100*Table1[[#This Row],[Penghasilan]] -> 0 | S13: =VLOOKUP(H13,REF!$A$2:$D$43,4,0) -> #N/A | T13: =IF(J13<=5400000,0,IF(AND(J13>5400001,J13<=5650000),0.25,IF(AND(J13>5650001,J13<=5950000),0.5,IF(AND(J13>5950001,J13<=6300000),0.75,IF(AND(J13>6300001,J13<=6750000),1,IF(AND(J13>6750001,J13<=7500000),1.25,IF(AND(J13>7500001,J13<=8550000),1.5,IF(AND(J13>8550001,J13<=9650000),1.75,IF(AND(J13>9650001,J13<=10050000),2,IF(AND(J13>10050001,J13<=10350000),2.25,IF(AND(J13>10350001,J13<=10700000),2.5,IF(AND(J13>10700001,J13<=11050000),3,IF(AND(J13>11050001,J13<=11600000),3.5,IF(AND(J13>11600001,J13<=12500000),4,IF(AND(J13>12500001,J13<=13750000),5,IF(AND(J13>13750001,J13<=15100000),6,IF(AND(J13>15100001,J13<=16950000),7,IF(AND(J13>16950001,J13<=19750000),8,IF(AND(J13>19750001,J13<=24150000),9,IF(AND(J13>24150001,J13<=26450000),10,IF(AND(J13>26450001,J13<=28000000),11,IF(AND(J13>28000001,J13<=30050000),12,IF(AND(J13>30050001,J13<=32400000),13,IF(AND(J13>32400001,J13<=35400000),14,IF(AND(J13>35400001,J13<=39100000),15,IF(AND(J13>39100001,J13<=43850000),16,IF(AND(J13>43850001,J13<=47800000),17,IF(AND(J13>47800001,J13<=51400000),18,IF(AND(J13>51400001,J13<=56300000),19,IF(AND(J13>56300001,J13<=62200000),20,IF(AND(J13>62200001,J13<=68600000),21,IF(AND(J13>68600001,J13<=77500000),22,IF(AND(J13>77500001,J13<=89000000),23,IF(AND(J13>89000001,J13<=103000000),24,IF(AND(J13>103000001,J13<=125000000),25,IF(AND(J13>125000001,J13<=157000000),26,IF(AND(J13>157000001,J13<=206000000),27,IF(AND(J13>206000001,J13<=337000000),28,IF(AND(J13>337000001,J13<=454000000),29,IF(AND(J13>454000001,J13<=550000000),30,IF(AND(J13>550000001,J13<=695000000),31,IF(AND(J13>695000001,J13<=910000000),32,IF(AND(J13>910000001,J13<=1400000000),33,34))))))))))))))))))))))))))))))))))))))))))) -> 0 | U13: =IF(J13<=6200000,0,IF(AND(J13>6200001,J13<=6500000),0.25,IF(AND(J13>6500001,J13<=6850000),0.5,IF(AND(J13>6850001,J13<=7300000),0.75,IF(AND(J13>7300001,J13<=9200000),1,IF(AND(J13>9200001,J13<=10750000),1.5,IF(AND(J13>10750001,J13<=11250000),2,IF(AND(J13>11250001,J13<=11600000),2.5,IF(AND(J13>11600001,J13<=12600000),3,IF(AND(J13>12600001,J13<=13600000),4,IF(AND(J13>13600001,J13<=14950000),5,IF(AND(J13>14950001,J13<=16400000),6,IF(AND(J13>16400001,J13<=18450000),7,IF(AND(J13>18450001,J13<=21850000),8,IF(AND(J13>21850001,J13<=26000000),9,IF(AND(J13>26000001,J13<=27700000),10,IF(AND(J13>27700001,J13<=29350000),11,IF(AND(J13>29350001,J13<=31450000),12,IF(AND(J13>31450001,J13<=33950000),13,IF(AND(J13>33950001,J13<=37100000),14,IF(AND(J13>37100001,J13<=41100000),15,IF(AND(J13>41100001,J13<=45800000),16,IF(AND(J13>45800001,J13<=49500000),17,IF(AND(J13>49500001,J13<=53800000),18,IF(AND(J13>53800001,J13<=58500000),19,IF(AND(J13>58500001,J13<=64000000),20,IF(AND(J13>64000001,J13<=71000000),21,IF(AND(J13>71000001,J13<=80000000),22,IF(AND(J13>80000001,J13<=93000000),23,IF(AND(J13>93000001,J13<=109000000),24,IF(AND(J13>109000001,J13<=129000000),25,IF(AND(J13>129000001,J13<=163000000),26,IF(AND(J13>163000001,J13<=211000000),27,IF(AND(J13>211000001,J13<=374000000),28,IF(AND(J13>374000001,J13<=459000000),29,IF(AND(J13>459000001,J13<=555000000),30,IF(AND(J13>555000001,J13<=704000000),31,IF(AND(J13>704000001,J13<=957000000),32,IF(AND(J13>957000001,J13<=1405000000),33,34))))))))))))))))))))))))))))))))))))))) -> 0 | V13: =IF(J13<=6600000,0,IF(AND(J13>6600001,J13<=6950000),0.25,IF(AND(J13>6950001,J13<=7350000),0.5,IF(AND(J13>7350001,J13<=7800000),0.75,IF(AND(J13>7800001,J13<=8850000),1,IF(AND(J13>8850001,J13<=9800000),1.25,IF(AND(J13>9800001,J13<=10950000),1.5,IF(AND(J13>10950001,J13<=11200000),1.75,IF(AND(J13>11200001,J13<=12050000),2,IF(AND(J13>12050001,J13<=12950000),3,IF(AND(J13>12950001,J13<=14150000),4,IF(AND(J13>14150001,J13<=15550000),5,IF(AND(J13>15550001,J13<=17050000),6,IF(AND(J13>17050001,J13<=19500000),7,IF(AND(J13>19500001,J13<=22700000),8,IF(AND(J13>22700001,J13<=26600000),9,IF(AND(J13>26600001,J13<=28100000),10,IF(AND(J13>28100001,J13<=30100000),11,IF(AND(J13>30100001,J13<=32600000),12,IF(AND(J13>32600001,J13<=35400000),13,IF(AND(J13>35400001,J13<=38900000),14,IF(AND(J13>38900001,J13<=43000000),15,IF(AND(J13>43000001,J13<=47400000),16,IF(AND(J13>47400001,J13<=51200000),17,IF(AND(J13>51200001,J13<=55800000),18,IF(AND(J13>55800001,J13<=60400000),19,IF(AND(J13>60400001,J13<=66700000),20,IF(AND(J13>66700001,J13<=74500000),21,IF(AND(J13>74500001,J13<=83200000),22,IF(AND(J13>83200001,J13<=95600000),23,IF(AND(J13>95600001,J13<=110000000),24,IF(AND(J13>110000001,J13<=134000000),25,IF(AND(J13>134000001,J13<=169000000),26,IF(AND(J13>169000001,J13<=221000000),27,IF(AND(J13>221000001,J13<=390000000),28,IF(AND(J13>390000001,J13<=463000000),29,IF(AND(J13>463000001,J13<=561000000),30,IF(AND(J13>561000001,J13<=709000000),31,IF(AND(J13>709000001,J13<=965000000),32,IF(AND(J13>965000001,J13<=1419000000),33,34)))))))))))))))))))))))))))))))))))))))) -> 0 | W13: =IF(J13<=60000000,5,IF(AND(J13>60000000,J13<=250000000),15,IF(AND(J13>250000000,J13<=500000000),25,IF(AND(J13>500000000,J13<=5000000000),30,35)))) -> 5 | X13: =IF(J13<=450000,0,IF(AND(J13>450000,J13<=2500000),0.5,0)) -> 0 | Y13: =IF(J13<=50000000,0,IF(AND(J13>50000000,J13<=100000000),5,IF(AND(J13>100000000,J13<=500000000),15,25))) -> 0 | Z13: =IF(J13<=50000000,0,5) -> 0
