Workbook

Sheet DATA
A1: NPWP Pemotong | C1: 0410414049526000
B2: KOSONGI | E2: KOSONGI | F2: ABAIKAN | G2: LIHAT DI REF | H2: OTOMATIS | I2: KOTOR | J2: ABAIKAN | K2: ABAIKAN | L2: UNIT PEMOHON | M2: TANGGAL SPJ | N2: ABAIKAN | O2: ABAIKAN | P2: ABAIKAN | Q2: ABAIKAN | S2: OTOMATIS | T2: OTOMATIS
B3: Masa Pajak | C3: Tahun Pajak | D3: NPWP/NIK | E3: ID TKU Penerima Penghasilan | F3: Fasilitas | G3: Kode Objek Pajak | H3: Nama Objek Pajak | I3: DPP | J3: Tarif | K3: Jenis Dok. Referensi | L3: Nomor Dok. Referensi | M3: Tanggal Dok. Referensi | N3: ID TKU Pemotong | O3: Opsi Pembayaran (IP) | P3: Nomor SP2D (IP) | Q3: Tanggal Pemotongan | S3: coretax
C4: 2025 | F4: N/A | H4: =IF(G4<>"",VLOOKUP(G4,REF!$A$3:$B$191,2,FALSE),"") | J4: 2 | K4: Other | N4: 0410414049526000000000 | O4: N/A | S4: =DATA!$I4*DATA!$J4/100 -> 0 | T4: 411122-100
C5: 2025 | F5: N/A | H5: =IF(G5<>"",VLOOKUP(G5,REF!$A$3:$B$191,2,FALSE),"") | J5: 2 | K5: Other | N5: 0410414049526000000000 | O5: N/A | S5: =DATA!$I5*DATA!$J5/100 -> 0 | T5: 411122-100
C6: 2025 | F6: N/A | H6: =IF(G6<>"",VLOOKUP(G6,REF!$A$3:$B$191,2,FALSE),"") | J6: 2 | K6: Other | N6: 0410414049526000000000 | O6: N/A | S6: =DATA!$I6*DATA!$J6/100 -> 0 | T6: 411122-100
C7: 2025 | F7: N/A | H7: =IF(G7<>"",VLOOKUP(G7,REF!$A$3:$B$191,2,FALSE),"") | J7: 2 | K7: Other | N7: 0410414049526000000000 | O7: N/A | S7: =DATA!$I7*DATA!$J7/100 -> 0 | T7: 411122-100
C8: 2025 | F8: N/A | H8: =IF(G8<>"",VLOOKUP(G8,REF!$A$3:$B$191,2,FALSE),"") | J8: 2 | K8: Other | N8: 0410414049526000000000 | O8: N/A | S8: =DATA!$I8*DATA!$J8/100 -> 0 | T8: 411122-900
C9: 2025 | F9: N/A | H9: =IF(G9<>"",VLOOKUP(G9,REF!$A$3:$B$191,2,FALSE),"") | J9: 2 | K9: Other | N9: 0410414049526000000000 | O9: N/A | S9: =DATA!$I9*DATA!$J9/100 -> 0 | T9: 411122-900
C10: 2025 | F10: N/A | H10: =IF(G10<>"",VLOOKUP(G10,REF!$A$3:$B$191,2,FALSE),"") | J10: 2 | K10: Other | N10: 0410414049526000000000 | O10: N/A | S10: =DATA!$I10*DATA!$J10/100 -> 0 | T10: 411122-100
C11: 2025 | F11: N/A | H11: =IF(G11<>"",VLOOKUP(G11,REF!$A$3:$B$191,2,FALSE),"") | J11: 2 | K11: Other | N11: 0410414049526000000000 | O11: N/A | S11: =DATA!$I11*DATA!$J11/100 -> 0 | T11: 411122-100
C12: 2025 | F12: N/A | H12: =IF(G12<>"",VLOOKUP(G12,REF!$A$3:$B$191,2,FALSE),"") | J12: 2 | K12: Other | N12: 0410414049526000000000 | O12: N/A | S12: =DATA!$I12*DATA!$J12/100 -> 0 | T12: 411122-100
C13: 2025 | F13: N/A | H13: =IF(G13<>"",VLOOKUP(G13,REF!$A$3:$B$191,2,FALSE),"") | J13: 2 | K13: Other | N13: 0410414049526000000000 | O13: N/A | S13: =DATA!$I13*DATA!$J13/100 -> 0 | T13: 411122-100
C14: 2025 | F14: N/A | H14: =IF(G14<>"",VLOOKUP(G14,REF!$A$3:$B$191,2,FALSE),"") | J14: 2 | K14: Other | N14: 0410414049526000000000 | O14: N/A | S14: =DATA!$I14*DATA!$J14/100 -> 0 | T14: 411122-900
C15: 2025 | F15: N/A | H15: =IF(G15<>"",VLOOKUP(G15,REF!$A$3:$B$191,2,FALSE),"") | J15: 2 | K15: Other | N15: 0410414049526000000000 | O15: N/A | S15: =DATA!$I15*DATA!$J15/100 -> 0 | T15: 411122-900
C16: 2025 | F16: N/A | H16: =IF(G16<>"",VLOOKUP(G16,REF!$A$3:$B$191,2,FALSE),"") | J16: 2 | K16: Other | N16: 0410414049526000000000 | O16: N/A | S16: =DATA!$I16*DATA!$J16/100 -> 0 | T16: 411122-100
C17: 2025 | F17: N/A | H17: =IF(G17<>"",VLOOKUP(G17,REF!$A$3:$B$191,2,FALSE),"") | J17: 2 | K17: Other | N17: 0410414049526000000000 | O17: N/A
C18: 2025 | F18: N/A | H18: =IF(G18<>"",VLOOKUP(G18,REF!$A$3:$B$191,2,FALSE),"") | J18: 2 | K18: Other | N18: 0410414049526000000000 | O18: N/A
C19: 2025 | F19: N/A | H19: =IF(G19<>"",VLOOKUP(G19,REF!$A$3:$B$191,2,FALSE),"") | J19: 2 | K19: Other | N19: 0410414049526000000000 | O19: N/A
C20: 2025 | F20: N/A | H20: =IF(G20<>"",VLOOKUP(G20,REF!$A$3:$B$191,2,FALSE),"") | J20: 2 | K20: Other | N20: 0410414049526000000000 | O20: N/A
C21: 2025 | F21: N/A | H21: =IF(G21<>"",VLOOKUP(G21,REF!$A$3:$B$191,2,FALSE),"") | J21: 2 | K21: Other | N21: 0410414049526000000000 | O21: N/A
C22: 2025 | F22: N/A | H22: =IF(G22<>"",VLOOKUP(G22,REF!$A$3:$B$191,2,FALSE),"") | J22: 2 | K22: Other | N22: 0410414049526000000000 | O22: N/A
C23: 2025 | F23: N/A | H23: =IF(G23<>"",VLOOKUP(G23,REF!$A$3:$B$191,2,FALSE),"") | J23: 2 | K23: Other | N23: 0410414049526000000000 | O23: N/A
C24: 2025 | F24: N/A | H24: =IF(G24<>"",VLOOKUP(G24,REF!$A$3:$B$191,2,FALSE),"") | J24: 2 | K24: Other | N24: 0410414049526000000000 | O24: N/A
C25: 2025 | F25: N/A | H25: =IF(G25<>"",VLOOKUP(G25,REF!$A$3:$B$191,2,FALSE),"") | J25: 2 | K25: Other | N25: 0410414049526000000000 | O25: N/A
C26: 2025 | F26: N/A | H26: =IF(G26<>"",VLOOKUP(G26,REF!$A$3:$B$191,2,FALSE),"") | J26: 2 | K26: Other | N26: 0410414049526000000000 | O26: N/A
C27: 2025 | F27: N/A | H27: =IF(G27<>"",VLOOKUP(G27,REF!$A$3:$B$191,2,FALSE),"") | J27: 2 | K27: Other | N27: 0410414049526000000000 | O27: N/A
C28: 2025 | F28: N/A | H28: =IF(G28<>"",VLOOKUP(G28,REF!$A$3:$B$191,2,FALSE),"") | J28: 2 | K28: Other | N28: 0410414049526000000000 | O28: N/A
... C272: 2025 | F272: N/A | H272: =IF(G272<>"",VLOOKUP(G272,REF!$A$3:$B$191,2,FALSE),"") | J272: 2 | K272: Other | N272: 0410414049526000000000 | O272: N/A

Sheet BPPU
A1: Kolom pada excel | B1: Kolom pada xml | C1: Petunjuk pengisian | D1: Contoh pengisian | E1: Validasi | F1: Keterangan tambahan
A2: NPWP Pemotong* | B2: TIN | C2: Diisi dengan NPWP pemotong/pemungut | D2: 1234567890123456 | E2: NPWP Pemotong harus sama dengan NPWP login
A3: Masa Pajak* | B3: TaxPeriodMonth | C3: Diisi dengan masa pajak pemotongan/pemungutan | D3: 1
A4: Tahun Pajak* | B4: TaxPeriodYear | C4: Diisi dengan masa pajak pemotongan/pemungutan | D4: 2025
A5: NPWP* | B5: CounterpartTin | C5: Diisi dengan NPWP/NIK penerima penghasilan | D5: 0987654321098765 | E5: NPWP/NIK wajib valid
A6: ID TKU Penerima Penghasilan* | B6: IDPlaceOfBusinessActivityOfIncomeRecipient | C6: Diisi dengan ID TKU penerima penghasilan | D6: 0987654321098765432109
A7: Fasilitas* | B7: TaxCertificate | C7: Diisi dengan fasilitas perpajakan yang digunakan | D7: N/A | E7: Jika menggunakan fasilitas perpajakan, sistem akan memvalidasi apakah fasiltas tersebut valid untuk digunakan
A8: Kode Objek Pajak* | B8: TaxObjectCode | C8: Diisi dengan kode objek pajak | D8: 28-402-01
A9: DPP* | B9: TaxBase | C9: Diisi dengan dasar pemotongan pajak | D9: 10000000000
A10: Tarif* | B10: Rate | C10: Diisi dengan tarif yang sesuai dengan referensi kode objek pajak | D10: 2.5 | E10: Jika menggunakan fasilitas perpajakan lainnya, tarif dapat diisi tidak sesuai dengan referensi kode objek pajak | F10: Saat di export ke xml, excel secara otomatis akan merubah menjadi format desimal menggunakan titik, contoh : 2.5
A11: Jenis Dok. Referensi* | B11: Document | C11: Diisi dengan jenis dokumen yang menjadi dasar pemotongan/pemungutan | D11: TaxInvoice
A12: Nomor Dok. Referensi* | B12: DocumentNumber | C12: Diisi dengan nomor dokumen dasar pemotongan/pemungutan | D12: 0100012292489165 | E12: Jika Document = TaxInvoice, maka document number wajib nomor faktur pajak yang valid
A13: Tanggal Dok. Referensi* | B13: DocumentDate | C13: Diisi dengan tanggal dokumen dasar pemotongan/pemungutan | D13: 45671 | E13: Jika Document = TaxInvoice, maka document date wajib sesuai dengan tanggal faktur pajak | F13: Saat di export ke xml, excel secara otomatis akan merubah menjadi format YYYY-MM-DD
A14: ID TKU Pemotong* | B14: IDPlaceOfBusinessActivity | C14: Diisi dengan ID TKU pemotong/pemungut | D14: 1234567890123456789012
A15: Opsi Pembayaran (IP) | B15: GovTreasurerOpt | C15: Diisi dengan metode pembayaran (hanya digunakan oleh pemotong/pemungut instansi pemerintah) | D15: N/A | E15: Pilihan metode pembayaran (Imprest (Uang Persediaan)/Direct (Langsung)) hanya bisa digunakan oleh WP Instansi Pemerintah
A16: Nomor SP2D (IP) | B16: SP2DNumber | C16: Diisi dengan Nomor SP2D (hanya digunakan oleh pemotong/pemungut instansi pemerintah) | E16: Jika metode pembayaran = "Direct", nomor SP2D wajib diisi dan wajib valid
A17: Tanggal Pemotongan* | B17: WithholdingDate | C17: Diisi dengan tanggal pemotongan/pemungutan | D17: 45673 | E17: Tanggal pemotongan tidak boleh lebih rendah dari masa/tahun pajak bukti potong | F17: Saat di export ke xml, excel secara otomatis akan merubah menjadi format YYYY-MM-DD
A21: * Wajib diisi

Sheet REF
A1: Kode Objek Pajak | B1: Nama Objek Pajak | C1: Tarif | F1: Kode Fasilitas | G1: Nama Fasilitas
A2: 24-101-01 | B2: Dividen | C2: 15 | F2: N/A | G2: Tanpa Fasilitas
A3: 24-104-05 | B3: Jasa Aktuaris | C3: 2 | F3: TaxExAr22 | G3: Surat Keterangan Bebas (SKB) Pemotongan PPh Pasal 22
A4: 28-409-25 | B4: Pekerjaan Konstruksi Terintegrasi yang Dilakukan oleh Penyedia Jasa yang Memiliki Sertifikat Badan Usaha | C4: 2.65 | F4: TaxExAr23 | G4: Surat Keterangan Bebas (SKB) Pemotongan PPh Pasal 23
A5: 28-409-26 | B5: Pekerjaan Konstruksi Terintegrasi yang Dilakukan oleh Penyedia Jasa yang Tidak Memiliki Sertifikat Badan Usaha | C5: 4 | F5: TaxExIntDep | G5: Surat Keterangan Bebas (SKB) Pemotongan PPh atas Bunga atas Deposito Berjangka dan tabungan
A6: 28-409-27 | B6: Jasa Konsultansi Konstruksi yang Dilakukan oleh Penyedia Jasa yang Memiliki Sertifikat Badan Usaha atau Sertifikat Kompetensi Kerja untuk Usaha Orang Perseorangan | C6: 3.5 | F6: TaxExIntPhtb | G6: Surat Keterangan Bebas (SKB) Pemotongan PPh atas Pengalihan Hak atas Tanah dan Bangunan
A7: 28-409-28 | B7: Jasa Konsultansi Konstruksi yang Dilakukan oleh Penyedia Jasa yang Tidak Memiliki Sertifikat Badan Usaha atau Sertifikat Kompetensi Kerja untuk Usaha Orang Perseorangan | C7: 6 | F7: DTP | G7: PPh Ditanggung Pemerintah (DTP)
A8: 28-409-08 | B8: Jasa Konstruksi Berupa Jasa Perencanaan Konstruksi (Dengan Kualifikasi Usaha) | C8: 4 | F8: PP23 | G8: Surat Keterangan PP 23/2018
A9: 28-409-09 | B9: Jasa Konstruksi Berupa Jasa Perencanaan Konstruksi (Tanpa Kualifikasi Usaha) | C9: 6 | F9: ETC | G9: Fasilitas Lainnya
A10: 28-409-10 | B10: Jasa Konstruksi Berupa Jasa Pelaksanaan Konstruksi (Kualifikasi Usaha Kecil) | C10: 2
A11: 28-409-11 | B11: Jasa Konstruksi Berupa Jasa Pelaksanaan Konstruksi (Kualifikasi Usaha Menengah dan Besar) | C11: 3
A12: 28-409-12 | B12: Jasa Konstruksi Berupa Jasa Pelaksanaan Konstruksi (Tanpa Kualifikasi Usaha) | C12: 4 | F12: Kode Pembayaran IP | G12: Nama Pembayaran IP
A13: 28-409-13 | B13: Jasa Konstruksi Berupa Jasa Pengawasan Konstruksi (Dengan Kualifikasi Usaha) | C13: 4 | F13: N/A | G13: -
A14: 24-104-06 | B14: Jasa Akuntansi, Pembukuan, dan Atestasi Laporan Keuangan | C14: 2 | F14: Imprest | G14: Uang Persediaan
A15: 28-409-14 | B15: Jasa Konstruksi Berupa Jasa Pengawasan Konstruksi (Tanpa Kualifikasi Usaha) | C15: 6 | F15: Direct | G15: Pembayaran Langsung
A16: 28-417-01 | B16: Bunga Simpanan yang Dibayarkan oleh Koperasi kepada Anggota Wajib Pajak Orang Pribadi (bunga sampai dengan Rp240.000,00) | C16: 0
A17: 28-417-02 | B17: Bunga Simpanan yang Dibayarkan oleh Koperasi kepada Anggota Wajib Pajak Orang Pribadi (bunga di atas Rp240.000,00) | C17: 10
A18: 28-419-01 | B18: Dividen yang Diterima/Diperoleh Wajib Pajak Orang Pribadi Dalam Negeri | C18: 10 | F18: Kode Dokumen | G18: Nama Dokumen Referensi
A19: 28-423-01 | B19: Pemotongan atau pemungutan PPh atas penjualan barang atau penyerahan jasa yang dilakukan oleh Wajib Pajak dengan peredaran bruto tertentu sesuai dengan Peraturan Pemerintah Nomor 23 Tahun 2018 atau Peraturan Pemerintah Nomor 55 Tahun 2022. | C19: 0.5 | F19: Announcement | G19: Pengumuman
A20: 28-423-02 | B20: Pemotongan atau pemungutan PPh atas transaksi pembelian yang dilakukan oleh Wajib Pajak dengan peredaran bruto tertentu sesuai dengan Peraturan Pemerintah Nomor 55 Tahun 2022. | C20: 0 | F20: CommercialInvoice | G20: Surat Tagihan
A21: 28-410-02 | B21: Imbalan yang Dibayarkan/Terutang kepada Perusahaan Pelayaran Dalam Negeri | C21: 1.2 | F21: Contract | G21: Kontrak
A22: 28-411-02 | B22: Imbalan Charter Kapal Laut dan/atau Pesawat Udara yang Dibayarkan/ Terutang kepada Perusahaan Pelayaran dan/atau Penerbangan Luar Negeri melalui BUT di Indonesia | C22: 2.64 | F22: CurrentAccount | G22: Jasa Giro
A23: 29-101-01 | B23: Imbalan Charter Pesawat Udara yang Dibayarkan/Terutang kepada Perusahaan Penerbangan Dalam Negeri oleh Pemotong Pajak | C23: 1.8 | F23: Decree | G23: Decree
A24: 28-421-01 | B24: Uplift Hulu Migas | C24: 20 | F24: DeedOfEngagement | G24: Akta Perjanjian
A25: 24-104-07 | B25: Jasa Hukum | C25: 2 | F25: DeedOfGeneral | G25: Akta RUPS
A26: 28-421-02 | B26: Participating Interest Eksplorasi Hulu Migas | C26: 5 | F26: Other | G26: Lainnya
A27: 28-421-03 | B27: Participating Interest Eksploitasi Hulu Migas | C27: 7 | F27: OtherFacilityDoc | G27: Dokumen Fasilitas Lainnya
A28: 22-900-01 | B28: Pembayaran atas Pembelian Barang dan/atau Bahan untuk Kegiatan Usahanya oleh BUMN/Badan Usaha Tertentu | C28: 1.5 | F28: PaymentProof | G28: Bukti Pembayaran
A29: 22-100-07 | B29: Penjualan Hasil Produksi Kepada Distributor di Dalam Negeri oleh Badan Usaha/Industri Tertentu (Industri Semen) | C29: 0.25 | F29: StatementLetter | G29: Surat Pernyataan
... A32: 22-100-09 | B32: Penjualan Hasil Produksi Kepada Distributor di Dalam Negeri oleh Badan Usaha/Industri Tertentu (Industri Otomotif) | C32: 0.45 | F32: TradeConfirmation | G32: Trade Confirmation
A33: 22-100-10 | B33: Penjualan Hasil Produksi Kepada Distributor di Dalam Negeri oleh Badan Usaha/Industri Tertentu (Industri Farmasi) | C33: 0.3
A34: 22-100-11 | B34: Penjualan Hasil Produksi Kepada Distributor di Dalam Negeri oleh Badan Usaha/Industri Tertentu (industri Kertas) | C34: 0.1
A35: 22-100-12 | B35: Penjualan Kendaraan Bermotor di Dalam Negeri oleh ATPM, APM dan Importir Umum Kendaraan Bermotor | C35: 0.45
A36: 22-100-13 | B36: Pembelian oleh Badan Usaha Berupa Komoditas Tambang Batubara, Mineral Logam dan Mineral Bukan Logam dari Badan atau Orang Pribadi Pemegang IUP | C36: 1.5
A37: 22-100-14 | B37: Penjualan Emas Batangan di Dalam Negeri oleh Badan Usaha | C37: 0.45
A38: 22-100-15 | B38: Pembelian Bahan Hasil Kehutanan yang Belum Melalui Proses Industri Manufaktur, untuk Keperluan Industrinya/Ekspornya oleh Badan Usaha Industri/Eksportir | C38: 0.25
A39: 22-100-16 | B39: Pembelian Bahan Hasil Perkebunan yang Belum Melalui Proses Industri Manufaktur, untuk Keperluan Industrinya/Ekspornya Oleh Badan Usaha Industri/Eksportir | C39: 0.25
A40: 22-100-17 | B40: Pembelian Bahan Hasil Pertanian yang Belum Melalui Proses Industri Manufaktur, untuk Keperluan Industrinya/Ekspornya Oleh Badan Usaha Industri/Eksportir | C40: 0.25
A41: 22-100-18 | B41: Pembelian Bahan Hasil Peternakan yang Belum Melalui Proses Industri Manufaktur, untuk Keperluan Industrinya/Ekspornya Oleh Badan Usaha Industri/Eksportir | C41: 0.25
A42: 24-104-09 | B42: Jasa Perencanaan Kota dan Arsitektur Landscape; | C42: 2
...
